BEGIN:VCALENDAR
VERSION:2.0
PRODID:-//St. James&#039; Episcopal Church - ECPv6.15.20//NONSGML v1.0//EN
CALSCALE:GREGORIAN
METHOD:PUBLISH
X-WR-CALNAME:St. James&#039; Episcopal Church
X-ORIGINAL-URL:https://stjameshydepark.org
X-WR-CALDESC:Events for St. James&#039; Episcopal Church
REFRESH-INTERVAL;VALUE=DURATION:PT1H
X-Robots-Tag:noindex
X-PUBLISHED-TTL:PT1H
BEGIN:VTIMEZONE
TZID:America/New_York
BEGIN:DAYLIGHT
TZOFFSETFROM:-0500
TZOFFSETTO:-0400
TZNAME:EDT
DTSTART:20240310T070000
END:DAYLIGHT
BEGIN:STANDARD
TZOFFSETFROM:-0400
TZOFFSETTO:-0500
TZNAME:EST
DTSTART:20241103T060000
END:STANDARD
BEGIN:DAYLIGHT
TZOFFSETFROM:-0500
TZOFFSETTO:-0400
TZNAME:EDT
DTSTART:20250309T070000
END:DAYLIGHT
BEGIN:STANDARD
TZOFFSETFROM:-0400
TZOFFSETTO:-0500
TZNAME:EST
DTSTART:20251102T060000
END:STANDARD
BEGIN:DAYLIGHT
TZOFFSETFROM:-0500
TZOFFSETTO:-0400
TZNAME:EDT
DTSTART:20260308T070000
END:DAYLIGHT
BEGIN:STANDARD
TZOFFSETFROM:-0400
TZOFFSETTO:-0500
TZNAME:EST
DTSTART:20261101T060000
END:STANDARD
END:VTIMEZONE
BEGIN:VEVENT
DTSTART;TZID=America/New_York:20251020T133000
DTEND;TZID=America/New_York:20251020T153000
DTSTAMP:20260424T044606
CREATED:20241110T012408Z
LAST-MODIFIED:20250708T131754Z
UID:10006883-1760967000-1760974200@stjameshydepark.org
SUMMARY:Knit+Craft+Chat (Wilks Room)
DESCRIPTION:A community of crafters and conversationalists meets Mondays from 2-4 pm (drop-in) at St. James’ Episcopal Church in the Wilks Room of our Parish House. We are a friendly group: knitters\, embroiderers\, crocheters\, conversationalists and miscellaneous other activities. All are welcome; no previous skill is required.
URL:https://stjameshydepark.org/event/knit-craft-chat-2/2025-10-20/
LOCATION:St. James’ Episcopal Church\, 4526 Albany Post Rd.\, Hyde Park\, NY\, 12538\, United States
END:VEVENT
BEGIN:VEVENT
DTSTART;TZID=America/New_York:20251020T180000
DTEND;TZID=America/New_York:20251020T200000
DTSTAMP:20260424T044606
CREATED:20251014T130055Z
LAST-MODIFIED:20251014T130055Z
UID:10007017-1760983200-1760990400@stjameshydepark.org
SUMMARY:Men's Group Dinner (Antonella's)
DESCRIPTION:
URL:https://stjameshydepark.org/event/mens-group-dinner-antonellas-2/
LOCATION:Antonella’s Restaurant\, Hyde Park\, NY\, 4246 Albany Post Rd #1700\, Hyde Park\, NY\, 12538\, United States
END:VEVENT
BEGIN:VEVENT
DTSTART;TZID=America/New_York:20251020T183000
DTEND;TZID=America/New_York:20251020T213000
DTSTAMP:20260424T044606
CREATED:20250919T172702Z
LAST-MODIFIED:20250919T172702Z
UID:10006999-1760985000-1760995800@stjameshydepark.org
SUMMARY:[New Deal] Joy! Audition (Parish Hall)
DESCRIPTION:
URL:https://stjameshydepark.org/event/new-deal-joy-audition-parish-hall/
LOCATION:St. James’ Episcopal Church\, 4526 Albany Post Rd.\, Hyde Park\, NY\, 12538\, United States
END:VEVENT
BEGIN:VEVENT
DTSTART;TZID=America/New_York:20251021T190000
DTEND;TZID=America/New_York:20251021T203000
DTSTAMP:20260424T044606
CREATED:20250107T190949Z
LAST-MODIFIED:20250107T190949Z
UID:10006029-1761073200-1761078600@stjameshydepark.org
SUMMARY:Boy Scout Troop 80 (Parish Hall)
DESCRIPTION:
URL:https://stjameshydepark.org/event/boy-scout-troop-80-parish-hall/2025-10-21/
LOCATION:St. James’ Episcopal Church\, 4526 Albany Post Rd.\, Hyde Park\, NY\, 12538\, United States
END:VEVENT
BEGIN:VEVENT
DTSTART;TZID=America/New_York:20251022T110000
DTEND;TZID=America/New_York:20251022T121500
DTSTAMP:20260424T044606
CREATED:20241120T172057Z
LAST-MODIFIED:20250424T151851Z
UID:10006361-1761130800-1761135300@stjameshydepark.org
SUMMARY:Bible Study (Online)
DESCRIPTION:Our weekly Bible study on Zoom usually focuses on the Gospel for the upcoming Sunday and is led by Mtr. Meredith. We practice a contemplative\, prayerful style of Bible study that focuses on how God is speaking to us through our questions\, responses\, curiosities and doubts as we engage Scripture.  \nThe study is followed by a brief\, optional service of noonday prayer. \nJoin in any Wednesday at 11 am. No previous preparation is required. The Zoom link is distributed via our weekly email newsletter (or contact the parish office).
URL:https://stjameshydepark.org/event/bible-study-2025/2025-10-22/
LOCATION:Online
CATEGORIES:Christian Formation
END:VEVENT
BEGIN:VEVENT
DTSTART;TZID=America/New_York:20251022T180000
DTEND;TZID=America/New_York:20251022T190000
DTSTAMP:20260424T044606
CREATED:20250702T124213Z
LAST-MODIFIED:20251107T181059Z
UID:10006831-1761156000-1761159600@stjameshydepark.org
SUMMARY:Interviews for Legacy Project (Reading Room)
DESCRIPTION:
URL:https://stjameshydepark.org/event/interviews-for-legacy-project-reading-room/2025-10-22/
LOCATION:St. James’ Chapel\, 10 East Market Street\, Hyde Park\, NY\, 12567\, United States
END:VEVENT
BEGIN:VEVENT
DTSTART;TZID=America/New_York:20251022T183000
DTEND;TZID=America/New_York:20251022T190000
DTSTAMP:20260424T044606
CREATED:20241219T190934Z
LAST-MODIFIED:20241219T190934Z
UID:10004356-1761157800-1761159600@stjameshydepark.org
SUMMARY:Evening Prayer (Online)
DESCRIPTION:Join us online every Wednesday at 6:30 pm for a brief service of Evening Prayer led by Deacon Gail. Please email the parish office at stjames.hydepark@gmail.com to request the Zoom link.
URL:https://stjameshydepark.org/event/evening-prayer-2025/2025-10-22/
LOCATION:Online
CATEGORIES:Worship
END:VEVENT
BEGIN:VEVENT
DTSTART;TZID=America/New_York:20251022T190000
DTEND;TZID=America/New_York:20251022T210000
DTSTAMP:20260424T044606
CREATED:20250110T161004Z
LAST-MODIFIED:20251106T213047Z
UID:10006245-1761159600-1761166800@stjameshydepark.org
SUMMARY:Vestry Meeting (Wilks Room)
DESCRIPTION:The Vestry meets on the 4th Wednesday of the month at 7 pm in the Wilks Room (exceptions noted). 2025 meeting dates are:  \nJanuary 22 \nSunday\, January 26—Annual Meeting (following 9 am worship) \nFebruary 26 \nMarch 26 \nApril 30th (5th Wednesday) \nMay 28 \nJune 25 \nJuly 23 \nNo meeting in August \nSeptember 24 \nOctober 22 \nNovember 19 \nDecember 17th (3rd Wednesday) \nJanuary 21\, 2026 (3rd Wednesday) \nJanuary 26\, 2026—Annual Meeting
URL:https://stjameshydepark.org/event/vestry-meetings-2025/2025-10-22/
LOCATION:St. James’ Episcopal Church\, 4526 Albany Post Rd.\, Hyde Park\, NY\, 12538\, United States
CATEGORIES:Governance
END:VEVENT
BEGIN:VEVENT
DTSTART;TZID=America/New_York:20251024T183000
DTEND;TZID=America/New_York:20251024T210000
DTSTAMP:20260424T044606
CREATED:20250725T140518Z
LAST-MODIFIED:20250725T141130Z
UID:10006906-1761330600-1761339600@stjameshydepark.org
SUMMARY:Graveyard Tours
DESCRIPTION:
URL:https://stjameshydepark.org/event/graveyard-tours-dress-and-tech-rehearsal/2025-10-24/
LOCATION:St. James’ Episcopal Church\, 4526 Albany Post Rd.\, Hyde Park\, NY\, 12538\, United States
END:VEVENT
BEGIN:VEVENT
DTSTART;VALUE=DATE:20251025
DTEND;VALUE=DATE:20251026
DTSTAMP:20260424T044606
CREATED:20251007T132217Z
LAST-MODIFIED:20251007T132217Z
UID:10007010-1761350400-1761436799@stjameshydepark.org
SUMMARY:Set up for Bishop's Visit (Parish Hall)
DESCRIPTION:
URL:https://stjameshydepark.org/event/set-up-for-bishops-visit-parish-hall/
LOCATION:St. James’ Episcopal Church\, 4526 Albany Post Rd.\, Hyde Park\, NY\, 12538\, United States
END:VEVENT
BEGIN:VEVENT
DTSTART;TZID=America/New_York:20251025T183000
DTEND;TZID=America/New_York:20251025T190000
DTSTAMP:20260424T044606
CREATED:20241219T191054Z
LAST-MODIFIED:20241219T191054Z
UID:10004409-1761417000-1761418800@stjameshydepark.org
SUMMARY:Compline (Online)
DESCRIPTION:Join us online every Saturday at 6:30 pm for a brief service of Compline (Night Prayer) facilitated by Deacon Gail. Please email the parish office at stjames.hydepark@gmail.com to request the Zoom link.
URL:https://stjameshydepark.org/event/compline-2025/2025-10-25/
LOCATION:Online
CATEGORIES:Worship
END:VEVENT
BEGIN:VEVENT
DTSTART;TZID=America/New_York:20251025T183000
DTEND;TZID=America/New_York:20251025T210000
DTSTAMP:20260424T044606
CREATED:20250725T140518Z
LAST-MODIFIED:20250725T141130Z
UID:10006907-1761417000-1761426000@stjameshydepark.org
SUMMARY:Graveyard Tours
DESCRIPTION:
URL:https://stjameshydepark.org/event/graveyard-tours-dress-and-tech-rehearsal/2025-10-25/
LOCATION:St. James’ Episcopal Church\, 4526 Albany Post Rd.\, Hyde Park\, NY\, 12538\, United States
END:VEVENT
BEGIN:VEVENT
DTSTART;TZID=America/New_York:20251026T100000
DTEND;TZID=America/New_York:20251026T113000
DTSTAMP:20260424T044606
CREATED:20251022T182657Z
LAST-MODIFIED:20251022T183128Z
UID:10004521-1761472800-1761478200@stjameshydepark.org
SUMMARY:10 am Sunday Worship: Bishop's Visitation with Baptisms\, Confirmations & Receptions\, and Installation of our Eighteenth Rector. Festive Coffee Hour follows. No 8 am service or Sunday School today!
DESCRIPTION:This weekend\, we welcome the Bishop of New York\, the Right Reverend Matthew Heyd. \nThere is one service only—at 10 am—on Sunday\, October 26th. There is no Sunday School and no 8 am service on this day. \nBishop Matt will baptize and confirm members of St. James’\, receive new members\, formally install Mother Meredith as our 18th rector\, and preach and celebrate Eucharist. A festive reception will follow.
URL:https://stjameshydepark.org/event/bishops-visitation-2025/
LOCATION:St. James’ Episcopal Church\, 4526 Albany Post Rd.\, Hyde Park\, NY\, 12538\, United States
CATEGORIES:Worship
ATTACH;FMTTYPE=image/jpeg:https://stjameshydepark.org/wp-content/uploads/2025/10/bishop-matthew-heyd.jpg
END:VEVENT
BEGIN:VEVENT
DTSTART;TZID=America/New_York:20251026T183000
DTEND;TZID=America/New_York:20251026T210000
DTSTAMP:20260424T044606
CREATED:20250107T185818Z
LAST-MODIFIED:20250107T190058Z
UID:10005987-1761503400-1761512400@stjameshydepark.org
SUMMARY:Hyde Park Group AA (Parish Hall\, Rm. 201)
DESCRIPTION:
URL:https://stjameshydepark.org/event/hyde-park-group-aa-parish-hall-rm-201/2025-10-26/
LOCATION:St. James’ Episcopal Church\, 4526 Albany Post Rd.\, Hyde Park\, NY\, 12538\, United States
END:VEVENT
BEGIN:VEVENT
DTSTART;VALUE=DATE:20251027
DTEND;VALUE=DATE:20251028
DTSTAMP:20260424T044606
CREATED:20251017T131157Z
LAST-MODIFIED:20251021T135711Z
UID:10007033-1761523200-1761609599@stjameshydepark.org
SUMMARY:Rainbow Oil Boiler Cleanings (Rectory\, Parish House\, Chapel)
DESCRIPTION:
URL:https://stjameshydepark.org/event/boiler-cleanings-rectory-parish-house-chapel/
LOCATION:St. James’ Episcopal Church\, 4526 Albany Post Rd.\, Hyde Park\, NY\, 12538\, United States
END:VEVENT
BEGIN:VEVENT
DTSTART;TZID=America/New_York:20251027T133000
DTEND;TZID=America/New_York:20251027T153000
DTSTAMP:20260424T044606
CREATED:20241110T012408Z
LAST-MODIFIED:20250708T131754Z
UID:10006884-1761571800-1761579000@stjameshydepark.org
SUMMARY:Knit+Craft+Chat (Wilks Room)
DESCRIPTION:A community of crafters and conversationalists meets Mondays from 2-4 pm (drop-in) at St. James’ Episcopal Church in the Wilks Room of our Parish House. We are a friendly group: knitters\, embroiderers\, crocheters\, conversationalists and miscellaneous other activities. All are welcome; no previous skill is required.
URL:https://stjameshydepark.org/event/knit-craft-chat-2/2025-10-27/
LOCATION:St. James’ Episcopal Church\, 4526 Albany Post Rd.\, Hyde Park\, NY\, 12538\, United States
END:VEVENT
BEGIN:VEVENT
DTSTART;TZID=America/New_York:20251028T190000
DTEND;TZID=America/New_York:20251028T203000
DTSTAMP:20260424T044606
CREATED:20250107T190949Z
LAST-MODIFIED:20250107T190949Z
UID:10006030-1761678000-1761683400@stjameshydepark.org
SUMMARY:Boy Scout Troop 80 (Parish Hall)
DESCRIPTION:
URL:https://stjameshydepark.org/event/boy-scout-troop-80-parish-hall/2025-10-28/
LOCATION:St. James’ Episcopal Church\, 4526 Albany Post Rd.\, Hyde Park\, NY\, 12538\, United States
END:VEVENT
BEGIN:VEVENT
DTSTART;VALUE=DATE:20251029
DTEND;VALUE=DATE:20251030
DTSTAMP:20260424T044606
CREATED:20251021T135550Z
LAST-MODIFIED:20251021T135550Z
UID:10007034-1761696000-1761782399@stjameshydepark.org
SUMMARY:Sigma Tremblay HVAC Cleaning (Church Sacristy + Basement)
DESCRIPTION:
URL:https://stjameshydepark.org/event/sigma-tremblay-hvac-cleaning-church-sacristy-basement/
LOCATION:HP Farmers Market
END:VEVENT
BEGIN:VEVENT
DTSTART;TZID=America/New_York:20251029T110000
DTEND;TZID=America/New_York:20251029T121500
DTSTAMP:20260424T044606
CREATED:20241120T172057Z
LAST-MODIFIED:20250424T151851Z
UID:10006362-1761735600-1761740100@stjameshydepark.org
SUMMARY:Bible Study (Online)
DESCRIPTION:Our weekly Bible study on Zoom usually focuses on the Gospel for the upcoming Sunday and is led by Mtr. Meredith. We practice a contemplative\, prayerful style of Bible study that focuses on how God is speaking to us through our questions\, responses\, curiosities and doubts as we engage Scripture.  \nThe study is followed by a brief\, optional service of noonday prayer. \nJoin in any Wednesday at 11 am. No previous preparation is required. The Zoom link is distributed via our weekly email newsletter (or contact the parish office).
URL:https://stjameshydepark.org/event/bible-study-2025/2025-10-29/
LOCATION:Online
CATEGORIES:Christian Formation
END:VEVENT
BEGIN:VEVENT
DTSTART;TZID=America/New_York:20251029T183000
DTEND;TZID=America/New_York:20251029T190000
DTSTAMP:20260424T044606
CREATED:20241219T190934Z
LAST-MODIFIED:20241219T190934Z
UID:10004357-1761762600-1761764400@stjameshydepark.org
SUMMARY:Evening Prayer (Online)
DESCRIPTION:Join us online every Wednesday at 6:30 pm for a brief service of Evening Prayer led by Deacon Gail. Please email the parish office at stjames.hydepark@gmail.com to request the Zoom link.
URL:https://stjameshydepark.org/event/evening-prayer-2025/2025-10-29/
LOCATION:Online
CATEGORIES:Worship
END:VEVENT
BEGIN:VEVENT
DTSTART;TZID=America/New_York:20251101T183000
DTEND;TZID=America/New_York:20251101T190000
DTSTAMP:20260424T044606
CREATED:20241219T191054Z
LAST-MODIFIED:20241219T191054Z
UID:10004410-1762021800-1762023600@stjameshydepark.org
SUMMARY:Compline (Online)
DESCRIPTION:Join us online every Saturday at 6:30 pm for a brief service of Compline (Night Prayer) facilitated by Deacon Gail. Please email the parish office at stjames.hydepark@gmail.com to request the Zoom link.
URL:https://stjameshydepark.org/event/compline-2025/2025-11-01/
LOCATION:Online
CATEGORIES:Worship
END:VEVENT
BEGIN:VEVENT
DTSTART;TZID=America/New_York:20251102T080000
DTEND;TZID=America/New_York:20251102T090000
DTSTAMP:20260424T044606
CREATED:20241219T191649Z
LAST-MODIFIED:20250325T172434Z
UID:10004574-1762070400-1762074000@stjameshydepark.org
SUMMARY:Sunday Worship—Holy Eucharist\, Rite I
DESCRIPTION:Join us Sundays at 8:00 a.m. for a celebration of Holy Eucharist (Communion). This is a quiet service\, usually without music\, though we often have a soloist with acoustic guitar playing before and after the service. The service uses Rite 1 from the 1979 Book of Common Prayer\, with traditional language.
URL:https://stjameshydepark.org/event/sunday-8am-2025/2025-11-02/
LOCATION:St. James’ Episcopal Church\, 4526 Albany Post Rd.\, Hyde Park\, NY\, 12538\, United States
CATEGORIES:Worship
END:VEVENT
BEGIN:VEVENT
DTSTART;TZID=America/New_York:20251102T100000
DTEND;TZID=America/New_York:20251102T113000
DTSTAMP:20260424T044606
CREATED:20241219T191432Z
LAST-MODIFIED:20251209T135212Z
UID:10004522-1762077600-1762083000@stjameshydepark.org
SUMMARY:Sunday Worship—Holy Eucharist\, Rite II with Sunday School and Coffee Hour
DESCRIPTION:Join us Sundays at 10:00 a.m. for a celebration of Holy Eucharist (Communion). This service has music (usually organ and choir\, along with special guest musicians) and uses a variety of prayers and language from traditional to inclusive and expansive\, drawing from Rite II of the 1979 Book of Common Prayer\, Enriching Our Worship\, and other sources. \nCoffee hour in the Parish House usually follows this service. \nSunday School for kindergarten and up meets today on the second floor of the Parish House at 10:00 a.m. Students will rejoin the congregation just before Holy Communion. New to St. James’ Church? Your kids are welcome to Sunday School any Sunday. More details about St. James’ Sunday School at: https://stjameshydepark.org/for-children/
URL:https://stjameshydepark.org/event/sunday-10am-2025/2025-11-02/
LOCATION:St. James’ Episcopal Church\, 4526 Albany Post Rd.\, Hyde Park\, NY\, 12538\, United States
CATEGORIES:Worship
END:VEVENT
BEGIN:VEVENT
DTSTART;TZID=America/New_York:20251102T100000
DTEND;TZID=America/New_York:20251102T140000
DTSTAMP:20260424T044606
CREATED:20251104T151409Z
LAST-MODIFIED:20251209T150151Z
UID:10007080-1762077600-1762092000@stjameshydepark.org
SUMMARY:Fresh Manna Church (Chapel and Reading Room)
DESCRIPTION:
URL:https://stjameshydepark.org/event/fresh-manna-church-chapel-and-reading-room/2025-11-02/
LOCATION:St. James’ Chapel\, 10 East Market Street\, Hyde Park\, NY\, 12567\, United States
END:VEVENT
BEGIN:VEVENT
DTSTART;TZID=America/New_York:20251102T114500
DTEND;TZID=America/New_York:20251102T140000
DTSTAMP:20260424T044606
CREATED:20251007T141147Z
LAST-MODIFIED:20251023T202048Z
UID:10007011-1762083900-1762092000@stjameshydepark.org
SUMMARY:Blessing of the Garden and Potluck (H.P. Community Garden)
DESCRIPTION:
URL:https://stjameshydepark.org/event/blessing-of-the-garden-and-potluck-h-p-community-garden/
LOCATION:St. James’ Episcopal Church\, 4526 Albany Post Rd.\, Hyde Park\, NY\, 12538\, United States
END:VEVENT
BEGIN:VEVENT
DTSTART;TZID=America/New_York:20251102T140000
DTEND;TZID=America/New_York:20251102T170000
DTSTAMP:20260424T044606
CREATED:20251014T143151Z
LAST-MODIFIED:20251014T143151Z
UID:10007019-1762092000-1762102800@stjameshydepark.org
SUMMARY:[New Deal] Rehearsals (Parish Hall)
DESCRIPTION:
URL:https://stjameshydepark.org/event/new-deal-rehearsals-parish-hall-2/2025-11-02/
LOCATION:St. James’ Episcopal Church\, 4526 Albany Post Rd.\, Hyde Park\, NY\, 12538\, United States
END:VEVENT
BEGIN:VEVENT
DTSTART;TZID=America/New_York:20251102T183000
DTEND;TZID=America/New_York:20251102T210000
DTSTAMP:20260424T044606
CREATED:20250107T185818Z
LAST-MODIFIED:20250107T190058Z
UID:10005988-1762108200-1762117200@stjameshydepark.org
SUMMARY:Hyde Park Group AA (Parish Hall\, Rm. 201)
DESCRIPTION:
URL:https://stjameshydepark.org/event/hyde-park-group-aa-parish-hall-rm-201/2025-11-02/
LOCATION:St. James’ Episcopal Church\, 4526 Albany Post Rd.\, Hyde Park\, NY\, 12538\, United States
END:VEVENT
BEGIN:VEVENT
DTSTART;TZID=America/New_York:20251103T133000
DTEND;TZID=America/New_York:20251103T153000
DTSTAMP:20260424T044606
CREATED:20241110T012408Z
LAST-MODIFIED:20250708T131754Z
UID:10006885-1762176600-1762183800@stjameshydepark.org
SUMMARY:Knit+Craft+Chat (Wilks Room)
DESCRIPTION:A community of crafters and conversationalists meets Mondays from 2-4 pm (drop-in) at St. James’ Episcopal Church in the Wilks Room of our Parish House. We are a friendly group: knitters\, embroiderers\, crocheters\, conversationalists and miscellaneous other activities. All are welcome; no previous skill is required.
URL:https://stjameshydepark.org/event/knit-craft-chat-2/2025-11-03/
LOCATION:St. James’ Episcopal Church\, 4526 Albany Post Rd.\, Hyde Park\, NY\, 12538\, United States
END:VEVENT
BEGIN:VEVENT
DTSTART;TZID=America/New_York:20251103T170000
DTEND;TZID=America/New_York:20251103T200000
DTSTAMP:20260424T044606
CREATED:20251014T143151Z
LAST-MODIFIED:20251014T143151Z
UID:10007020-1762189200-1762200000@stjameshydepark.org
SUMMARY:[New Deal] Rehearsals (Parish Hall)
DESCRIPTION:
URL:https://stjameshydepark.org/event/new-deal-rehearsals-parish-hall-2/2025-11-03/
LOCATION:St. James’ Episcopal Church\, 4526 Albany Post Rd.\, Hyde Park\, NY\, 12538\, United States
END:VEVENT
BEGIN:VEVENT
DTSTART;TZID=America/New_York:20251104T183000
DTEND;TZID=America/New_York:20251104T193000
DTSTAMP:20260424T044606
CREATED:20251023T142548Z
LAST-MODIFIED:20251028T160644Z
UID:10007067-1762281000-1762284600@stjameshydepark.org
SUMMARY:Nursery School Meeting (Nursery School Classroom)
DESCRIPTION:
URL:https://stjameshydepark.org/event/nursery-school-meeting-wilks-room-2/
LOCATION:St. James’ Episcopal Church\, 4526 Albany Post Rd.\, Hyde Park\, NY\, 12538\, United States
END:VEVENT
END:VCALENDAR