BEGIN:VCALENDAR
VERSION:2.0
PRODID:-//St. James&#039; Episcopal Church - ECPv6.15.20//NONSGML v1.0//EN
CALSCALE:GREGORIAN
METHOD:PUBLISH
X-WR-CALNAME:St. James&#039; Episcopal Church
X-ORIGINAL-URL:https://stjameshydepark.org
X-WR-CALDESC:Events for St. James&#039; Episcopal Church
REFRESH-INTERVAL;VALUE=DURATION:PT1H
X-Robots-Tag:noindex
X-PUBLISHED-TTL:PT1H
BEGIN:VTIMEZONE
TZID:America/New_York
BEGIN:DAYLIGHT
TZOFFSETFROM:-0500
TZOFFSETTO:-0400
TZNAME:EDT
DTSTART:20240310T070000
END:DAYLIGHT
BEGIN:STANDARD
TZOFFSETFROM:-0400
TZOFFSETTO:-0500
TZNAME:EST
DTSTART:20241103T060000
END:STANDARD
BEGIN:DAYLIGHT
TZOFFSETFROM:-0500
TZOFFSETTO:-0400
TZNAME:EDT
DTSTART:20250309T070000
END:DAYLIGHT
BEGIN:STANDARD
TZOFFSETFROM:-0400
TZOFFSETTO:-0500
TZNAME:EST
DTSTART:20251102T060000
END:STANDARD
BEGIN:DAYLIGHT
TZOFFSETFROM:-0500
TZOFFSETTO:-0400
TZNAME:EDT
DTSTART:20260308T070000
END:DAYLIGHT
BEGIN:STANDARD
TZOFFSETFROM:-0400
TZOFFSETTO:-0500
TZNAME:EST
DTSTART:20261101T060000
END:STANDARD
END:VTIMEZONE
BEGIN:VEVENT
DTSTART;TZID=America/New_York:20250702T110000
DTEND;TZID=America/New_York:20250702T121500
DTSTAMP:20260424T073031
CREATED:20241120T172057Z
LAST-MODIFIED:20250424T151851Z
UID:10006345-1751454000-1751458500@stjameshydepark.org
SUMMARY:Bible Study (Online)
DESCRIPTION:Our weekly Bible study on Zoom usually focuses on the Gospel for the upcoming Sunday and is led by Mtr. Meredith. We practice a contemplative\, prayerful style of Bible study that focuses on how God is speaking to us through our questions\, responses\, curiosities and doubts as we engage Scripture.  \nThe study is followed by a brief\, optional service of noonday prayer. \nJoin in any Wednesday at 11 am. No previous preparation is required. The Zoom link is distributed via our weekly email newsletter (or contact the parish office).
URL:https://stjameshydepark.org/event/bible-study-2025/2025-07-02/
LOCATION:Online
CATEGORIES:Christian Formation
END:VEVENT
BEGIN:VEVENT
DTSTART;TZID=America/New_York:20250702T183000
DTEND;TZID=America/New_York:20250702T190000
DTSTAMP:20260424T073031
CREATED:20241219T190934Z
LAST-MODIFIED:20241219T190934Z
UID:10004340-1751481000-1751482800@stjameshydepark.org
SUMMARY:Evening Prayer (Online)
DESCRIPTION:Join us online every Wednesday at 6:30 pm for a brief service of Evening Prayer led by Deacon Gail. Please email the parish office at stjames.hydepark@gmail.com to request the Zoom link.
URL:https://stjameshydepark.org/event/evening-prayer-2025/2025-07-02/
LOCATION:Online
CATEGORIES:Worship
END:VEVENT
BEGIN:VEVENT
DTSTART;TZID=America/New_York:20250703T183000
DTEND;TZID=America/New_York:20250703T203000
DTSTAMP:20260424T073031
CREATED:20250613T150456Z
LAST-MODIFIED:20250613T150550Z
UID:10006601-1751567400-1751574600@stjameshydepark.org
SUMMARY:Summer Hangs @ St. James'
DESCRIPTION:On Thursday evenings from about 6:30 pm\, starting on June 26th\, come by to hang out on the church front lawn—no agenda\, just good company. \nYou might bring a chair or blanket\, a game\, or snack or drink to share. You could bring a book or a craft! The church will be open for prayer and air-conditioning (and the restroom).
URL:https://stjameshydepark.org/event/summer-hangs-2025/2025-07-03/
LOCATION:St. James’ Episcopal Church\, 4526 Albany Post Rd.\, Hyde Park\, NY\, 12538\, United States
CATEGORIES:Fun
ATTACH;FMTTYPE=image/png:https://stjameshydepark.org/wp-content/uploads/2025/06/Summer-Hangs.png
END:VEVENT
BEGIN:VEVENT
DTSTART;TZID=America/New_York:20250704T170000
DTEND;TZID=America/New_York:20250704T190000
DTSTAMP:20260424T073031
CREATED:20250701T125644Z
LAST-MODIFIED:20250701T125644Z
UID:10006816-1751648400-1751655600@stjameshydepark.org
SUMMARY:Adult Sewing Class (Parish Hall)
DESCRIPTION:
URL:https://stjameshydepark.org/event/adult-sewing-class-parish-hall/2025-07-04/
LOCATION:HP Farmers Market
END:VEVENT
BEGIN:VEVENT
DTSTART;TZID=America/New_York:20250705T183000
DTEND;TZID=America/New_York:20250705T190000
DTSTAMP:20260424T073031
CREATED:20241219T191054Z
LAST-MODIFIED:20241219T191054Z
UID:10004393-1751740200-1751742000@stjameshydepark.org
SUMMARY:Compline (Online)
DESCRIPTION:Join us online every Saturday at 6:30 pm for a brief service of Compline (Night Prayer) facilitated by Deacon Gail. Please email the parish office at stjames.hydepark@gmail.com to request the Zoom link.
URL:https://stjameshydepark.org/event/compline-2025/2025-07-05/
LOCATION:Online
CATEGORIES:Worship
END:VEVENT
BEGIN:VEVENT
DTSTART;TZID=America/New_York:20250706T080000
DTEND;TZID=America/New_York:20250706T090000
DTSTAMP:20260424T073031
CREATED:20241219T191649Z
LAST-MODIFIED:20250325T172434Z
UID:10004557-1751788800-1751792400@stjameshydepark.org
SUMMARY:Sunday Worship—Holy Eucharist\, Rite I
DESCRIPTION:Join us Sundays at 8:00 a.m. for a celebration of Holy Eucharist (Communion). This is a quiet service\, usually without music\, though we often have a soloist with acoustic guitar playing before and after the service. The service uses Rite 1 from the 1979 Book of Common Prayer\, with traditional language.
URL:https://stjameshydepark.org/event/sunday-8am-2025/2025-07-06/
LOCATION:St. James’ Episcopal Church\, 4526 Albany Post Rd.\, Hyde Park\, NY\, 12538\, United States
CATEGORIES:Worship
END:VEVENT
BEGIN:VEVENT
DTSTART;TZID=America/New_York:20250706T100000
DTEND;TZID=America/New_York:20250706T113000
DTSTAMP:20260424T073031
CREATED:20241219T191432Z
LAST-MODIFIED:20251209T135212Z
UID:10004505-1751796000-1751801400@stjameshydepark.org
SUMMARY:Sunday Worship—Holy Eucharist\, Rite II with Sunday School and Coffee Hour
DESCRIPTION:Join us Sundays at 10:00 a.m. for a celebration of Holy Eucharist (Communion). This service has music (usually organ and choir\, along with special guest musicians) and uses a variety of prayers and language from traditional to inclusive and expansive\, drawing from Rite II of the 1979 Book of Common Prayer\, Enriching Our Worship\, and other sources. \nCoffee hour in the Parish House usually follows this service. \nSunday School for kindergarten and up meets today on the second floor of the Parish House at 10:00 a.m. Students will rejoin the congregation just before Holy Communion. New to St. James’ Church? Your kids are welcome to Sunday School any Sunday. More details about St. James’ Sunday School at: https://stjameshydepark.org/for-children/
URL:https://stjameshydepark.org/event/sunday-10am-2025/2025-07-06/
LOCATION:St. James’ Episcopal Church\, 4526 Albany Post Rd.\, Hyde Park\, NY\, 12538\, United States
CATEGORIES:Worship
END:VEVENT
BEGIN:VEVENT
DTSTART;TZID=America/New_York:20250706T183000
DTEND;TZID=America/New_York:20250706T210000
DTSTAMP:20260424T073031
CREATED:20250107T185818Z
LAST-MODIFIED:20250107T190058Z
UID:10005971-1751826600-1751835600@stjameshydepark.org
SUMMARY:Hyde Park Group AA (Parish Hall\, Rm. 201)
DESCRIPTION:
URL:https://stjameshydepark.org/event/hyde-park-group-aa-parish-hall-rm-201/2025-07-06/
LOCATION:St. James’ Episcopal Church\, 4526 Albany Post Rd.\, Hyde Park\, NY\, 12538\, United States
END:VEVENT
BEGIN:VEVENT
DTSTART;TZID=America/New_York:20250707T083000
DTEND;TZID=America/New_York:20250707T163000
DTSTAMP:20260424T073031
CREATED:20250107T182430Z
LAST-MODIFIED:20250108T132853Z
UID:10005191-1751877000-1751905800@stjameshydepark.org
SUMMARY:[New Deal] Musical Theatre Camp (Parish Hall)
DESCRIPTION:
URL:https://stjameshydepark.org/event/new-deal-musical-theatre-camp-parish-hall/2025-07-07/
LOCATION:St. James’ Episcopal Church\, 4526 Albany Post Rd.\, Hyde Park\, NY\, 12538\, United States
CATEGORIES:New Deal
END:VEVENT
BEGIN:VEVENT
DTSTART;TZID=America/New_York:20250707T133000
DTEND;TZID=America/New_York:20250707T153000
DTSTAMP:20260424T073031
CREATED:20241110T012408Z
LAST-MODIFIED:20250708T131754Z
UID:10006868-1751895000-1751902200@stjameshydepark.org
SUMMARY:Knit+Craft+Chat (Wilks Room)
DESCRIPTION:A community of crafters and conversationalists meets Mondays from 2-4 pm (drop-in) at St. James’ Episcopal Church in the Wilks Room of our Parish House. We are a friendly group: knitters\, embroiderers\, crocheters\, conversationalists and miscellaneous other activities. All are welcome; no previous skill is required.
URL:https://stjameshydepark.org/event/knit-craft-chat-2/2025-07-07/
LOCATION:St. James’ Episcopal Church\, 4526 Albany Post Rd.\, Hyde Park\, NY\, 12538\, United States
END:VEVENT
BEGIN:VEVENT
DTSTART;TZID=America/New_York:20250708T083000
DTEND;TZID=America/New_York:20250708T163000
DTSTAMP:20260424T073031
CREATED:20250107T182430Z
LAST-MODIFIED:20250108T132853Z
UID:10005192-1751963400-1751992200@stjameshydepark.org
SUMMARY:[New Deal] Musical Theatre Camp (Parish Hall)
DESCRIPTION:
URL:https://stjameshydepark.org/event/new-deal-musical-theatre-camp-parish-hall/2025-07-08/
LOCATION:St. James’ Episcopal Church\, 4526 Albany Post Rd.\, Hyde Park\, NY\, 12538\, United States
CATEGORIES:New Deal
END:VEVENT
BEGIN:VEVENT
DTSTART;TZID=America/New_York:20250709T083000
DTEND;TZID=America/New_York:20250709T163000
DTSTAMP:20260424T073031
CREATED:20250107T182430Z
LAST-MODIFIED:20250108T132853Z
UID:10005193-1752049800-1752078600@stjameshydepark.org
SUMMARY:[New Deal] Musical Theatre Camp (Parish Hall)
DESCRIPTION:
URL:https://stjameshydepark.org/event/new-deal-musical-theatre-camp-parish-hall/2025-07-09/
LOCATION:St. James’ Episcopal Church\, 4526 Albany Post Rd.\, Hyde Park\, NY\, 12538\, United States
CATEGORIES:New Deal
END:VEVENT
BEGIN:VEVENT
DTSTART;TZID=America/New_York:20250709T110000
DTEND;TZID=America/New_York:20250709T121500
DTSTAMP:20260424T073031
CREATED:20241120T172057Z
LAST-MODIFIED:20250424T151851Z
UID:10006346-1752058800-1752063300@stjameshydepark.org
SUMMARY:Bible Study (Online)
DESCRIPTION:Our weekly Bible study on Zoom usually focuses on the Gospel for the upcoming Sunday and is led by Mtr. Meredith. We practice a contemplative\, prayerful style of Bible study that focuses on how God is speaking to us through our questions\, responses\, curiosities and doubts as we engage Scripture.  \nThe study is followed by a brief\, optional service of noonday prayer. \nJoin in any Wednesday at 11 am. No previous preparation is required. The Zoom link is distributed via our weekly email newsletter (or contact the parish office).
URL:https://stjameshydepark.org/event/bible-study-2025/2025-07-09/
LOCATION:Online
CATEGORIES:Christian Formation
END:VEVENT
BEGIN:VEVENT
DTSTART;TZID=America/New_York:20250709T183000
DTEND;TZID=America/New_York:20250709T190000
DTSTAMP:20260424T073031
CREATED:20241219T190934Z
LAST-MODIFIED:20241219T190934Z
UID:10004341-1752085800-1752087600@stjameshydepark.org
SUMMARY:Evening Prayer (Online)
DESCRIPTION:Join us online every Wednesday at 6:30 pm for a brief service of Evening Prayer led by Deacon Gail. Please email the parish office at stjames.hydepark@gmail.com to request the Zoom link.
URL:https://stjameshydepark.org/event/evening-prayer-2025/2025-07-09/
LOCATION:Online
CATEGORIES:Worship
END:VEVENT
BEGIN:VEVENT
DTSTART;TZID=America/New_York:20250710T083000
DTEND;TZID=America/New_York:20250710T163000
DTSTAMP:20260424T073031
CREATED:20250107T182430Z
LAST-MODIFIED:20250108T132853Z
UID:10005194-1752136200-1752165000@stjameshydepark.org
SUMMARY:[New Deal] Musical Theatre Camp (Parish Hall)
DESCRIPTION:
URL:https://stjameshydepark.org/event/new-deal-musical-theatre-camp-parish-hall/2025-07-10/
LOCATION:St. James’ Episcopal Church\, 4526 Albany Post Rd.\, Hyde Park\, NY\, 12538\, United States
CATEGORIES:New Deal
END:VEVENT
BEGIN:VEVENT
DTSTART;TZID=America/New_York:20250710T180000
DTEND;TZID=America/New_York:20250710T210000
DTSTAMP:20260424T073031
CREATED:20250604T125819Z
LAST-MODIFIED:20250604T125819Z
UID:10006573-1752170400-1752181200@stjameshydepark.org
SUMMARY:[New Deal] Auditions (Parish Hall)
DESCRIPTION:
URL:https://stjameshydepark.org/event/new-deal-auditions-parish-hall/2025-07-10/
LOCATION:St. James’ Episcopal Church\, 4526 Albany Post Rd.\, Hyde Park\, NY\, 12538\, United States
END:VEVENT
BEGIN:VEVENT
DTSTART;TZID=America/New_York:20250710T183000
DTEND;TZID=America/New_York:20250710T203000
DTSTAMP:20260424T073031
CREATED:20250613T150456Z
LAST-MODIFIED:20250613T150550Z
UID:10006602-1752172200-1752179400@stjameshydepark.org
SUMMARY:Summer Hangs @ St. James'
DESCRIPTION:On Thursday evenings from about 6:30 pm\, starting on June 26th\, come by to hang out on the church front lawn—no agenda\, just good company. \nYou might bring a chair or blanket\, a game\, or snack or drink to share. You could bring a book or a craft! The church will be open for prayer and air-conditioning (and the restroom).
URL:https://stjameshydepark.org/event/summer-hangs-2025/2025-07-10/
LOCATION:St. James’ Episcopal Church\, 4526 Albany Post Rd.\, Hyde Park\, NY\, 12538\, United States
CATEGORIES:Fun
ATTACH;FMTTYPE=image/png:https://stjameshydepark.org/wp-content/uploads/2025/06/Summer-Hangs.png
END:VEVENT
BEGIN:VEVENT
DTSTART;TZID=America/New_York:20250711T083000
DTEND;TZID=America/New_York:20250711T163000
DTSTAMP:20260424T073031
CREATED:20250107T182430Z
LAST-MODIFIED:20250108T132853Z
UID:10005195-1752222600-1752251400@stjameshydepark.org
SUMMARY:[New Deal] Musical Theatre Camp (Parish Hall)
DESCRIPTION:
URL:https://stjameshydepark.org/event/new-deal-musical-theatre-camp-parish-hall/2025-07-11/
LOCATION:St. James’ Episcopal Church\, 4526 Albany Post Rd.\, Hyde Park\, NY\, 12538\, United States
CATEGORIES:New Deal
END:VEVENT
BEGIN:VEVENT
DTSTART;TZID=America/New_York:20250711T170000
DTEND;TZID=America/New_York:20250711T190000
DTSTAMP:20260424T073031
CREATED:20250701T125644Z
LAST-MODIFIED:20250701T125644Z
UID:10006817-1752253200-1752260400@stjameshydepark.org
SUMMARY:Adult Sewing Class (Parish Hall)
DESCRIPTION:
URL:https://stjameshydepark.org/event/adult-sewing-class-parish-hall/2025-07-11/
LOCATION:HP Farmers Market
END:VEVENT
BEGIN:VEVENT
DTSTART;TZID=America/New_York:20250712T120000
DTEND;TZID=America/New_York:20250712T160000
DTSTAMP:20260424T073031
CREATED:20250604T125819Z
LAST-MODIFIED:20250604T125819Z
UID:10006574-1752321600-1752336000@stjameshydepark.org
SUMMARY:[New Deal] Auditions (Parish Hall)
DESCRIPTION:
URL:https://stjameshydepark.org/event/new-deal-auditions-parish-hall/2025-07-12/
LOCATION:St. James’ Episcopal Church\, 4526 Albany Post Rd.\, Hyde Park\, NY\, 12538\, United States
END:VEVENT
BEGIN:VEVENT
DTSTART;TZID=America/New_York:20250712T173000
DTEND;TZID=America/New_York:20250712T200000
DTSTAMP:20260424T073031
CREATED:20250606T162129Z
LAST-MODIFIED:20250613T155027Z
UID:10006590-1752341400-1752350400@stjameshydepark.org
SUMMARY:St. James' @ Kingston Stockade Soccer!
DESCRIPTION:Come join the St. James’ cheering section for our Kingston Stockade Division 4 soccer team!\nEnjoy a fun evening with St. James’ friends on Saturday nights at 6 pm at Dietz Stadium in Kingston. What could be better on a summer evening than friendly conversation\, kids running around\, food trucks\, and an occasional goal to celebrate! \nSAT JUNE 7 6 PM vs LIGHTHOUSE SC\nSAT JUNE 28 6 PM vs ATLANTIC CITY FC\nSAT JULY 12 6 PM vs BRAVEHEART SC \nMany St. James’ members & friends have enjoyed attending these games recently. \nTickets are $11/adults and $6/children ages 3-12. We have found that arriving about a half hour before the game start time provides a head start on the food truck lines. You are welcome to bring water bottles and snacks. Details on games at stockadefc.com. No RSVP needed\, but if you’d like to coordinate\, text or call Russell Urban-Mead at 914-456-1095.
URL:https://stjameshydepark.org/event/stockade-2025/2025-07-12/
LOCATION:NY
CATEGORIES:Fun
END:VEVENT
BEGIN:VEVENT
DTSTART;TZID=America/New_York:20250712T183000
DTEND;TZID=America/New_York:20250712T190000
DTSTAMP:20260424T073031
CREATED:20241219T191054Z
LAST-MODIFIED:20241219T191054Z
UID:10004394-1752345000-1752346800@stjameshydepark.org
SUMMARY:Compline (Online)
DESCRIPTION:Join us online every Saturday at 6:30 pm for a brief service of Compline (Night Prayer) facilitated by Deacon Gail. Please email the parish office at stjames.hydepark@gmail.com to request the Zoom link.
URL:https://stjameshydepark.org/event/compline-2025/2025-07-12/
LOCATION:Online
CATEGORIES:Worship
END:VEVENT
BEGIN:VEVENT
DTSTART;TZID=America/New_York:20250713T080000
DTEND;TZID=America/New_York:20250713T090000
DTSTAMP:20260424T073031
CREATED:20241219T191649Z
LAST-MODIFIED:20250325T172434Z
UID:10004558-1752393600-1752397200@stjameshydepark.org
SUMMARY:Sunday Worship—Holy Eucharist\, Rite I
DESCRIPTION:Join us Sundays at 8:00 a.m. for a celebration of Holy Eucharist (Communion). This is a quiet service\, usually without music\, though we often have a soloist with acoustic guitar playing before and after the service. The service uses Rite 1 from the 1979 Book of Common Prayer\, with traditional language.
URL:https://stjameshydepark.org/event/sunday-8am-2025/2025-07-13/
LOCATION:St. James’ Episcopal Church\, 4526 Albany Post Rd.\, Hyde Park\, NY\, 12538\, United States
CATEGORIES:Worship
END:VEVENT
BEGIN:VEVENT
DTSTART;TZID=America/New_York:20250713T100000
DTEND;TZID=America/New_York:20250713T113000
DTSTAMP:20260424T073031
CREATED:20241219T191432Z
LAST-MODIFIED:20251209T135212Z
UID:10004506-1752400800-1752406200@stjameshydepark.org
SUMMARY:Sunday Worship—Holy Eucharist\, Rite II with Sunday School and Coffee Hour
DESCRIPTION:Join us Sundays at 10:00 a.m. for a celebration of Holy Eucharist (Communion). This service has music (usually organ and choir\, along with special guest musicians) and uses a variety of prayers and language from traditional to inclusive and expansive\, drawing from Rite II of the 1979 Book of Common Prayer\, Enriching Our Worship\, and other sources. \nCoffee hour in the Parish House usually follows this service. \nSunday School for kindergarten and up meets today on the second floor of the Parish House at 10:00 a.m. Students will rejoin the congregation just before Holy Communion. New to St. James’ Church? Your kids are welcome to Sunday School any Sunday. More details about St. James’ Sunday School at: https://stjameshydepark.org/for-children/
URL:https://stjameshydepark.org/event/sunday-10am-2025/2025-07-13/
LOCATION:St. James’ Episcopal Church\, 4526 Albany Post Rd.\, Hyde Park\, NY\, 12538\, United States
CATEGORIES:Worship
END:VEVENT
BEGIN:VEVENT
DTSTART;TZID=America/New_York:20250713T183000
DTEND;TZID=America/New_York:20250713T210000
DTSTAMP:20260424T073031
CREATED:20250107T185818Z
LAST-MODIFIED:20250107T190058Z
UID:10005972-1752431400-1752440400@stjameshydepark.org
SUMMARY:Hyde Park Group AA (Parish Hall\, Rm. 201)
DESCRIPTION:
URL:https://stjameshydepark.org/event/hyde-park-group-aa-parish-hall-rm-201/2025-07-13/
LOCATION:St. James’ Episcopal Church\, 4526 Albany Post Rd.\, Hyde Park\, NY\, 12538\, United States
END:VEVENT
BEGIN:VEVENT
DTSTART;TZID=America/New_York:20250714T083000
DTEND;TZID=America/New_York:20250714T163000
DTSTAMP:20260424T073031
CREATED:20250107T182430Z
LAST-MODIFIED:20250108T132853Z
UID:10005197-1752481800-1752510600@stjameshydepark.org
SUMMARY:[New Deal] Musical Theatre Camp (Parish Hall)
DESCRIPTION:
URL:https://stjameshydepark.org/event/new-deal-musical-theatre-camp-parish-hall/2025-07-14/
LOCATION:St. James’ Episcopal Church\, 4526 Albany Post Rd.\, Hyde Park\, NY\, 12538\, United States
CATEGORIES:New Deal
END:VEVENT
BEGIN:VEVENT
DTSTART;TZID=America/New_York:20250714T133000
DTEND;TZID=America/New_York:20250714T153000
DTSTAMP:20260424T073031
CREATED:20241110T012408Z
LAST-MODIFIED:20250708T131754Z
UID:10006869-1752499800-1752507000@stjameshydepark.org
SUMMARY:Knit+Craft+Chat (Wilks Room)
DESCRIPTION:A community of crafters and conversationalists meets Mondays from 2-4 pm (drop-in) at St. James’ Episcopal Church in the Wilks Room of our Parish House. We are a friendly group: knitters\, embroiderers\, crocheters\, conversationalists and miscellaneous other activities. All are welcome; no previous skill is required.
URL:https://stjameshydepark.org/event/knit-craft-chat-2/2025-07-14/
LOCATION:St. James’ Episcopal Church\, 4526 Albany Post Rd.\, Hyde Park\, NY\, 12538\, United States
END:VEVENT
BEGIN:VEVENT
DTSTART;TZID=America/New_York:20250714T180000
DTEND;TZID=America/New_York:20250714T200000
DTSTAMP:20260424T073031
CREATED:20250613T152815Z
LAST-MODIFIED:20250627T171655Z
UID:10006690-1752516000-1752523200@stjameshydepark.org
SUMMARY:Garden Committee ~ Gardening at the Church
DESCRIPTION:St. James’ Garden Committee members meet at the Church for garden maintenance at 6 pm on the second Monday of each month. All are welcome!
URL:https://stjameshydepark.org/event/garden-committee-church/2025-07-14/
LOCATION:St. James’ Episcopal Church\, 4526 Albany Post Rd.\, Hyde Park\, NY\, 12538\, United States
CATEGORIES:Fun
END:VEVENT
BEGIN:VEVENT
DTSTART;TZID=America/New_York:20250715T083000
DTEND;TZID=America/New_York:20250715T163000
DTSTAMP:20260424T073031
CREATED:20250107T182430Z
LAST-MODIFIED:20250108T132853Z
UID:10005198-1752568200-1752597000@stjameshydepark.org
SUMMARY:[New Deal] Musical Theatre Camp (Parish Hall)
DESCRIPTION:
URL:https://stjameshydepark.org/event/new-deal-musical-theatre-camp-parish-hall/2025-07-15/
LOCATION:St. James’ Episcopal Church\, 4526 Albany Post Rd.\, Hyde Park\, NY\, 12538\, United States
CATEGORIES:New Deal
END:VEVENT
BEGIN:VEVENT
DTSTART;TZID=America/New_York:20250715T190000
DTEND;TZID=America/New_York:20250715T200000
DTSTAMP:20260424T073031
CREATED:20250502T123530Z
LAST-MODIFIED:20250710T194646Z
UID:10006552-1752606000-1752609600@stjameshydepark.org
SUMMARY:Rhinebeck Legion Band Concert (Parish Hall\, South Lawn)
DESCRIPTION:Rhinebeck Legion Band Concert\nTuesday\, July 15\, 7 pm on the Parish Hall South Lawn\nEnjoy a fun evening on the Parish Hall lawn with this fantastic 45-piece community band! Please bring your own seating. Rain location: Parish Hall.
URL:https://stjameshydepark.org/event/rhinebeck-legion-band-2025/
LOCATION:St. James’ Episcopal Church\, 4526 Albany Post Rd.\, Hyde Park\, NY\, 12538\, United States
ATTACH;FMTTYPE=image/png:https://stjameshydepark.org/wp-content/uploads/2025/05/Rhinebeck-Legion-Band-Poster-scaled.png
END:VEVENT
END:VCALENDAR