BEGIN:VCALENDAR
VERSION:2.0
PRODID:-//St. James&#039; Episcopal Church - ECPv6.15.20//NONSGML v1.0//EN
CALSCALE:GREGORIAN
METHOD:PUBLISH
X-WR-CALNAME:St. James&#039; Episcopal Church
X-ORIGINAL-URL:https://stjameshydepark.org
X-WR-CALDESC:Events for St. James&#039; Episcopal Church
REFRESH-INTERVAL;VALUE=DURATION:PT1H
X-Robots-Tag:noindex
X-PUBLISHED-TTL:PT1H
BEGIN:VTIMEZONE
TZID:America/New_York
BEGIN:DAYLIGHT
TZOFFSETFROM:-0500
TZOFFSETTO:-0400
TZNAME:EDT
DTSTART:20240310T070000
END:DAYLIGHT
BEGIN:STANDARD
TZOFFSETFROM:-0400
TZOFFSETTO:-0500
TZNAME:EST
DTSTART:20241103T060000
END:STANDARD
BEGIN:DAYLIGHT
TZOFFSETFROM:-0500
TZOFFSETTO:-0400
TZNAME:EDT
DTSTART:20250309T070000
END:DAYLIGHT
BEGIN:STANDARD
TZOFFSETFROM:-0400
TZOFFSETTO:-0500
TZNAME:EST
DTSTART:20251102T060000
END:STANDARD
BEGIN:DAYLIGHT
TZOFFSETFROM:-0500
TZOFFSETTO:-0400
TZNAME:EDT
DTSTART:20260308T070000
END:DAYLIGHT
BEGIN:STANDARD
TZOFFSETFROM:-0400
TZOFFSETTO:-0500
TZNAME:EST
DTSTART:20261101T060000
END:STANDARD
END:VTIMEZONE
BEGIN:VEVENT
DTSTART;TZID=America/New_York:20250602T133000
DTEND;TZID=America/New_York:20250602T153000
DTSTAMP:20260424T115832
CREATED:20241110T012408Z
LAST-MODIFIED:20250708T131754Z
UID:10006863-1748871000-1748878200@stjameshydepark.org
SUMMARY:Knit+Craft+Chat (Wilks Room)
DESCRIPTION:A community of crafters and conversationalists meets Mondays from 2-4 pm (drop-in) at St. James’ Episcopal Church in the Wilks Room of our Parish House. We are a friendly group: knitters\, embroiderers\, crocheters\, conversationalists and miscellaneous other activities. All are welcome; no previous skill is required.
URL:https://stjameshydepark.org/event/knit-craft-chat-2/2025-06-02/
LOCATION:St. James’ Episcopal Church\, 4526 Albany Post Rd.\, Hyde Park\, NY\, 12538\, United States
END:VEVENT
BEGIN:VEVENT
DTSTART;TZID=America/New_York:20250603T110000
DTEND;TZID=America/New_York:20250603T220000
DTSTAMP:20260424T115832
CREATED:20250522T192616Z
LAST-MODIFIED:20250522T192632Z
UID:10006565-1748948400-1748988000@stjameshydepark.org
SUMMARY:Five Guys Fundraiser to benefit Outreach
DESCRIPTION:Visit Five Guys Burgers and Fries (2507 South Road\, Poughkeepsie) on Tuesday\, June 3rd from 11 am to 10 pm and mention St. James’ Outreach—Five Guys will donate 20% of your order to our outreach ministries\, plus an additional $1 for every milkshake ordered!
URL:https://stjameshydepark.org/event/five-guys-fundraiser/
LOCATION:NY
CATEGORIES:Fun,Outreach
END:VEVENT
BEGIN:VEVENT
DTSTART;TZID=America/New_York:20250603T190000
DTEND;TZID=America/New_York:20250603T203000
DTSTAMP:20260424T115832
CREATED:20250107T190949Z
LAST-MODIFIED:20250107T190949Z
UID:10006019-1748977200-1748982600@stjameshydepark.org
SUMMARY:Boy Scout Troop 80 (Parish Hall)
DESCRIPTION:
URL:https://stjameshydepark.org/event/boy-scout-troop-80-parish-hall/2025-06-03/
LOCATION:St. James’ Episcopal Church\, 4526 Albany Post Rd.\, Hyde Park\, NY\, 12538\, United States
END:VEVENT
BEGIN:VEVENT
DTSTART;TZID=America/New_York:20250603T190000
DTEND;TZID=America/New_York:20250603T203000
DTSTAMP:20260424T115832
CREATED:20250107T191135Z
LAST-MODIFIED:20250107T191355Z
UID:10006103-1748977200-1748982600@stjameshydepark.org
SUMMARY:Boy Scout Troop 80 (Wilks Room)
DESCRIPTION:
URL:https://stjameshydepark.org/event/boy-scout-troop-80-wilks-room/2025-06-03/
LOCATION:St. James’ Episcopal Church\, 4526 Albany Post Rd.\, Hyde Park\, NY\, 12538\, United States
END:VEVENT
BEGIN:VEVENT
DTSTART;TZID=America/New_York:20250604T110000
DTEND;TZID=America/New_York:20250604T121500
DTSTAMP:20260424T115832
CREATED:20241120T172057Z
LAST-MODIFIED:20250424T151851Z
UID:10006341-1749034800-1749039300@stjameshydepark.org
SUMMARY:Bible Study (Online)
DESCRIPTION:Our weekly Bible study on Zoom usually focuses on the Gospel for the upcoming Sunday and is led by Mtr. Meredith. We practice a contemplative\, prayerful style of Bible study that focuses on how God is speaking to us through our questions\, responses\, curiosities and doubts as we engage Scripture.  \nThe study is followed by a brief\, optional service of noonday prayer. \nJoin in any Wednesday at 11 am. No previous preparation is required. The Zoom link is distributed via our weekly email newsletter (or contact the parish office).
URL:https://stjameshydepark.org/event/bible-study-2025/2025-06-04/
LOCATION:Online
CATEGORIES:Christian Formation
END:VEVENT
BEGIN:VEVENT
DTSTART;TZID=America/New_York:20250604T130000
DTEND;TZID=America/New_York:20250604T140000
DTSTAMP:20260424T115832
CREATED:20250603T133110Z
LAST-MODIFIED:20250603T133110Z
UID:10006567-1749042000-1749045600@stjameshydepark.org
SUMMARY:Organ Lessons (Church)
DESCRIPTION:
URL:https://stjameshydepark.org/event/organ-lessons-church/2025-06-04/
LOCATION:St. James’ Episcopal Church\, 4526 Albany Post Rd.\, Hyde Park\, NY\, 12538\, United States
END:VEVENT
BEGIN:VEVENT
DTSTART;TZID=America/New_York:20250604T183000
DTEND;TZID=America/New_York:20250604T190000
DTSTAMP:20260424T115832
CREATED:20241219T190934Z
LAST-MODIFIED:20241219T190934Z
UID:10004336-1749061800-1749063600@stjameshydepark.org
SUMMARY:Evening Prayer (Online)
DESCRIPTION:Join us online every Wednesday at 6:30 pm for a brief service of Evening Prayer led by Deacon Gail. Please email the parish office at stjames.hydepark@gmail.com to request the Zoom link.
URL:https://stjameshydepark.org/event/evening-prayer-2025/2025-06-04/
LOCATION:Online
CATEGORIES:Worship
END:VEVENT
BEGIN:VEVENT
DTSTART;TZID=America/New_York:20250605T180000
DTEND;TZID=America/New_York:20250605T193000
DTSTAMP:20260424T115832
CREATED:20250411T150516Z
LAST-MODIFIED:20250509T201121Z
UID:10006479-1749146400-1749151800@stjameshydepark.org
SUMMARY:Episcopal 101 (Wilks Room & Parish Hall)
DESCRIPTION:Discover (or rediscover) our faith life together in The Episcopal Church! \nThe course will meet in the Parish Hall every Thursday from 6-7:30 pm through June 19th. You can attend the whole series or pop in on a given week. Light supper is provided. If you’re popping in\, please RSVP to Mtr. Meredith and note any dietary restrictions. You can also get a copy of that week’s reading from her in advance. \n5/8—Welcome to the Episcopal Church\, this is who we are! \n5/15—The Bible\, and How and Why We Read It\n5/22—God and God’s People (Theology)\n5/29—Baptism and Christian Life\n6/5—History\n6/12—Eucharist and Worship\n6/19—Prayer and Practice \nRemember this is open to everyone\, from newcomers to longtime members. New members who complete this course have the option to be formally welcomed in the fall when we celebrate our patronal feast day\, St. James’ of Jerusalem\, and also to be confirmed or received as an Episcopalian on the bishop’s next visit!
URL:https://stjameshydepark.org/event/episcopal-101-spring-2025/2025-06-05/
LOCATION:St. James’ Episcopal Church\, 4526 Albany Post Rd.\, Hyde Park\, NY\, 12538\, United States
CATEGORIES:Christian Formation
END:VEVENT
BEGIN:VEVENT
DTSTART;TZID=America/New_York:20250607T173000
DTEND;TZID=America/New_York:20250607T200000
DTSTAMP:20260424T115832
CREATED:20250606T162129Z
LAST-MODIFIED:20250613T155027Z
UID:10006587-1749317400-1749326400@stjameshydepark.org
SUMMARY:St. James' @ Kingston Stockade Soccer!
DESCRIPTION:Come join the St. James’ cheering section for our Kingston Stockade Division 4 soccer team!\nEnjoy a fun evening with St. James’ friends on Saturday nights at 6 pm at Dietz Stadium in Kingston. What could be better on a summer evening than friendly conversation\, kids running around\, food trucks\, and an occasional goal to celebrate! \nSAT JUNE 7 6 PM vs LIGHTHOUSE SC\nSAT JUNE 28 6 PM vs ATLANTIC CITY FC\nSAT JULY 12 6 PM vs BRAVEHEART SC \nMany St. James’ members & friends have enjoyed attending these games recently. \nTickets are $11/adults and $6/children ages 3-12. We have found that arriving about a half hour before the game start time provides a head start on the food truck lines. You are welcome to bring water bottles and snacks. Details on games at stockadefc.com. No RSVP needed\, but if you’d like to coordinate\, text or call Russell Urban-Mead at 914-456-1095.
URL:https://stjameshydepark.org/event/stockade-2025/2025-06-07/
LOCATION:NY
CATEGORIES:Fun
END:VEVENT
BEGIN:VEVENT
DTSTART;TZID=America/New_York:20250607T183000
DTEND;TZID=America/New_York:20250607T190000
DTSTAMP:20260424T115832
CREATED:20241219T191054Z
LAST-MODIFIED:20241219T191054Z
UID:10004389-1749321000-1749322800@stjameshydepark.org
SUMMARY:Compline (Online)
DESCRIPTION:Join us online every Saturday at 6:30 pm for a brief service of Compline (Night Prayer) facilitated by Deacon Gail. Please email the parish office at stjames.hydepark@gmail.com to request the Zoom link.
URL:https://stjameshydepark.org/event/compline-2025/2025-06-07/
LOCATION:Online
CATEGORIES:Worship
END:VEVENT
BEGIN:VEVENT
DTSTART;TZID=America/New_York:20250608T080000
DTEND;TZID=America/New_York:20250608T090000
DTSTAMP:20260424T115832
CREATED:20241219T191649Z
LAST-MODIFIED:20250325T172434Z
UID:10004553-1749369600-1749373200@stjameshydepark.org
SUMMARY:Sunday Worship—Holy Eucharist\, Rite I
DESCRIPTION:Join us Sundays at 8:00 a.m. for a celebration of Holy Eucharist (Communion). This is a quiet service\, usually without music\, though we often have a soloist with acoustic guitar playing before and after the service. The service uses Rite 1 from the 1979 Book of Common Prayer\, with traditional language.
URL:https://stjameshydepark.org/event/sunday-8am-2025/2025-06-08/
LOCATION:St. James’ Episcopal Church\, 4526 Albany Post Rd.\, Hyde Park\, NY\, 12538\, United States
CATEGORIES:Worship
END:VEVENT
BEGIN:VEVENT
DTSTART;TZID=America/New_York:20250608T100000
DTEND;TZID=America/New_York:20250608T113000
DTSTAMP:20260424T115832
CREATED:20241219T191432Z
LAST-MODIFIED:20251209T135212Z
UID:10004501-1749376800-1749382200@stjameshydepark.org
SUMMARY:Sunday Worship—Holy Eucharist\, Rite II with Sunday School and Coffee Hour
DESCRIPTION:Join us Sundays at 10:00 a.m. for a celebration of Holy Eucharist (Communion). This service has music (usually organ and choir\, along with special guest musicians) and uses a variety of prayers and language from traditional to inclusive and expansive\, drawing from Rite II of the 1979 Book of Common Prayer\, Enriching Our Worship\, and other sources. \nCoffee hour in the Parish House usually follows this service. \nSunday School for kindergarten and up meets today on the second floor of the Parish House at 10:00 a.m. Students will rejoin the congregation just before Holy Communion. New to St. James’ Church? Your kids are welcome to Sunday School any Sunday. More details about St. James’ Sunday School at: https://stjameshydepark.org/for-children/
URL:https://stjameshydepark.org/event/sunday-10am-2025/2025-06-08/
LOCATION:St. James’ Episcopal Church\, 4526 Albany Post Rd.\, Hyde Park\, NY\, 12538\, United States
CATEGORIES:Worship
END:VEVENT
BEGIN:VEVENT
DTSTART;TZID=America/New_York:20250608T183000
DTEND;TZID=America/New_York:20250608T210000
DTSTAMP:20260424T115832
CREATED:20250107T185818Z
LAST-MODIFIED:20250107T190058Z
UID:10005967-1749407400-1749416400@stjameshydepark.org
SUMMARY:Hyde Park Group AA (Parish Hall\, Rm. 201)
DESCRIPTION:
URL:https://stjameshydepark.org/event/hyde-park-group-aa-parish-hall-rm-201/2025-06-08/
LOCATION:St. James’ Episcopal Church\, 4526 Albany Post Rd.\, Hyde Park\, NY\, 12538\, United States
END:VEVENT
BEGIN:VEVENT
DTSTART;TZID=America/New_York:20250609T133000
DTEND;TZID=America/New_York:20250609T153000
DTSTAMP:20260424T115832
CREATED:20241110T012408Z
LAST-MODIFIED:20250708T131754Z
UID:10006864-1749475800-1749483000@stjameshydepark.org
SUMMARY:Knit+Craft+Chat (Wilks Room)
DESCRIPTION:A community of crafters and conversationalists meets Mondays from 2-4 pm (drop-in) at St. James’ Episcopal Church in the Wilks Room of our Parish House. We are a friendly group: knitters\, embroiderers\, crocheters\, conversationalists and miscellaneous other activities. All are welcome; no previous skill is required.
URL:https://stjameshydepark.org/event/knit-craft-chat-2/2025-06-09/
LOCATION:St. James’ Episcopal Church\, 4526 Albany Post Rd.\, Hyde Park\, NY\, 12538\, United States
END:VEVENT
BEGIN:VEVENT
DTSTART;TZID=America/New_York:20250610T100000
DTEND;TZID=America/New_York:20250610T110000
DTSTAMP:20260424T115832
CREATED:20250603T133110Z
LAST-MODIFIED:20250603T133110Z
UID:10006568-1749549600-1749553200@stjameshydepark.org
SUMMARY:Organ Lessons (Church)
DESCRIPTION:
URL:https://stjameshydepark.org/event/organ-lessons-church/2025-06-10/
LOCATION:St. James’ Episcopal Church\, 4526 Albany Post Rd.\, Hyde Park\, NY\, 12538\, United States
END:VEVENT
BEGIN:VEVENT
DTSTART;TZID=America/New_York:20250610T183000
DTEND;TZID=America/New_York:20250610T200000
DTSTAMP:20260424T115832
CREATED:20250507T181420Z
LAST-MODIFIED:20250507T181513Z
UID:10006555-1749580200-1749585600@stjameshydepark.org
SUMMARY:Nursery School Committee Meeting (Wilks Room)
DESCRIPTION:
URL:https://stjameshydepark.org/event/nursery-school-meeting-classroom/
LOCATION:St. James’ Episcopal Church\, 4526 Albany Post Rd.\, Hyde Park\, NY\, 12538\, United States
END:VEVENT
BEGIN:VEVENT
DTSTART;TZID=America/New_York:20250610T190000
DTEND;TZID=America/New_York:20250610T203000
DTSTAMP:20260424T115832
CREATED:20250107T190949Z
LAST-MODIFIED:20250107T190949Z
UID:10006020-1749582000-1749587400@stjameshydepark.org
SUMMARY:Boy Scout Troop 80 (Parish Hall)
DESCRIPTION:
URL:https://stjameshydepark.org/event/boy-scout-troop-80-parish-hall/2025-06-10/
LOCATION:St. James’ Episcopal Church\, 4526 Albany Post Rd.\, Hyde Park\, NY\, 12538\, United States
END:VEVENT
BEGIN:VEVENT
DTSTART;TZID=America/New_York:20250611T110000
DTEND;TZID=America/New_York:20250611T121500
DTSTAMP:20260424T115832
CREATED:20241120T172057Z
LAST-MODIFIED:20250424T151851Z
UID:10006342-1749639600-1749644100@stjameshydepark.org
SUMMARY:Bible Study (Online)
DESCRIPTION:Our weekly Bible study on Zoom usually focuses on the Gospel for the upcoming Sunday and is led by Mtr. Meredith. We practice a contemplative\, prayerful style of Bible study that focuses on how God is speaking to us through our questions\, responses\, curiosities and doubts as we engage Scripture.  \nThe study is followed by a brief\, optional service of noonday prayer. \nJoin in any Wednesday at 11 am. No previous preparation is required. The Zoom link is distributed via our weekly email newsletter (or contact the parish office).
URL:https://stjameshydepark.org/event/bible-study-2025/2025-06-11/
LOCATION:Online
CATEGORIES:Christian Formation
END:VEVENT
BEGIN:VEVENT
DTSTART;TZID=America/New_York:20250611T180000
DTEND;TZID=America/New_York:20250611T200000
DTSTAMP:20260424T115832
CREATED:20250508T135649Z
LAST-MODIFIED:20250508T154027Z
UID:10006558-1749664800-1749672000@stjameshydepark.org
SUMMARY:Women's Group Dinner (Antonella's)
DESCRIPTION:
URL:https://stjameshydepark.org/event/womens-group-dinner-antonellas/2025-06-11/
LOCATION:Antonella’s Restaurant\, Hyde Park\, NY\, 4246 Albany Post Rd #1700\, Hyde Park\, NY\, 12538\, United States
END:VEVENT
BEGIN:VEVENT
DTSTART;TZID=America/New_York:20250611T183000
DTEND;TZID=America/New_York:20250611T190000
DTSTAMP:20260424T115832
CREATED:20241219T190934Z
LAST-MODIFIED:20241219T190934Z
UID:10004337-1749666600-1749668400@stjameshydepark.org
SUMMARY:Evening Prayer (Online)
DESCRIPTION:Join us online every Wednesday at 6:30 pm for a brief service of Evening Prayer led by Deacon Gail. Please email the parish office at stjames.hydepark@gmail.com to request the Zoom link.
URL:https://stjameshydepark.org/event/evening-prayer-2025/2025-06-11/
LOCATION:Online
CATEGORIES:Worship
END:VEVENT
BEGIN:VEVENT
DTSTART;TZID=America/New_York:20250612T120000
DTEND;TZID=America/New_York:20250612T140000
DTSTAMP:20260424T115832
CREATED:20250107T185154Z
LAST-MODIFIED:20250107T185225Z
UID:10005943-1749729600-1749736800@stjameshydepark.org
SUMMARY:Nursery School Moving Up Setup (Parish Hall)
DESCRIPTION:
URL:https://stjameshydepark.org/event/nusery-school-moving-up-setup-parish-hall/
LOCATION:St. James’ Episcopal Church\, 4526 Albany Post Rd.\, Hyde Park\, NY\, 12538\, United States
END:VEVENT
BEGIN:VEVENT
DTSTART;TZID=America/New_York:20250612T180000
DTEND;TZID=America/New_York:20250612T193000
DTSTAMP:20260424T115832
CREATED:20250411T150516Z
LAST-MODIFIED:20250509T201121Z
UID:10006480-1749751200-1749756600@stjameshydepark.org
SUMMARY:Episcopal 101 (Wilks Room & Parish Hall)
DESCRIPTION:Discover (or rediscover) our faith life together in The Episcopal Church! \nThe course will meet in the Parish Hall every Thursday from 6-7:30 pm through June 19th. You can attend the whole series or pop in on a given week. Light supper is provided. If you’re popping in\, please RSVP to Mtr. Meredith and note any dietary restrictions. You can also get a copy of that week’s reading from her in advance. \n5/8—Welcome to the Episcopal Church\, this is who we are! \n5/15—The Bible\, and How and Why We Read It\n5/22—God and God’s People (Theology)\n5/29—Baptism and Christian Life\n6/5—History\n6/12—Eucharist and Worship\n6/19—Prayer and Practice \nRemember this is open to everyone\, from newcomers to longtime members. New members who complete this course have the option to be formally welcomed in the fall when we celebrate our patronal feast day\, St. James’ of Jerusalem\, and also to be confirmed or received as an Episcopalian on the bishop’s next visit!
URL:https://stjameshydepark.org/event/episcopal-101-spring-2025/2025-06-12/
LOCATION:St. James’ Episcopal Church\, 4526 Albany Post Rd.\, Hyde Park\, NY\, 12538\, United States
CATEGORIES:Christian Formation
END:VEVENT
BEGIN:VEVENT
DTSTART;TZID=America/New_York:20250613T090000
DTEND;TZID=America/New_York:20250613T120000
DTSTAMP:20260424T115832
CREATED:20250107T185334Z
LAST-MODIFIED:20250107T185334Z
UID:10005944-1749805200-1749816000@stjameshydepark.org
SUMMARY:Nursery School Moving Up (Parish Hall)
DESCRIPTION:
URL:https://stjameshydepark.org/event/nursery-school-moving-up-parish-hall/
LOCATION:St. James’ Episcopal Church\, 4526 Albany Post Rd.\, Hyde Park\, NY\, 12538\, United States
END:VEVENT
BEGIN:VEVENT
DTSTART;TZID=America/New_York:20250613T160000
DTEND;TZID=America/New_York:20250613T210000
DTSTAMP:20260424T115832
CREATED:20250507T181211Z
LAST-MODIFIED:20250528T151957Z
UID:10006566-1749830400-1749848400@stjameshydepark.org
SUMMARY:Setup for Lasagna Dinner (Parish Hall & Kitchen)
DESCRIPTION:
URL:https://stjameshydepark.org/event/lasagna-dinner-setup/2025-06-13/
LOCATION:St. James’ Episcopal Church\, 4526 Albany Post Rd.\, Hyde Park\, NY\, 12538\, United States
END:VEVENT
BEGIN:VEVENT
DTSTART;TZID=America/New_York:20250614T100000
DTEND;TZID=America/New_York:20250614T210000
DTSTAMP:20260424T115832
CREATED:20250507T181211Z
LAST-MODIFIED:20250528T151957Z
UID:10006554-1749895200-1749934800@stjameshydepark.org
SUMMARY:Setup for Lasagna Dinner (Parish Hall & Kitchen)
DESCRIPTION:
URL:https://stjameshydepark.org/event/lasagna-dinner-setup/2025-06-14/
LOCATION:St. James’ Episcopal Church\, 4526 Albany Post Rd.\, Hyde Park\, NY\, 12538\, United States
END:VEVENT
BEGIN:VEVENT
DTSTART;TZID=America/New_York:20250614T173000
DTEND;TZID=America/New_York:20250614T190000
DTSTAMP:20260424T115832
CREATED:20250522T191156Z
LAST-MODIFIED:20250606T160432Z
UID:10006564-1749922200-1749927600@stjameshydepark.org
SUMMARY:[SOLD OUT] Lasagna Dinner
DESCRIPTION:Join us in the Parish Hall on Saturday\, June 14th at 5:30 p.m. for a delicious lasagna dinner—prepared by Culinary Institute of America students—to benefit St. James’ and St. Margaret’s Churches! \nMenu: Beef & sausage lasagna\, garlic bread\, caesar salad\, strawberry shortcake (gluten free & vegetarian options available) \nPrice: $20 per person \nReservations strongly suggested by June 9th. Please call or text Joe Gasparini at 845-475-4717 or Donna Hudak at 609-954-0637 to reserve\, or pick up an RSVP coupon in the narthex and return it to the church office or via the collection plate. You may also print and return the RSVP coupon on the flyer linked below.
URL:https://stjameshydepark.org/event/lasagna-dinner/
LOCATION:St. James’ Episcopal Church\, 4526 Albany Post Rd.\, Hyde Park\, NY\, 12538\, United States
CATEGORIES:Fun
ATTACH;FMTTYPE=image/png:https://stjameshydepark.org/wp-content/uploads/2025/05/Lasagna-Dinner-2025.png
END:VEVENT
BEGIN:VEVENT
DTSTART;TZID=America/New_York:20250614T183000
DTEND;TZID=America/New_York:20250614T190000
DTSTAMP:20260424T115832
CREATED:20241219T191054Z
LAST-MODIFIED:20241219T191054Z
UID:10004390-1749925800-1749927600@stjameshydepark.org
SUMMARY:Compline (Online)
DESCRIPTION:Join us online every Saturday at 6:30 pm for a brief service of Compline (Night Prayer) facilitated by Deacon Gail. Please email the parish office at stjames.hydepark@gmail.com to request the Zoom link.
URL:https://stjameshydepark.org/event/compline-2025/2025-06-14/
LOCATION:Online
CATEGORIES:Worship
END:VEVENT
BEGIN:VEVENT
DTSTART;TZID=America/New_York:20250615T080000
DTEND;TZID=America/New_York:20250615T090000
DTSTAMP:20260424T115832
CREATED:20241219T191649Z
LAST-MODIFIED:20250325T172434Z
UID:10004554-1749974400-1749978000@stjameshydepark.org
SUMMARY:Sunday Worship—Holy Eucharist\, Rite I
DESCRIPTION:Join us Sundays at 8:00 a.m. for a celebration of Holy Eucharist (Communion). This is a quiet service\, usually without music\, though we often have a soloist with acoustic guitar playing before and after the service. The service uses Rite 1 from the 1979 Book of Common Prayer\, with traditional language.
URL:https://stjameshydepark.org/event/sunday-8am-2025/2025-06-15/
LOCATION:St. James’ Episcopal Church\, 4526 Albany Post Rd.\, Hyde Park\, NY\, 12538\, United States
CATEGORIES:Worship
END:VEVENT
BEGIN:VEVENT
DTSTART;TZID=America/New_York:20250615T100000
DTEND;TZID=America/New_York:20250615T113000
DTSTAMP:20260424T115832
CREATED:20241219T191432Z
LAST-MODIFIED:20251209T135212Z
UID:10004502-1749981600-1749987000@stjameshydepark.org
SUMMARY:Sunday Worship—Holy Eucharist\, Rite II with Sunday School and Coffee Hour
DESCRIPTION:Join us Sundays at 10:00 a.m. for a celebration of Holy Eucharist (Communion). This service has music (usually organ and choir\, along with special guest musicians) and uses a variety of prayers and language from traditional to inclusive and expansive\, drawing from Rite II of the 1979 Book of Common Prayer\, Enriching Our Worship\, and other sources. \nCoffee hour in the Parish House usually follows this service. \nSunday School for kindergarten and up meets today on the second floor of the Parish House at 10:00 a.m. Students will rejoin the congregation just before Holy Communion. New to St. James’ Church? Your kids are welcome to Sunday School any Sunday. More details about St. James’ Sunday School at: https://stjameshydepark.org/for-children/
URL:https://stjameshydepark.org/event/sunday-10am-2025/2025-06-15/
LOCATION:St. James’ Episcopal Church\, 4526 Albany Post Rd.\, Hyde Park\, NY\, 12538\, United States
CATEGORIES:Worship
END:VEVENT
BEGIN:VEVENT
DTSTART;TZID=America/New_York:20250615T183000
DTEND;TZID=America/New_York:20250615T210000
DTSTAMP:20260424T115832
CREATED:20250107T185818Z
LAST-MODIFIED:20250107T190058Z
UID:10005968-1750012200-1750021200@stjameshydepark.org
SUMMARY:Hyde Park Group AA (Parish Hall\, Rm. 201)
DESCRIPTION:
URL:https://stjameshydepark.org/event/hyde-park-group-aa-parish-hall-rm-201/2025-06-15/
LOCATION:St. James’ Episcopal Church\, 4526 Albany Post Rd.\, Hyde Park\, NY\, 12538\, United States
END:VEVENT
END:VCALENDAR