BEGIN:VCALENDAR
VERSION:2.0
PRODID:-//St. James&#039; Episcopal Church - ECPv6.15.20//NONSGML v1.0//EN
CALSCALE:GREGORIAN
METHOD:PUBLISH
X-WR-CALNAME:St. James&#039; Episcopal Church
X-ORIGINAL-URL:https://stjameshydepark.org
X-WR-CALDESC:Events for St. James&#039; Episcopal Church
REFRESH-INTERVAL;VALUE=DURATION:PT1H
X-Robots-Tag:noindex
X-PUBLISHED-TTL:PT1H
BEGIN:VTIMEZONE
TZID:America/New_York
BEGIN:DAYLIGHT
TZOFFSETFROM:-0500
TZOFFSETTO:-0400
TZNAME:EDT
DTSTART:20220313T070000
END:DAYLIGHT
BEGIN:STANDARD
TZOFFSETFROM:-0400
TZOFFSETTO:-0500
TZNAME:EST
DTSTART:20221106T060000
END:STANDARD
BEGIN:DAYLIGHT
TZOFFSETFROM:-0500
TZOFFSETTO:-0400
TZNAME:EDT
DTSTART:20230312T070000
END:DAYLIGHT
BEGIN:STANDARD
TZOFFSETFROM:-0400
TZOFFSETTO:-0500
TZNAME:EST
DTSTART:20231105T060000
END:STANDARD
BEGIN:DAYLIGHT
TZOFFSETFROM:-0500
TZOFFSETTO:-0400
TZNAME:EDT
DTSTART:20240310T070000
END:DAYLIGHT
BEGIN:STANDARD
TZOFFSETFROM:-0400
TZOFFSETTO:-0500
TZNAME:EST
DTSTART:20241103T060000
END:STANDARD
END:VTIMEZONE
BEGIN:VEVENT
DTSTART;TZID=America/New_York:20230707T080000
DTEND;TZID=America/New_York:20230709T170000
DTSTAMP:20260425T232452
CREATED:20230525T150017Z
LAST-MODIFIED:20230525T150041Z
UID:10002067-1688716800-1688922000@stjameshydepark.org
SUMMARY:Graduation Party (Off-site - borrow tables and chairs)
DESCRIPTION:
URL:https://stjameshydepark.org/event/graduation-party-borrow-tables-and-chairs/
LOCATION:St. James’ Episcopal Church\, 4526 Albany Post Rd.\, Hyde Park\, NY\, 12538\, United States
END:VEVENT
BEGIN:VEVENT
DTSTART;TZID=America/New_York:20230709T080000
DTEND;TZID=America/New_York:20230709T090000
DTSTAMP:20260425T232452
CREATED:20230110T171732Z
LAST-MODIFIED:20230709T232408Z
UID:10001555-1688889600-1688893200@stjameshydepark.org
SUMMARY:Holy Eucharist (Rite I)
DESCRIPTION:Join us Sundays at 8:00 a.m. for a celebration of Holy Eucharist (Communion). This is a quiet service\, usually without music\, though we often have a soloist with acoustic guitar playing before and after the service. The service uses Rite 1 from the 1979 Book of Common Prayer\, with traditional language.
URL:https://stjameshydepark.org/event/holy-eucharist-rite-i-2023-05-28/2023-07-09/
LOCATION:St. James’ Episcopal Church\, 4526 Albany Post Rd.\, Hyde Park\, NY\, 12538\, United States
CATEGORIES:Worship
END:VEVENT
BEGIN:VEVENT
DTSTART;TZID=America/New_York:20230709T100000
DTEND;TZID=America/New_York:20230709T113000
DTSTAMP:20260425T232452
CREATED:20230510T124324Z
LAST-MODIFIED:20230525T134306Z
UID:10002061-1688896800-1688902200@stjameshydepark.org
SUMMARY:Holy Eucharist (Rite II) - St. Margaret's Church
DESCRIPTION:
URL:https://stjameshydepark.org/event/holy-eucharist-rite-ii-st-margarets-church/
LOCATION:St. Margaret’s Church\, E. Elm Ave.\, Staatsburg\, NY\, 12580\, United States
CATEGORIES:General
END:VEVENT
BEGIN:VEVENT
DTSTART;TZID=America/New_York:20230709T183000
DTEND;TZID=America/New_York:20230709T210000
DTSTAMP:20260425T232452
CREATED:20230315T174027Z
LAST-MODIFIED:20231108T151435Z
UID:10001960-1688927400-1688936400@stjameshydepark.org
SUMMARY:AA Meeting (Parish Hall; Rm. 201)
DESCRIPTION:
URL:https://stjameshydepark.org/event/aa-meeting-parish-hall-rm-201/2023-07-09/
LOCATION:St. James’ Episcopal Church\, 4526 Albany Post Rd.\, Hyde Park\, NY\, 12538\, United States
END:VEVENT
BEGIN:VEVENT
DTSTART;VALUE=DATE:20230710
DTEND;VALUE=DATE:20230711
DTSTAMP:20260425T232452
CREATED:20220329T204444Z
LAST-MODIFIED:20230112T190336Z
UID:10001187-1688947200-1689033599@stjameshydepark.org
SUMMARY:Parish Office Closed
DESCRIPTION:
URL:https://stjameshydepark.org/event/parish-office-closed-2/2023-07-10/
LOCATION:NY
CATEGORIES:General
END:VEVENT
BEGIN:VEVENT
DTSTART;TZID=America/New_York:20230712T110000
DTEND;TZID=America/New_York:20230712T120000
DTSTAMP:20260425T232452
CREATED:20220329T172814Z
LAST-MODIFIED:20230214T222810Z
UID:10001714-1689159600-1689163200@stjameshydepark.org
SUMMARY:Bible Study (Zoom)
DESCRIPTION:Our weekly Bible study takes place on Zoom! Join in every Wednesday at 11 a.m. for prayer\, conversation and reflection on the readings for the upcoming Sunday. The Zoom link will be distributed via our Google Group\, or contact the parish office. 
URL:https://stjameshydepark.org/event/bible-study-2023-02-15/2023-07-12/
LOCATION:Online
CATEGORIES:General
END:VEVENT
BEGIN:VEVENT
DTSTART;TZID=America/New_York:20230712T183000
DTEND;TZID=America/New_York:20230712T193000
DTSTAMP:20260425T232452
CREATED:20230112T192240Z
LAST-MODIFIED:20230926T155941Z
UID:10001807-1689186600-1689190200@stjameshydepark.org
SUMMARY:Evening Prayer (Remote)
DESCRIPTION:
URL:https://stjameshydepark.org/event/evening-prayer-remote-2/2023-07-12/
LOCATION:Online
CATEGORIES:Worship
END:VEVENT
BEGIN:VEVENT
DTSTART;TZID=America/New_York:20230715T183000
DTEND;TZID=America/New_York:20230715T193000
DTSTAMP:20260425T232452
CREATED:20230112T191110Z
LAST-MODIFIED:20231102T135511Z
UID:10001625-1689445800-1689449400@stjameshydepark.org
SUMMARY:Compline (Remote)
DESCRIPTION:
URL:https://stjameshydepark.org/event/compline-remote-3-2023-01-07/2023-07-15/
LOCATION:Online
CATEGORIES:Worship
END:VEVENT
BEGIN:VEVENT
DTSTART;TZID=America/New_York:20230716T080000
DTEND;TZID=America/New_York:20230716T090000
DTSTAMP:20260425T232452
CREATED:20230110T171732Z
LAST-MODIFIED:20230709T232408Z
UID:10001556-1689494400-1689498000@stjameshydepark.org
SUMMARY:Holy Eucharist (Rite I)
DESCRIPTION:Join us Sundays at 8:00 a.m. for a celebration of Holy Eucharist (Communion). This is a quiet service\, usually without music\, though we often have a soloist with acoustic guitar playing before and after the service. The service uses Rite 1 from the 1979 Book of Common Prayer\, with traditional language.
URL:https://stjameshydepark.org/event/holy-eucharist-rite-i-2023-05-28/2023-07-16/
LOCATION:St. James’ Episcopal Church\, 4526 Albany Post Rd.\, Hyde Park\, NY\, 12538\, United States
CATEGORIES:Worship
END:VEVENT
BEGIN:VEVENT
DTSTART;TZID=America/New_York:20230716T100000
DTEND;TZID=America/New_York:20230716T113000
DTSTAMP:20260425T232452
CREATED:20230709T233140Z
LAST-MODIFIED:20230709T233458Z
UID:10002144-1689501600-1689507000@stjameshydepark.org
SUMMARY:Holy Eucharist\, Rite II (Summer—Coffee Hour & Sunday School are on vacation!)
DESCRIPTION:Join us Sundays at 10:00 a.m. for a celebration of Holy Eucharist (Communion). This service has music (usually organ and choir\, along with special guest musicians) and uses a variety of prayers and language from traditional to inclusive and expansive\, drawing from Rite II of the 1979 Book of Common Prayer\, Enriching Our Worship\, and other sources. \nNote: In the summer\, coffee hour and Sunday School are on vacation!
URL:https://stjameshydepark.org/event/holy-eucharist-ii-summer-2023/2023-07-16/
LOCATION:St. James’ Episcopal Church\, 4526 Albany Post Rd.\, Hyde Park\, NY\, 12538\, United States
CATEGORIES:Worship
END:VEVENT
BEGIN:VEVENT
DTSTART;TZID=America/New_York:20230716T183000
DTEND;TZID=America/New_York:20230716T210000
DTSTAMP:20260425T232452
CREATED:20230315T174027Z
LAST-MODIFIED:20231108T151435Z
UID:10001961-1689532200-1689541200@stjameshydepark.org
SUMMARY:AA Meeting (Parish Hall; Rm. 201)
DESCRIPTION:
URL:https://stjameshydepark.org/event/aa-meeting-parish-hall-rm-201/2023-07-16/
LOCATION:St. James’ Episcopal Church\, 4526 Albany Post Rd.\, Hyde Park\, NY\, 12538\, United States
END:VEVENT
BEGIN:VEVENT
DTSTART;VALUE=DATE:20230717
DTEND;VALUE=DATE:20230718
DTSTAMP:20260425T232452
CREATED:20220329T204444Z
LAST-MODIFIED:20230112T190336Z
UID:10001188-1689552000-1689638399@stjameshydepark.org
SUMMARY:Parish Office Closed
DESCRIPTION:
URL:https://stjameshydepark.org/event/parish-office-closed-2/2023-07-17/
LOCATION:NY
CATEGORIES:General
END:VEVENT
BEGIN:VEVENT
DTSTART;TZID=America/New_York:20230717T083000
DTEND;TZID=America/New_York:20230717T100000
DTSTAMP:20260425T232452
CREATED:20230711T123754Z
LAST-MODIFIED:20230711T123754Z
UID:10002188-1689582600-1689588000@stjameshydepark.org
SUMMARY:Hyde Park Food Pantry Meeting (Chapel)
DESCRIPTION:
URL:https://stjameshydepark.org/event/hyde-park-food-pantry-meeting-chapel/
LOCATION:St. James’ Chapel\, 10 East Market Street\, Hyde Park\, NY\, 12567\, United States
CATEGORIES:General
END:VEVENT
BEGIN:VEVENT
DTSTART;TZID=America/New_York:20230718T193000
DTEND;TZID=America/New_York:20230718T201500
DTSTAMP:20260425T232452
CREATED:20230622T140638Z
LAST-MODIFIED:20230706T174455Z
UID:10002120-1689708600-1689711300@stjameshydepark.org
SUMMARY:Free Concert - Rhinebeck Legion Band (Front Lawn and Parish Hall)
DESCRIPTION:Join St. James’ Episcopal Church for a free concert with the Rhinebeck Legion Band! \nTuesday\, July 18th at 7 pm. Please bring your own seating. We’ll be on the Rectory lawn\, or in the Parish Hall if the weather is bad.
URL:https://stjameshydepark.org/event/rhinebeck-legion-band-free-concert/
LOCATION:St. James’ Episcopal Church\, 4526 Albany Post Rd.\, Hyde Park\, NY\, 12538\, United States
CATEGORIES:Fun,One Time Event
ATTACH;FMTTYPE=image/jpeg:https://stjameshydepark.org/wp-content/uploads/2023/07/RLB-2023-StJamesEpiscopalConcertPoster.jpg
END:VEVENT
BEGIN:VEVENT
DTSTART;TZID=America/New_York:20230719T110000
DTEND;TZID=America/New_York:20230719T120000
DTSTAMP:20260425T232452
CREATED:20220329T172814Z
LAST-MODIFIED:20230214T222810Z
UID:10001715-1689764400-1689768000@stjameshydepark.org
SUMMARY:Bible Study (Zoom)
DESCRIPTION:Our weekly Bible study takes place on Zoom! Join in every Wednesday at 11 a.m. for prayer\, conversation and reflection on the readings for the upcoming Sunday. The Zoom link will be distributed via our Google Group\, or contact the parish office. 
URL:https://stjameshydepark.org/event/bible-study-2023-02-15/2023-07-19/
LOCATION:Online
CATEGORIES:General
END:VEVENT
BEGIN:VEVENT
DTSTART;TZID=America/New_York:20230719T183000
DTEND;TZID=America/New_York:20230719T193000
DTSTAMP:20260425T232452
CREATED:20230112T192240Z
LAST-MODIFIED:20230926T155941Z
UID:10001808-1689791400-1689795000@stjameshydepark.org
SUMMARY:Evening Prayer (Remote)
DESCRIPTION:
URL:https://stjameshydepark.org/event/evening-prayer-remote-2/2023-07-19/
LOCATION:Online
CATEGORIES:Worship
END:VEVENT
BEGIN:VEVENT
DTSTART;TZID=America/New_York:20230722T183000
DTEND;TZID=America/New_York:20230722T193000
DTSTAMP:20260425T232452
CREATED:20230112T191110Z
LAST-MODIFIED:20231102T135511Z
UID:10001626-1690050600-1690054200@stjameshydepark.org
SUMMARY:Compline (Remote)
DESCRIPTION:
URL:https://stjameshydepark.org/event/compline-remote-3-2023-01-07/2023-07-22/
LOCATION:Online
CATEGORIES:Worship
END:VEVENT
BEGIN:VEVENT
DTSTART;TZID=America/New_York:20230723T080000
DTEND;TZID=America/New_York:20230723T090000
DTSTAMP:20260425T232452
CREATED:20230110T171732Z
LAST-MODIFIED:20230709T232408Z
UID:10001557-1690099200-1690102800@stjameshydepark.org
SUMMARY:Holy Eucharist (Rite I)
DESCRIPTION:Join us Sundays at 8:00 a.m. for a celebration of Holy Eucharist (Communion). This is a quiet service\, usually without music\, though we often have a soloist with acoustic guitar playing before and after the service. The service uses Rite 1 from the 1979 Book of Common Prayer\, with traditional language.
URL:https://stjameshydepark.org/event/holy-eucharist-rite-i-2023-05-28/2023-07-23/
LOCATION:St. James’ Episcopal Church\, 4526 Albany Post Rd.\, Hyde Park\, NY\, 12538\, United States
CATEGORIES:Worship
END:VEVENT
BEGIN:VEVENT
DTSTART;TZID=America/New_York:20230723T100000
DTEND;TZID=America/New_York:20230723T113000
DTSTAMP:20260425T232452
CREATED:20230709T233140Z
LAST-MODIFIED:20230709T233458Z
UID:10002145-1690106400-1690111800@stjameshydepark.org
SUMMARY:Holy Eucharist\, Rite II (Summer—Coffee Hour & Sunday School are on vacation!)
DESCRIPTION:Join us Sundays at 10:00 a.m. for a celebration of Holy Eucharist (Communion). This service has music (usually organ and choir\, along with special guest musicians) and uses a variety of prayers and language from traditional to inclusive and expansive\, drawing from Rite II of the 1979 Book of Common Prayer\, Enriching Our Worship\, and other sources. \nNote: In the summer\, coffee hour and Sunday School are on vacation!
URL:https://stjameshydepark.org/event/holy-eucharist-ii-summer-2023/2023-07-23/
LOCATION:St. James’ Episcopal Church\, 4526 Albany Post Rd.\, Hyde Park\, NY\, 12538\, United States
CATEGORIES:Worship
END:VEVENT
BEGIN:VEVENT
DTSTART;TZID=America/New_York:20230723T183000
DTEND;TZID=America/New_York:20230723T210000
DTSTAMP:20260425T232452
CREATED:20230315T174027Z
LAST-MODIFIED:20231108T151435Z
UID:10001962-1690137000-1690146000@stjameshydepark.org
SUMMARY:AA Meeting (Parish Hall; Rm. 201)
DESCRIPTION:
URL:https://stjameshydepark.org/event/aa-meeting-parish-hall-rm-201/2023-07-23/
LOCATION:St. James’ Episcopal Church\, 4526 Albany Post Rd.\, Hyde Park\, NY\, 12538\, United States
END:VEVENT
BEGIN:VEVENT
DTSTART;VALUE=DATE:20230724
DTEND;VALUE=DATE:20230725
DTSTAMP:20260425T232452
CREATED:20220329T204444Z
LAST-MODIFIED:20230112T190336Z
UID:10001189-1690156800-1690243199@stjameshydepark.org
SUMMARY:Parish Office Closed
DESCRIPTION:
URL:https://stjameshydepark.org/event/parish-office-closed-2/2023-07-24/
LOCATION:NY
CATEGORIES:General
END:VEVENT
BEGIN:VEVENT
DTSTART;TZID=America/New_York:20230724T083000
DTEND;TZID=America/New_York:20230724T163000
DTSTAMP:20260425T232452
CREATED:20230719T144905Z
LAST-MODIFIED:20230719T144907Z
UID:10002077-1690187400-1690216200@stjameshydepark.org
SUMMARY:New Deal Summer Camp (Parish Hall)
DESCRIPTION:
URL:https://stjameshydepark.org/event/new-deal-summer-camp-parish-hall-2/2023-07-24/
LOCATION:St. James’ Episcopal Church\, 4526 Albany Post Rd.\, Hyde Park\, NY\, 12538\, United States
CATEGORIES:New Deal
END:VEVENT
BEGIN:VEVENT
DTSTART;TZID=America/New_York:20230725T083000
DTEND;TZID=America/New_York:20230725T163000
DTSTAMP:20260425T232452
CREATED:20230719T144905Z
LAST-MODIFIED:20230719T144907Z
UID:10002081-1690273800-1690302600@stjameshydepark.org
SUMMARY:New Deal Summer Camp (Parish Hall)
DESCRIPTION:
URL:https://stjameshydepark.org/event/new-deal-summer-camp-parish-hall-2/2023-07-25/
LOCATION:St. James’ Episcopal Church\, 4526 Albany Post Rd.\, Hyde Park\, NY\, 12538\, United States
CATEGORIES:New Deal
END:VEVENT
BEGIN:VEVENT
DTSTART;TZID=America/New_York:20230726T083000
DTEND;TZID=America/New_York:20230726T163000
DTSTAMP:20260425T232452
CREATED:20230719T144905Z
LAST-MODIFIED:20230719T144907Z
UID:10002082-1690360200-1690389000@stjameshydepark.org
SUMMARY:New Deal Summer Camp (Parish Hall)
DESCRIPTION:
URL:https://stjameshydepark.org/event/new-deal-summer-camp-parish-hall-2/2023-07-26/
LOCATION:St. James’ Episcopal Church\, 4526 Albany Post Rd.\, Hyde Park\, NY\, 12538\, United States
CATEGORIES:New Deal
END:VEVENT
BEGIN:VEVENT
DTSTART;TZID=America/New_York:20230726T110000
DTEND;TZID=America/New_York:20230726T120000
DTSTAMP:20260425T232452
CREATED:20220329T172814Z
LAST-MODIFIED:20230214T222810Z
UID:10001716-1690369200-1690372800@stjameshydepark.org
SUMMARY:Bible Study (Zoom)
DESCRIPTION:Our weekly Bible study takes place on Zoom! Join in every Wednesday at 11 a.m. for prayer\, conversation and reflection on the readings for the upcoming Sunday. The Zoom link will be distributed via our Google Group\, or contact the parish office. 
URL:https://stjameshydepark.org/event/bible-study-2023-02-15/2023-07-26/
LOCATION:Online
CATEGORIES:General
END:VEVENT
BEGIN:VEVENT
DTSTART;TZID=America/New_York:20230726T183000
DTEND;TZID=America/New_York:20230726T193000
DTSTAMP:20260425T232452
CREATED:20230112T192240Z
LAST-MODIFIED:20230926T155941Z
UID:10001809-1690396200-1690399800@stjameshydepark.org
SUMMARY:Evening Prayer (Remote)
DESCRIPTION:
URL:https://stjameshydepark.org/event/evening-prayer-remote-2/2023-07-26/
LOCATION:Online
CATEGORIES:Worship
END:VEVENT
BEGIN:VEVENT
DTSTART;TZID=America/New_York:20230727T083000
DTEND;TZID=America/New_York:20230727T163000
DTSTAMP:20260425T232452
CREATED:20230719T144905Z
LAST-MODIFIED:20230719T144907Z
UID:10002083-1690446600-1690475400@stjameshydepark.org
SUMMARY:New Deal Summer Camp (Parish Hall)
DESCRIPTION:
URL:https://stjameshydepark.org/event/new-deal-summer-camp-parish-hall-2/2023-07-27/
LOCATION:St. James’ Episcopal Church\, 4526 Albany Post Rd.\, Hyde Park\, NY\, 12538\, United States
CATEGORIES:New Deal
END:VEVENT
BEGIN:VEVENT
DTSTART;TZID=America/New_York:20230728T083000
DTEND;TZID=America/New_York:20230728T163000
DTSTAMP:20260425T232452
CREATED:20230719T144905Z
LAST-MODIFIED:20230719T144907Z
UID:10002084-1690533000-1690561800@stjameshydepark.org
SUMMARY:New Deal Summer Camp (Parish Hall)
DESCRIPTION:
URL:https://stjameshydepark.org/event/new-deal-summer-camp-parish-hall-2/2023-07-28/
LOCATION:St. James’ Episcopal Church\, 4526 Albany Post Rd.\, Hyde Park\, NY\, 12538\, United States
CATEGORIES:New Deal
END:VEVENT
BEGIN:VEVENT
DTSTART;TZID=America/New_York:20230728T190000
DTEND;TZID=America/New_York:20230728T210000
DTSTAMP:20260425T232452
CREATED:20230621T131955Z
LAST-MODIFIED:20230719T144946Z
UID:10002100-1690570800-1690578000@stjameshydepark.org
SUMMARY:New Deal Summer Camp Performance (Parish Hall)
DESCRIPTION:
URL:https://stjameshydepark.org/event/performance-parish-hall/
LOCATION:St. James’ Episcopal Church\, 4526 Albany Post Rd.\, Hyde Park\, NY\, 12538\, United States
CATEGORIES:New Deal
END:VEVENT
BEGIN:VEVENT
DTSTART;TZID=America/New_York:20230729T183000
DTEND;TZID=America/New_York:20230729T193000
DTSTAMP:20260425T232452
CREATED:20230112T191110Z
LAST-MODIFIED:20231102T135511Z
UID:10001627-1690655400-1690659000@stjameshydepark.org
SUMMARY:Compline (Remote)
DESCRIPTION:
URL:https://stjameshydepark.org/event/compline-remote-3-2023-01-07/2023-07-29/
LOCATION:Online
CATEGORIES:Worship
END:VEVENT
END:VCALENDAR