BEGIN:VCALENDAR
VERSION:2.0
PRODID:-//St. James&#039; Episcopal Church - ECPv6.15.20//NONSGML v1.0//EN
CALSCALE:GREGORIAN
METHOD:PUBLISH
X-WR-CALNAME:St. James&#039; Episcopal Church
X-ORIGINAL-URL:https://stjameshydepark.org
X-WR-CALDESC:Events for St. James&#039; Episcopal Church
REFRESH-INTERVAL;VALUE=DURATION:PT1H
X-Robots-Tag:noindex
X-PUBLISHED-TTL:PT1H
BEGIN:VTIMEZONE
TZID:America/New_York
BEGIN:DAYLIGHT
TZOFFSETFROM:-0500
TZOFFSETTO:-0400
TZNAME:EDT
DTSTART:20240310T070000
END:DAYLIGHT
BEGIN:STANDARD
TZOFFSETFROM:-0400
TZOFFSETTO:-0500
TZNAME:EST
DTSTART:20241103T060000
END:STANDARD
BEGIN:DAYLIGHT
TZOFFSETFROM:-0500
TZOFFSETTO:-0400
TZNAME:EDT
DTSTART:20250309T070000
END:DAYLIGHT
BEGIN:STANDARD
TZOFFSETFROM:-0400
TZOFFSETTO:-0500
TZNAME:EST
DTSTART:20251102T060000
END:STANDARD
BEGIN:DAYLIGHT
TZOFFSETFROM:-0500
TZOFFSETTO:-0400
TZNAME:EDT
DTSTART:20260308T070000
END:DAYLIGHT
BEGIN:STANDARD
TZOFFSETFROM:-0400
TZOFFSETTO:-0500
TZNAME:EST
DTSTART:20261101T060000
END:STANDARD
BEGIN:DAYLIGHT
TZOFFSETFROM:-0500
TZOFFSETTO:-0400
TZNAME:EDT
DTSTART:20270314T070000
END:DAYLIGHT
BEGIN:STANDARD
TZOFFSETFROM:-0400
TZOFFSETTO:-0500
TZNAME:EST
DTSTART:20271107T060000
END:STANDARD
END:VTIMEZONE
BEGIN:VEVENT
DTSTART;TZID=America/New_York:20260110T093000
DTEND;TZID=America/New_York:20260110T123000
DTSTAMP:20260424T015134
CREATED:20251224T170320Z
LAST-MODIFIED:20251224T170320Z
UID:10007411-1768037400-1768048200@stjameshydepark.org
SUMMARY:[New Deal] Rehearsals (Parish Hall)
DESCRIPTION:
URL:https://stjameshydepark.org/event/new-deal-rehearsals-parish-hall-3/2026-01-10/
LOCATION:St. James’ Episcopal Church\, 4526 Albany Post Rd.\, Hyde Park\, NY\, 12538\, United States
END:VEVENT
BEGIN:VEVENT
DTSTART;TZID=America/New_York:20260109T173000
DTEND;TZID=America/New_York:20260109T190000
DTSTAMP:20260424T015134
CREATED:20251205T134804Z
LAST-MODIFIED:20260421T145747Z
UID:10007179-1767979800-1767985200@stjameshydepark.org
SUMMARY:Youth Confirmation Class (2025-2026)
DESCRIPTION:~ Youth Confirmation Class ~  \nSpring 2026 Dates \n5:30-7 PM \npizza served \n\nSecond Fridays of the Month\nFriday\, January 9\, 2026\nFriday\, February 13\, 2026\nFriday\, March 13\, 2026\nFriday\, April 10 24\, 2026 at St. James’ Hyde Park\nFriday\, May 8\, 2026 at St. Paul’s Pleasant Valley \nNightwatch at St. John the Divine\nFriday\, February 27—Saturday\, February 28 \n\nHost location rotates: \nSt. James’ Episcopal Church\n4526 Albany Post Road\, Hyde Park \nSt. Paul’s Episcopal Church\n808 Traver Road\, Pleasant Valley \nSt. Paul’s Episcopal Church\n161 Mansion Street\, Poughkeepsie
URL:https://stjameshydepark.org/event/youth-confirmation-2026/2026-01-09/
LOCATION:NY
CATEGORIES:Christian Formation,Kids & Youth
END:VEVENT
BEGIN:VEVENT
DTSTART;VALUE=DATE:20260109
DTEND;VALUE=DATE:20260110
DTSTAMP:20260424T015134
CREATED:20251224T171829Z
LAST-MODIFIED:20251224T171829Z
UID:10007426-1767916800-1768003199@stjameshydepark.org
SUMMARY:[New Deal] ASNY (Parish Hall)
DESCRIPTION:
URL:https://stjameshydepark.org/event/new-deal-asny-parish-hall/2026-01-09/
LOCATION:St. James’ Episcopal Church\, 4526 Albany Post Rd.\, Hyde Park\, NY\, 12538\, United States
END:VEVENT
BEGIN:VEVENT
DTSTART;TZID=America/New_York:20260108T180000
DTEND;TZID=America/New_York:20260108T210000
DTSTAMP:20260424T015134
CREATED:20251224T170320Z
LAST-MODIFIED:20251224T170320Z
UID:10007410-1767895200-1767906000@stjameshydepark.org
SUMMARY:[New Deal] Rehearsals (Parish Hall)
DESCRIPTION:
URL:https://stjameshydepark.org/event/new-deal-rehearsals-parish-hall-3/2026-01-08/
LOCATION:St. James’ Episcopal Church\, 4526 Albany Post Rd.\, Hyde Park\, NY\, 12538\, United States
END:VEVENT
BEGIN:VEVENT
DTSTART;VALUE=DATE:20260108
DTEND;VALUE=DATE:20260109
DTSTAMP:20260424T015134
CREATED:20251224T171829Z
LAST-MODIFIED:20251224T171829Z
UID:10007425-1767830400-1767916799@stjameshydepark.org
SUMMARY:[New Deal] ASNY (Parish Hall)
DESCRIPTION:
URL:https://stjameshydepark.org/event/new-deal-asny-parish-hall/2026-01-08/
LOCATION:St. James’ Episcopal Church\, 4526 Albany Post Rd.\, Hyde Park\, NY\, 12538\, United States
END:VEVENT
BEGIN:VEVENT
DTSTART;VALUE=DATE:20260107
DTEND;VALUE=DATE:20260108
DTSTAMP:20260424T015134
CREATED:20251224T171829Z
LAST-MODIFIED:20251224T171829Z
UID:10007424-1767744000-1767830399@stjameshydepark.org
SUMMARY:[New Deal] ASNY (Parish Hall)
DESCRIPTION:
URL:https://stjameshydepark.org/event/new-deal-asny-parish-hall/2026-01-07/
LOCATION:St. James’ Episcopal Church\, 4526 Albany Post Rd.\, Hyde Park\, NY\, 12538\, United States
END:VEVENT
BEGIN:VEVENT
DTSTART;VALUE=DATE:20260107
DTEND;VALUE=DATE:20260108
DTSTAMP:20260424T015134
CREATED:20251104T151721Z
LAST-MODIFIED:20251104T151721Z
UID:10007115-1767744000-1767830399@stjameshydepark.org
SUMMARY:Fresh Manna Church Evening Prayer and Bible Study (Chapel and Reading Room)
DESCRIPTION:
URL:https://stjameshydepark.org/event/fresh-manna-church-evening-prayer-and-bible-study-chapel-and-reading-room/2026-01-07/
LOCATION:St. James’ Chapel\, 10 East Market Street\, Hyde Park\, NY\, 12567\, United States
END:VEVENT
BEGIN:VEVENT
DTSTART;TZID=America/New_York:20260106T190000
DTEND;TZID=America/New_York:20260106T203000
DTSTAMP:20260424T015134
CREATED:20260410T130119Z
LAST-MODIFIED:20260410T130329Z
UID:10007959-1767726000-1767731400@stjameshydepark.org
SUMMARY:Boy Scout Troop 80 (Parish Hall)
DESCRIPTION:
URL:https://stjameshydepark.org/event/boyr-scout-troop-80-parish-hall/2026-01-06/
LOCATION:St. James’ Episcopal Church\, 4526 Albany Post Rd.\, Hyde Park\, NY\, 12538\, United States
END:VEVENT
BEGIN:VEVENT
DTSTART;TZID=America/New_York:20260106T190000
DTEND;TZID=America/New_York:20260106T203000
DTSTAMP:20260424T015134
CREATED:20250107T191135Z
LAST-MODIFIED:20250107T191355Z
UID:10006107-1767726000-1767731400@stjameshydepark.org
SUMMARY:Boy Scout Troop 80 (Wilks Room)
DESCRIPTION:
URL:https://stjameshydepark.org/event/boy-scout-troop-80-wilks-room/2026-01-06/
LOCATION:St. James’ Episcopal Church\, 4526 Albany Post Rd.\, Hyde Park\, NY\, 12538\, United States
END:VEVENT
BEGIN:VEVENT
DTSTART;VALUE=DATE:20260106
DTEND;VALUE=DATE:20260107
DTSTAMP:20260424T015134
CREATED:20251224T171829Z
LAST-MODIFIED:20251224T171829Z
UID:10007423-1767657600-1767743999@stjameshydepark.org
SUMMARY:[New Deal] ASNY (Parish Hall)
DESCRIPTION:
URL:https://stjameshydepark.org/event/new-deal-asny-parish-hall/2026-01-06/
LOCATION:St. James’ Episcopal Church\, 4526 Albany Post Rd.\, Hyde Park\, NY\, 12538\, United States
END:VEVENT
BEGIN:VEVENT
DTSTART;TZID=America/New_York:20260105T180000
DTEND;TZID=America/New_York:20260105T210000
DTSTAMP:20260424T015134
CREATED:20251224T170320Z
LAST-MODIFIED:20251224T170320Z
UID:10007409-1767636000-1767646800@stjameshydepark.org
SUMMARY:[New Deal] Rehearsals (Parish Hall)
DESCRIPTION:
URL:https://stjameshydepark.org/event/new-deal-rehearsals-parish-hall-3/2026-01-05/
LOCATION:St. James’ Episcopal Church\, 4526 Albany Post Rd.\, Hyde Park\, NY\, 12538\, United States
END:VEVENT
BEGIN:VEVENT
DTSTART;TZID=America/New_York:20260105T130000
DTEND;TZID=America/New_York:20260105T150000
DTSTAMP:20260424T015134
CREATED:20260113T175431Z
LAST-MODIFIED:20260123T215934Z
UID:10007666-1767618000-1767625200@stjameshydepark.org
SUMMARY:Knit + Craft + Chat (Wilks Room)
DESCRIPTION:A community of crafters and conversationalists meets Mondays from 1-3 pm (drop-in)—at St. James’ Episcopal Church in the Wilks Room of our Parish House. We are a friendly group: knitters\, embroiderers\, crocheters\, conversationalists and miscellaneous other activities. All are welcome; no previous skill is required.
URL:https://stjameshydepark.org/event/knit-craft-chat-2026/2026-01-05/
LOCATION:St. James’ Episcopal Church\, 4526 Albany Post Rd.\, Hyde Park\, NY\, 12538\, United States
CATEGORIES:Fun
ATTACH;FMTTYPE=image/png:https://stjameshydepark.org/wp-content/uploads/2024/09/Knit-Craft-Chat.png
END:VEVENT
BEGIN:VEVENT
DTSTART;TZID=America/New_York:20260104T183000
DTEND;TZID=America/New_York:20260104T210000
DTSTAMP:20260424T015134
CREATED:20260410T125621Z
LAST-MODIFIED:20260410T125621Z
UID:10007907-1767551400-1767560400@stjameshydepark.org
SUMMARY:Hyde Park Group AA (Parish Hall\, Rm. 201)
DESCRIPTION:
URL:https://stjameshydepark.org/event/hyde-park-group-aa-parish-hall-rm-201-2/2026-01-04/
LOCATION:St. James’ Episcopal Church\, 4526 Albany Post Rd.\, Hyde Park\, NY\, 12538\, United States
END:VEVENT
BEGIN:VEVENT
DTSTART;TZID=America/New_York:20260104T130000
DTEND;TZID=America/New_York:20260104T150000
DTSTAMP:20260424T015134
CREATED:20251224T170320Z
LAST-MODIFIED:20251224T170320Z
UID:10007408-1767531600-1767538800@stjameshydepark.org
SUMMARY:[New Deal] Rehearsals (Parish Hall)
DESCRIPTION:
URL:https://stjameshydepark.org/event/new-deal-rehearsals-parish-hall-3/2026-01-04/
LOCATION:St. James’ Episcopal Church\, 4526 Albany Post Rd.\, Hyde Park\, NY\, 12538\, United States
END:VEVENT
BEGIN:VEVENT
DTSTART;TZID=America/New_York:20260104T100000
DTEND;TZID=America/New_York:20260104T140000
DTSTAMP:20260424T015134
CREATED:20251104T151409Z
LAST-MODIFIED:20251209T150151Z
UID:10007089-1767520800-1767535200@stjameshydepark.org
SUMMARY:Fresh Manna Church (Chapel and Reading Room)
DESCRIPTION:
URL:https://stjameshydepark.org/event/fresh-manna-church-chapel-and-reading-room/2026-01-04/
LOCATION:St. James’ Chapel\, 10 East Market Street\, Hyde Park\, NY\, 12567\, United States
END:VEVENT
BEGIN:VEVENT
DTSTART;TZID=America/New_York:20260104T100000
DTEND;TZID=America/New_York:20260104T113000
DTSTAMP:20260424T015134
CREATED:20251220T015723Z
LAST-MODIFIED:20260402T145034Z
UID:10007284-1767520800-1767526200@stjameshydepark.org
SUMMARY:Sunday Worship—Holy Eucharist\, Rite II with Sunday School and Coffee Hour
DESCRIPTION:Join us Sundays at 10:00 a.m. for a celebration of Holy Eucharist (Communion). This service has music (usually organ and choir\, along with special guest musicians) and uses a variety of prayers and language from traditional to inclusive and expansive\, drawing from Rite II of the 1979 Book of Common Prayer\, Enriching Our Worship\, and other sources. \nCoffee hour in the Parish House usually follows this service. \nSunday School for kindergarten and up meets today on the second floor of the Parish House at 10:00 a.m. Students will rejoin the congregation just before Holy Communion. New to St. James’ Church? Your kids are welcome to Sunday School any Sunday. More details about St. James’ Sunday School at: https://stjameshydepark.org/for-children/
URL:https://stjameshydepark.org/event/sunday-worship-holy-eucharist-rite-ii-with-sunday-school-and-coffee-hour/2026-01-04/
LOCATION:St. James’ Episcopal Church\, 4526 Albany Post Rd.\, Hyde Park\, NY\, 12538\, United States
CATEGORIES:Worship
END:VEVENT
BEGIN:VEVENT
DTSTART;TZID=America/New_York:20260104T080000
DTEND;TZID=America/New_York:20260104T090000
DTSTAMP:20260424T015134
CREATED:20241219T191649Z
LAST-MODIFIED:20250325T172434Z
UID:10004583-1767513600-1767517200@stjameshydepark.org
SUMMARY:Sunday Worship—Holy Eucharist\, Rite I
DESCRIPTION:Join us Sundays at 8:00 a.m. for a celebration of Holy Eucharist (Communion). This is a quiet service\, usually without music\, though we often have a soloist with acoustic guitar playing before and after the service. The service uses Rite 1 from the 1979 Book of Common Prayer\, with traditional language.
URL:https://stjameshydepark.org/event/sunday-8am-2025/2026-01-04/
LOCATION:St. James’ Episcopal Church\, 4526 Albany Post Rd.\, Hyde Park\, NY\, 12538\, United States
CATEGORIES:Worship
END:VEVENT
BEGIN:VEVENT
DTSTART;TZID=America/New_York:20260103T093000
DTEND;TZID=America/New_York:20260103T123000
DTSTAMP:20260424T015134
CREATED:20251224T170320Z
LAST-MODIFIED:20251224T170320Z
UID:10007407-1767432600-1767443400@stjameshydepark.org
SUMMARY:[New Deal] Rehearsals (Parish Hall)
DESCRIPTION:
URL:https://stjameshydepark.org/event/new-deal-rehearsals-parish-hall-3/2026-01-03/
LOCATION:St. James’ Episcopal Church\, 4526 Albany Post Rd.\, Hyde Park\, NY\, 12538\, United States
END:VEVENT
BEGIN:VEVENT
DTSTART;TZID=America/New_York:20260103T090000
DTEND;TZID=America/New_York:20260103T150000
DTSTAMP:20260424T015134
CREATED:20251204T183648Z
LAST-MODIFIED:20251204T183648Z
UID:10007171-1767430800-1767452400@stjameshydepark.org
SUMMARY:Discernment Committee Training (Wilks Room)
DESCRIPTION:
URL:https://stjameshydepark.org/event/discernment-committee-training-wilks-room/
LOCATION:St. James’ Episcopal Church\, 4526 Albany Post Rd.\, Hyde Park\, NY\, 12538\, United States
END:VEVENT
BEGIN:VEVENT
DTSTART;TZID=America/New_York:20251231T183000
DTEND;TZID=America/New_York:20251231T190000
DTSTAMP:20260424T015134
CREATED:20241219T190934Z
LAST-MODIFIED:20241219T190934Z
UID:10004366-1767205800-1767207600@stjameshydepark.org
SUMMARY:Evening Prayer (Online)
DESCRIPTION:Join us online every Wednesday at 6:30 pm for a brief service of Evening Prayer led by Deacon Gail. Please email the parish office at stjames.hydepark@gmail.com to request the Zoom link.
URL:https://stjameshydepark.org/event/evening-prayer-2025/2025-12-31/
LOCATION:Online
CATEGORIES:Worship
END:VEVENT
BEGIN:VEVENT
DTSTART;VALUE=DATE:20251231
DTEND;VALUE=DATE:20260101
DTSTAMP:20260424T015134
CREATED:20251217T181305Z
LAST-MODIFIED:20251217T181305Z
UID:10007237-1767168000-1767200400@stjameshydepark.org
SUMMARY:Office Closed
DESCRIPTION:
URL:https://stjameshydepark.org/event/office-closed/2025-12-31/
LOCATION:St. James’ Episcopal Church\, 4526 Albany Post Rd.\, Hyde Park\, NY\, 12538\, United States
END:VEVENT
BEGIN:VEVENT
DTSTART;VALUE=DATE:20251231
DTEND;VALUE=DATE:20260101
DTSTAMP:20260424T015134
CREATED:20251104T151721Z
LAST-MODIFIED:20251104T151721Z
UID:10007114-1767139200-1767225599@stjameshydepark.org
SUMMARY:Fresh Manna Church Evening Prayer and Bible Study (Chapel and Reading Room)
DESCRIPTION:
URL:https://stjameshydepark.org/event/fresh-manna-church-evening-prayer-and-bible-study-chapel-and-reading-room/2025-12-31/
LOCATION:St. James’ Chapel\, 10 East Market Street\, Hyde Park\, NY\, 12567\, United States
END:VEVENT
BEGIN:VEVENT
DTSTART;TZID=America/New_York:20251230T190000
DTEND;TZID=America/New_York:20251230T203000
DTSTAMP:20260424T015134
CREATED:20250107T190949Z
LAST-MODIFIED:20250107T190949Z
UID:10006039-1767121200-1767126600@stjameshydepark.org
SUMMARY:Boy Scout Troop 80 (Parish Hall)
DESCRIPTION:
URL:https://stjameshydepark.org/event/boy-scout-troop-80-parish-hall/2025-12-30/
LOCATION:St. James’ Episcopal Church\, 4526 Albany Post Rd.\, Hyde Park\, NY\, 12538\, United States
END:VEVENT
BEGIN:VEVENT
DTSTART;TZID=America/New_York:20251230T100000
DTEND;TZID=America/New_York:20251230T150000
DTSTAMP:20260424T015134
CREATED:20250515T141010Z
LAST-MODIFIED:20251220T015109Z
UID:10006562-1767088800-1767106800@stjameshydepark.org
SUMMARY:Red Cross Blood Drive sponsored by St. James' Sunday School (Parish Hall)
DESCRIPTION:Our Sunday School is sponsoring a Red Cross Blood Drive on Tuesday\, December 30\, 10 am to 3 pm in the Parish Hall. \nWalk-ins are welcome or you can sign up for a slot.
URL:https://stjameshydepark.org/event/blood-drive-dec-2025/
LOCATION:St. James’ Episcopal Church\, 4526 Albany Post Rd.\, Hyde Park\, NY\, 12538\, United States
CATEGORIES:Outreach
END:VEVENT
BEGIN:VEVENT
DTSTART;TZID=America/New_York:20251230T100000
DTEND;TZID=America/New_York:20251230T113000
DTSTAMP:20260424T015134
CREATED:20251229T124723Z
LAST-MODIFIED:20251229T125415Z
UID:10007436-1767088800-1767094200@stjameshydepark.org
SUMMARY:Richard K. Wager Burial Service
DESCRIPTION:Richard Kenneth Wager\, 86\, longtime publisher of the Poughkeepsie Journal and a prominent civic leader in the Mid-Hudson Valley\, died peacefully at home on December 22\, 2025\, with his family by his side. Read his full obituary here.  \nCalling hours will be from 4 to 7 PM\, Monday December 29th at Sweet’s Funeral Home\, Rte. 9\, Hyde Park. \nFuneral services will take place at 10 AM\, Tuesday December 30th at St. James’ Episcopal Church\, 4526 Albany Post Rd.\, Hyde Park. The Rev. Meredith Kadet Sanderson will officiate. The service will also be live-streamed on St. James’ YouTube channel. \nBurial with military honors will follow in St. James’ Churchyard.
URL:https://stjameshydepark.org/event/wager-burial-2025/
LOCATION:HP Farmers Market
CATEGORIES:Funerals
END:VEVENT
BEGIN:VEVENT
DTSTART;VALUE=DATE:20251230
DTEND;VALUE=DATE:20251231
DTSTAMP:20260424T015134
CREATED:20251217T181305Z
LAST-MODIFIED:20251217T181305Z
UID:10007236-1767081600-1767114000@stjameshydepark.org
SUMMARY:Office Closed
DESCRIPTION:
URL:https://stjameshydepark.org/event/office-closed/2025-12-30/
LOCATION:St. James’ Episcopal Church\, 4526 Albany Post Rd.\, Hyde Park\, NY\, 12538\, United States
END:VEVENT
BEGIN:VEVENT
DTSTART;TZID=America/New_York:20251229T133000
DTEND;TZID=America/New_York:20251229T153000
DTSTAMP:20260424T015134
CREATED:20241110T012408Z
LAST-MODIFIED:20250708T131754Z
UID:10006893-1767015000-1767022200@stjameshydepark.org
SUMMARY:Knit+Craft+Chat (Wilks Room)
DESCRIPTION:A community of crafters and conversationalists meets Mondays from 2-4 pm (drop-in) at St. James’ Episcopal Church in the Wilks Room of our Parish House. We are a friendly group: knitters\, embroiderers\, crocheters\, conversationalists and miscellaneous other activities. All are welcome; no previous skill is required.
URL:https://stjameshydepark.org/event/knit-craft-chat-2/2025-12-29/
LOCATION:St. James’ Episcopal Church\, 4526 Albany Post Rd.\, Hyde Park\, NY\, 12538\, United States
END:VEVENT
BEGIN:VEVENT
DTSTART;TZID=America/New_York:20251228T183000
DTEND;TZID=America/New_York:20251228T210000
DTSTAMP:20260424T015134
CREATED:20250107T185818Z
LAST-MODIFIED:20250107T190058Z
UID:10005996-1766946600-1766955600@stjameshydepark.org
SUMMARY:Hyde Park Group AA (Parish Hall\, Rm. 201)
DESCRIPTION:
URL:https://stjameshydepark.org/event/hyde-park-group-aa-parish-hall-rm-201/2025-12-28/
LOCATION:St. James’ Episcopal Church\, 4526 Albany Post Rd.\, Hyde Park\, NY\, 12538\, United States
END:VEVENT
BEGIN:VEVENT
DTSTART;TZID=America/New_York:20251228T100000
DTEND;TZID=America/New_York:20251228T140000
DTSTAMP:20260424T015134
CREATED:20251104T151409Z
LAST-MODIFIED:20251209T150151Z
UID:10007088-1766916000-1766930400@stjameshydepark.org
SUMMARY:Fresh Manna Church (Chapel and Reading Room)
DESCRIPTION:
URL:https://stjameshydepark.org/event/fresh-manna-church-chapel-and-reading-room/2025-12-28/
LOCATION:St. James’ Chapel\, 10 East Market Street\, Hyde Park\, NY\, 12567\, United States
END:VEVENT
BEGIN:VEVENT
DTSTART;TZID=America/New_York:20251228T100000
DTEND;TZID=America/New_York:20251228T113000
DTSTAMP:20260424T015134
CREATED:20251220T124200Z
LAST-MODIFIED:20251220T124202Z
UID:10004530-1766916000-1766921400@stjameshydepark.org
SUMMARY:Sunday Worship—Holy Eucharist\, Rite II with Lessons & Carols for Christmas\, followed by Coffee Hour (no Sunday School today)
DESCRIPTION:Join us Sundays at 10:00 a.m. for a celebration of Holy Eucharist (Communion). This service has music (usually organ and choir\, along with special guest musicians) and uses a variety of prayers and language from traditional to inclusive and expansive\, drawing from Rite II of the 1979 Book of Common Prayer\, Enriching Our Worship\, and other sources. \nCoffee hour in the Parish House usually follows this service. \nSunday School for kindergarten and up meets today on the second floor of the Parish House at 10:00 a.m. Students will rejoin the congregation just before Holy Communion. New to St. James’ Church? Your kids are welcome to Sunday School any Sunday. More details about St. James’ Sunday School at: https://stjameshydepark.org/for-children/
URL:https://stjameshydepark.org/event/sunday-10am-2025-2/
LOCATION:St. James’ Episcopal Church\, 4526 Albany Post Rd.\, Hyde Park\, NY\, 12538\, United States
CATEGORIES:Worship
END:VEVENT
END:VCALENDAR