BEGIN:VCALENDAR
VERSION:2.0
PRODID:-//St. James&#039; Episcopal Church - ECPv6.15.20//NONSGML v1.0//EN
CALSCALE:GREGORIAN
METHOD:PUBLISH
X-WR-CALNAME:St. James&#039; Episcopal Church
X-ORIGINAL-URL:https://stjameshydepark.org
X-WR-CALDESC:Events for St. James&#039; Episcopal Church
REFRESH-INTERVAL;VALUE=DURATION:PT1H
X-Robots-Tag:noindex
X-PUBLISHED-TTL:PT1H
BEGIN:VTIMEZONE
TZID:America/New_York
BEGIN:DAYLIGHT
TZOFFSETFROM:-0500
TZOFFSETTO:-0400
TZNAME:EDT
DTSTART:20230312T070000
END:DAYLIGHT
BEGIN:STANDARD
TZOFFSETFROM:-0400
TZOFFSETTO:-0500
TZNAME:EST
DTSTART:20231105T060000
END:STANDARD
BEGIN:DAYLIGHT
TZOFFSETFROM:-0500
TZOFFSETTO:-0400
TZNAME:EDT
DTSTART:20240310T070000
END:DAYLIGHT
BEGIN:STANDARD
TZOFFSETFROM:-0400
TZOFFSETTO:-0500
TZNAME:EST
DTSTART:20241103T060000
END:STANDARD
BEGIN:DAYLIGHT
TZOFFSETFROM:-0500
TZOFFSETTO:-0400
TZNAME:EDT
DTSTART:20250309T070000
END:DAYLIGHT
BEGIN:STANDARD
TZOFFSETFROM:-0400
TZOFFSETTO:-0500
TZNAME:EST
DTSTART:20251102T060000
END:STANDARD
END:VTIMEZONE
BEGIN:VEVENT
DTSTART;TZID=America/New_York:20240526T183000
DTEND;TZID=America/New_York:20240526T220000
DTSTAMP:20260425T093524
CREATED:20230622T132525Z
LAST-MODIFIED:20240112T181743Z
UID:10002112-1716748200-1716760800@stjameshydepark.org
SUMMARY:AA Ind. Anniversary (Parish Hall)
DESCRIPTION:
URL:https://stjameshydepark.org/event/aa-ind-anniversary-parish-hall/2024-05-26/
LOCATION:St. James’ Episcopal Church\, 4526 Albany Post Rd.\, Hyde Park\, NY\, 12538\, United States
END:VEVENT
BEGIN:VEVENT
DTSTART;TZID=America/New_York:20240526T100000
DTEND;TZID=America/New_York:20240526T130000
DTSTAMP:20260425T093524
CREATED:20240521T140811Z
LAST-MODIFIED:20240521T141925Z
UID:10002748-1716717600-1716728400@stjameshydepark.org
SUMMARY:Outdoor Church with Guest Preacher the Very Rev. Gary C. Hall and Parish Picnic
DESCRIPTION:On Memorial Day weekend\, we’ll have a special Sunday worship service. \nWeather permitting\, church will be outdoors\, with hymns accompanied by guitar\, sax\, and bass. \nWe’ll be worshipping together with our sister church\, St. Margaret’s in Staatsburg\, and we’ll have a special guest preacher—the Very Rev. Gary C. Hall\, former dean of the Washington National Cathedral. \nSunday School for our kiddos will be outside\, too! We’ll have fun planning some prayers for our Youth Sunday service in June. \nAfter church we’ll enjoy a parish picnic and games on the lawn. \nIf you can\, please bring: \n\nA comfortable lawn chair (some chairs will be provided)\nA dish to share at the picnic\nA favorite outdoor game to play\n\nAnd if you can’t\, please come anyway!
URL:https://stjameshydepark.org/event/2024-parish-picnic/
LOCATION:St. James’ Episcopal Church\, 4526 Albany Post Rd.\, Hyde Park\, NY\, 12538\, United States
CATEGORIES:Fun,Worship
END:VEVENT
BEGIN:VEVENT
DTSTART;TZID=America/New_York:20240525T183000
DTEND;TZID=America/New_York:20240525T193000
DTSTAMP:20260425T093524
CREATED:20240112T175527Z
LAST-MODIFIED:20240112T175653Z
UID:10003133-1716661800-1716665400@stjameshydepark.org
SUMMARY:Compline (Remote)
DESCRIPTION:
URL:https://stjameshydepark.org/event/compline-remote-3-2023-01-07-2/2024-05-25/
LOCATION:Online
CATEGORIES:Worship
END:VEVENT
BEGIN:VEVENT
DTSTART;TZID=America/New_York:20240525T100000
DTEND;TZID=America/New_York:20240525T140000
DTSTAMP:20260425T093524
CREATED:20240522T150443Z
LAST-MODIFIED:20240522T150443Z
UID:10003779-1716631200-1716645600@stjameshydepark.org
SUMMARY:[New Deal] "Chicago" Rehearsal (Parish Hall)
DESCRIPTION:
URL:https://stjameshydepark.org/event/new-deal-chicago-rehearsal-parish-hall/
LOCATION:St. James’ Episcopal Church\, 4526 Albany Post Rd.\, Hyde Park\, NY\, 12538\, United States
CATEGORIES:New Deal
END:VEVENT
BEGIN:VEVENT
DTSTART;TZID=America/New_York:20240522T190000
DTEND;TZID=America/New_York:20240522T210000
DTSTAMP:20260425T093524
CREATED:20240117T162621Z
LAST-MODIFIED:20240117T211034Z
UID:10003343-1716404400-1716411600@stjameshydepark.org
SUMMARY:Vestry Meeting (Wilks Room)
DESCRIPTION:
URL:https://stjameshydepark.org/event/vestry-meetings-2024/2024-05-22/
LOCATION:St. James’ Episcopal Church\, 4526 Albany Post Rd.\, Hyde Park\, NY\, 12538\, United States
CATEGORIES:General
END:VEVENT
BEGIN:VEVENT
DTSTART;TZID=America/New_York:20240522T183000
DTEND;TZID=America/New_York:20240522T193000
DTSTAMP:20260425T093524
CREATED:20240112T175112Z
LAST-MODIFIED:20240112T175307Z
UID:10003083-1716402600-1716406200@stjameshydepark.org
SUMMARY:Evening Prayer (Remote)
DESCRIPTION:
URL:https://stjameshydepark.org/event/evening-prayer-remote-2-2/2024-05-22/
LOCATION:Online
CATEGORIES:Worship
END:VEVENT
BEGIN:VEVENT
DTSTART;TZID=America/New_York:20240522T110000
DTEND;TZID=America/New_York:20240522T120000
DTSTAMP:20260425T093524
CREATED:20240518T232627Z
LAST-MODIFIED:20240518T232629Z
UID:10003421-1716375600-1716379200@stjameshydepark.org
SUMMARY:No Bible Study May 22nd
DESCRIPTION:Our weekly Bible study on Zoom usually focuses on the Gospel for the upcoming Sunday and is led by Mtr. Meredith. We practice a contemplative\, prayerful style of Bible study that focuses on how God is speaking to us through our questions\, responses\, curiosities and doubts as we engage Scripture.  \nThe study is followed by a brief\, optional service of noonday prayer. \nJoin in any Wednesday at 11 am. No previous preparation is required. The Zoom link is distributed via our weekly email newsletter (or contact the parish office). \n 
URL:https://stjameshydepark.org/event/bible-study-2024-5/
LOCATION:Online
CATEGORIES:Christian Formation
ATTACH;FMTTYPE=image/png:https://stjameshydepark.org/wp-content/uploads/2024/05/Bible-Study.png
END:VEVENT
BEGIN:VEVENT
DTSTART;TZID=America/New_York:20240521T190000
DTEND;TZID=America/New_York:20240521T200000
DTSTAMP:20260425T093524
CREATED:20240112T173633Z
LAST-MODIFIED:20240216T165320Z
UID:10003032-1716318000-1716321600@stjameshydepark.org
SUMMARY:Boy Scouts Troop 80 (Parish Hall)
DESCRIPTION:
URL:https://stjameshydepark.org/event/boy-scouts-troop-80-parish-hall-rm-203-2-2/2024-05-21/
LOCATION:St. James’ Episcopal Church\, 4526 Albany Post Rd.\, Hyde Park\, NY\, 12538\, United States
CATEGORIES:General
END:VEVENT
BEGIN:VEVENT
DTSTART;TZID=America/New_York:20240520T191500
DTEND;TZID=America/New_York:20240520T201500
DTSTAMP:20260425T093524
CREATED:20240216T171540Z
LAST-MODIFIED:20240218T205643Z
UID:10003513-1716232500-1716236100@stjameshydepark.org
SUMMARY:[New Deal] Book Club (Classrooms)
DESCRIPTION:
URL:https://stjameshydepark.org/event/book-club-classrooms-2/
LOCATION:St. James’ Episcopal Church\, 4526 Albany Post Rd.\, Hyde Park\, NY\, 12538\, United States
CATEGORIES:New Deal
END:VEVENT
BEGIN:VEVENT
DTSTART;TZID=America/New_York:20240520T180000
DTEND;TZID=America/New_York:20240520T193000
DTSTAMP:20260425T093524
CREATED:20240515T185933Z
LAST-MODIFIED:20240515T185933Z
UID:10003778-1716228000-1716233400@stjameshydepark.org
SUMMARY:Men's Gathering (Antonella's Restaurant)
DESCRIPTION:All welcome! Join in Monday\, May 20th at 6 pm in the back room of Antonella’s Restaurant. Questions? Please see Joe Gasparini (call/text 845-475-4717) or Mike Glancey.
URL:https://stjameshydepark.org/event/mens-gathering-2024-may/
LOCATION:Antonella’s Restaurant\, Hyde Park\, NY\, 4246 Albany Post Rd #1700\, Hyde Park\, NY\, 12538\, United States
CATEGORIES:Fun
END:VEVENT
BEGIN:VEVENT
DTSTART;TZID=America/New_York:20240520T140000
DTEND;TZID=America/New_York:20240520T160000
DTSTAMP:20260425T093524
CREATED:20240112T141137Z
LAST-MODIFIED:20241009T191510Z
UID:10002916-1716213600-1716220800@stjameshydepark.org
SUMMARY:Knitters and Crafters Group (Wilks Room)
DESCRIPTION:A New Group! A community of crafters begins on Mondays starting February 5\, from 2- 4 pm (drop-in). \nAll are welcome: knitters\, crocheters\, embroiderers\, crocheters\, conversationalists and miscellaneous other activities. No particular talent required. Meet in the Wilks Room at St. James Parish Hall.
URL:https://stjameshydepark.org/event/knitters-crafters/2024-05-20/
LOCATION:St. James’ Episcopal Church\, 4526 Albany Post Rd.\, Hyde Park\, NY\, 12538\, United States
CATEGORIES:Fun
END:VEVENT
BEGIN:VEVENT
DTSTART;VALUE=DATE:20240520
DTEND;VALUE=DATE:20240521
DTSTAMP:20260425T093524
CREATED:20240112T172541Z
LAST-MODIFIED:20240112T172541Z
UID:10002969-1716163200-1716249599@stjameshydepark.org
SUMMARY:Parish Office Closed
DESCRIPTION:
URL:https://stjameshydepark.org/event/parish-office-closed-4/2024-05-20/
LOCATION:St. James’ Episcopal Church\, 4526 Albany Post Rd.\, Hyde Park\, NY\, 12538\, United States
CATEGORIES:General
END:VEVENT
BEGIN:VEVENT
DTSTART;TZID=America/New_York:20240519T183000
DTEND;TZID=America/New_York:20240519T210000
DTSTAMP:20260425T093524
CREATED:20240112T181055Z
LAST-MODIFIED:20241001T152045Z
UID:10003246-1716143400-1716152400@stjameshydepark.org
SUMMARY:AA Meeting (Parish Hall; Rm. 201)
DESCRIPTION:
URL:https://stjameshydepark.org/event/aa-meeting-parish-hall-rm-201-2/2024-05-19/
LOCATION:St. James’ Episcopal Church\, 4526 Albany Post Rd.\, Hyde Park\, NY\, 12538\, United States
CATEGORIES:General
END:VEVENT
BEGIN:VEVENT
DTSTART;TZID=America/New_York:20240519T100000
DTEND;TZID=America/New_York:20240519T113000
DTSTAMP:20260425T093524
CREATED:20231222T014951Z
LAST-MODIFIED:20231222T014951Z
UID:10002747-1716112800-1716118200@stjameshydepark.org
SUMMARY:Holy Eucharist (Rite II) with Sunday School and Coffee Hour
DESCRIPTION:Join us Sundays at 10:00 a.m. for a celebration of Holy Eucharist (Communion). This service has music (usually organ and choir\, along with special guest musicians) and uses a variety of prayers and language from traditional to inclusive and expansive\, drawing from Rite II of the 1979 Book of Common Prayer\, Enriching Our Worship\, and other sources. \nCoffee hour in the Parish House usually follows this service. \nSunday School for kindergarten and up meets today on the second floor of the Parish House at 10:00 a.m. Students will rejoin the congregation just before Holy Communion. New to St. James’ Church? Your kids are welcome to Sunday School any Sunday. More details about St. James’ Sunday School at: https://stjameshydepark.org/for-children/
URL:https://stjameshydepark.org/event/2024-eucharist-rite-ii/2024-05-19/
LOCATION:St. James’ Episcopal Church\, 4526 Albany Post Rd.\, Hyde Park\, NY\, 12538\, United States
CATEGORIES:Worship
END:VEVENT
BEGIN:VEVENT
DTSTART;TZID=America/New_York:20240519T080000
DTEND;TZID=America/New_York:20240519T090000
DTSTAMP:20260425T093524
CREATED:20231222T015421Z
LAST-MODIFIED:20241213T230031Z
UID:10002851-1716105600-1716109200@stjameshydepark.org
SUMMARY:Holy Eucharist (Rite I)
DESCRIPTION:Join us Sundays at 8:00 a.m. for a celebration of Holy Eucharist (Communion). This is a quiet service\, usually without music\, though we often have a soloist with acoustic guitar playing before and after the service. The service uses Rite 1 from the 1979 Book of Common Prayer\, with traditional language.
URL:https://stjameshydepark.org/event/2024-eucharist-8am/2024-05-19/
LOCATION:St. James’ Episcopal Church\, 4526 Albany Post Rd.\, Hyde Park\, NY\, 12538\, United States
CATEGORIES:Worship
END:VEVENT
BEGIN:VEVENT
DTSTART;TZID=America/New_York:20240518T183000
DTEND;TZID=America/New_York:20240518T193000
DTSTAMP:20260425T093524
CREATED:20240112T175527Z
LAST-MODIFIED:20240112T175653Z
UID:10003132-1716057000-1716060600@stjameshydepark.org
SUMMARY:Compline (Remote)
DESCRIPTION:
URL:https://stjameshydepark.org/event/compline-remote-3-2023-01-07-2/2024-05-18/
LOCATION:Online
CATEGORIES:Worship
END:VEVENT
BEGIN:VEVENT
DTSTART;TZID=America/New_York:20240518T100000
DTEND;TZID=America/New_York:20240518T160000
DTSTAMP:20260425T093524
CREATED:20240314T144141Z
LAST-MODIFIED:20240423T173526Z
UID:10003622-1716026400-1716048000@stjameshydepark.org
SUMMARY:[New Deal] "Chicago" Rehearsal (Parish Hall)
DESCRIPTION:
URL:https://stjameshydepark.org/event/new-deal-chicago-parish-hall/2024-05-18/
LOCATION:St. James’ Episcopal Church\, 4526 Albany Post Rd.\, Hyde Park\, NY\, 12538\, United States
CATEGORIES:New Deal
END:VEVENT
BEGIN:VEVENT
DTSTART;TZID=America/New_York:20240517T100000
DTEND;TZID=America/New_York:20240517T170000
DTSTAMP:20260425T093524
CREATED:20240515T185727Z
LAST-MODIFIED:20240515T185728Z
UID:10003776-1715940000-1715965200@stjameshydepark.org
SUMMARY:Co-Working (Wilks Room)
DESCRIPTION:
URL:https://stjameshydepark.org/event/co-working-wilks-room-2/2024-05-17/
LOCATION:St. James’ Episcopal Church\, 4526 Albany Post Rd.\, Hyde Park\, NY\, 12538\, United States
END:VEVENT
BEGIN:VEVENT
DTSTART;VALUE=DATE:20240517
DTEND;VALUE=DATE:20240518
DTSTAMP:20260425T093525
CREATED:20240423T180502Z
LAST-MODIFIED:20240423T181042Z
UID:10003768-1715904000-1715990399@stjameshydepark.org
SUMMARY:Parish Office Closed
DESCRIPTION:The Office will be closed due to the Office Manager’s vacation.  Email and phone messages will be checked periodically.
URL:https://stjameshydepark.org/event/parish-office-closed-5/2024-05-17/
LOCATION:St. James’ Episcopal Church\, 4526 Albany Post Rd.\, Hyde Park\, NY\, 12538\, United States
END:VEVENT
BEGIN:VEVENT
DTSTART;TZID=America/New_York:20240516T190000
DTEND;TZID=America/New_York:20240516T210000
DTSTAMP:20260425T093525
CREATED:20240515T185817Z
LAST-MODIFIED:20240515T185817Z
UID:10003777-1715886000-1715893200@stjameshydepark.org
SUMMARY:Vestry Working Group Meeting (Wilks Room)
DESCRIPTION:
URL:https://stjameshydepark.org/event/vestry-working-group-meeting-wilks-room-2/
LOCATION:HP Farmers Market
CATEGORIES:Governance
END:VEVENT
BEGIN:VEVENT
DTSTART;VALUE=DATE:20240516
DTEND;VALUE=DATE:20240517
DTSTAMP:20260425T093525
CREATED:20240423T180502Z
LAST-MODIFIED:20240423T181042Z
UID:10003767-1715817600-1715903999@stjameshydepark.org
SUMMARY:Parish Office Closed
DESCRIPTION:The Office will be closed due to the Office Manager’s vacation.  Email and phone messages will be checked periodically.
URL:https://stjameshydepark.org/event/parish-office-closed-5/2024-05-16/
LOCATION:St. James’ Episcopal Church\, 4526 Albany Post Rd.\, Hyde Park\, NY\, 12538\, United States
END:VEVENT
BEGIN:VEVENT
DTSTART;TZID=America/New_York:20240515T183000
DTEND;TZID=America/New_York:20240515T203000
DTSTAMP:20260425T093525
CREATED:20240117T191804Z
LAST-MODIFIED:20240117T193049Z
UID:10003357-1715797800-1715805000@stjameshydepark.org
SUMMARY:Outreach Meeting (Wilks Room)
DESCRIPTION:
URL:https://stjameshydepark.org/event/outreach-meeting-wilks-room/2024-05-15/
LOCATION:St. James’ Episcopal Church\, 4526 Albany Post Rd.\, Hyde Park\, NY\, 12538\, United States
CATEGORIES:Outreach
END:VEVENT
BEGIN:VEVENT
DTSTART;TZID=America/New_York:20240515T183000
DTEND;TZID=America/New_York:20240515T193000
DTSTAMP:20260425T093525
CREATED:20240112T175112Z
LAST-MODIFIED:20240112T175307Z
UID:10003082-1715797800-1715801400@stjameshydepark.org
SUMMARY:Evening Prayer (Remote)
DESCRIPTION:
URL:https://stjameshydepark.org/event/evening-prayer-remote-2-2/2024-05-15/
LOCATION:Online
CATEGORIES:Worship
END:VEVENT
BEGIN:VEVENT
DTSTART;TZID=America/New_York:20240515T110000
DTEND;TZID=America/New_York:20240515T120000
DTSTAMP:20260425T093525
CREATED:20240203T231706Z
LAST-MODIFIED:20240508T020856Z
UID:10003420-1715770800-1715774400@stjameshydepark.org
SUMMARY:Bible Study
DESCRIPTION:Our weekly Bible study on Zoom usually focuses on the Gospel for the upcoming Sunday and is led by Mtr. Meredith. We practice a contemplative\, prayerful style of Bible study that focuses on how God is speaking to us through our questions\, responses\, curiosities and doubts as we engage Scripture.  \nThe study is followed by a brief\, optional service of noonday prayer. \nJoin in any Wednesday at 11 am. No previous preparation is required. The Zoom link is distributed via our weekly email newsletter (or contact the parish office). \n 
URL:https://stjameshydepark.org/event/bible-study-2024/2024-05-15/
LOCATION:Online
CATEGORIES:Christian Formation
ATTACH;FMTTYPE=image/png:https://stjameshydepark.org/wp-content/uploads/2024/05/Bible-Study.png
END:VEVENT
BEGIN:VEVENT
DTSTART;TZID=America/New_York:20240515T100000
DTEND;TZID=America/New_York:20240515T130000
DTSTAMP:20260425T093525
CREATED:20240515T185727Z
LAST-MODIFIED:20240515T185728Z
UID:10003775-1715767200-1715778000@stjameshydepark.org
SUMMARY:Co-Working (Wilks Room)
DESCRIPTION:
URL:https://stjameshydepark.org/event/co-working-wilks-room-2/2024-05-15/
LOCATION:St. James’ Episcopal Church\, 4526 Albany Post Rd.\, Hyde Park\, NY\, 12538\, United States
END:VEVENT
BEGIN:VEVENT
DTSTART;VALUE=DATE:20240515
DTEND;VALUE=DATE:20240516
DTSTAMP:20260425T093525
CREATED:20240423T180502Z
LAST-MODIFIED:20240423T181042Z
UID:10003766-1715731200-1715817599@stjameshydepark.org
SUMMARY:Parish Office Closed
DESCRIPTION:The Office will be closed due to the Office Manager’s vacation.  Email and phone messages will be checked periodically.
URL:https://stjameshydepark.org/event/parish-office-closed-5/2024-05-15/
LOCATION:St. James’ Episcopal Church\, 4526 Albany Post Rd.\, Hyde Park\, NY\, 12538\, United States
END:VEVENT
BEGIN:VEVENT
DTSTART;TZID=America/New_York:20240514T190000
DTEND;TZID=America/New_York:20240514T200000
DTSTAMP:20260425T093525
CREATED:20240112T173633Z
LAST-MODIFIED:20240216T165320Z
UID:10003031-1715713200-1715716800@stjameshydepark.org
SUMMARY:Boy Scouts Troop 80 (Parish Hall)
DESCRIPTION:
URL:https://stjameshydepark.org/event/boy-scouts-troop-80-parish-hall-rm-203-2-2/2024-05-14/
LOCATION:St. James’ Episcopal Church\, 4526 Albany Post Rd.\, Hyde Park\, NY\, 12538\, United States
CATEGORIES:General
END:VEVENT
BEGIN:VEVENT
DTSTART;TZID=America/New_York:20240514T180000
DTEND;TZID=America/New_York:20240514T200000
DTSTAMP:20260425T093525
CREATED:20240216T174259Z
LAST-MODIFIED:20240317T170047Z
UID:10003615-1715709600-1715716800@stjameshydepark.org
SUMMARY:[New Deal] "Chicago" Rehearsal (Classrooms)
DESCRIPTION:
URL:https://stjameshydepark.org/event/chicago-classrooms/2024-05-14/
LOCATION:St. James’ Episcopal Church\, 4526 Albany Post Rd.\, Hyde Park\, NY\, 12538\, United States
CATEGORIES:New Deal
END:VEVENT
BEGIN:VEVENT
DTSTART;VALUE=DATE:20240514
DTEND;VALUE=DATE:20240515
DTSTAMP:20260425T093525
CREATED:20240423T180502Z
LAST-MODIFIED:20240423T181042Z
UID:10003765-1715644800-1715731199@stjameshydepark.org
SUMMARY:Parish Office Closed
DESCRIPTION:The Office will be closed due to the Office Manager’s vacation.  Email and phone messages will be checked periodically.
URL:https://stjameshydepark.org/event/parish-office-closed-5/2024-05-14/
LOCATION:St. James’ Episcopal Church\, 4526 Albany Post Rd.\, Hyde Park\, NY\, 12538\, United States
END:VEVENT
BEGIN:VEVENT
DTSTART;TZID=America/New_York:20240513T190000
DTEND;TZID=America/New_York:20240513T210000
DTSTAMP:20260425T093525
CREATED:20240124T135641Z
LAST-MODIFIED:20240815T140901Z
UID:10003916-1715626800-1715634000@stjameshydepark.org
SUMMARY:Girl Scout Troop 10015 Meeting (Parish Hall)
DESCRIPTION:
URL:https://stjameshydepark.org/event/girl-scout-troop-10015-meeting-parish-hall-4/2024-05-13/
LOCATION:St. James’ Episcopal Church\, 4526 Albany Post Rd.\, Hyde Park\, NY\, 12538\, United States
CATEGORIES:General
END:VEVENT
END:VCALENDAR