BEGIN:VCALENDAR
VERSION:2.0
PRODID:-//St. James&#039; Episcopal Church - ECPv6.15.20//NONSGML v1.0//EN
CALSCALE:GREGORIAN
METHOD:PUBLISH
X-WR-CALNAME:St. James&#039; Episcopal Church
X-ORIGINAL-URL:https://stjameshydepark.org
X-WR-CALDESC:Events for St. James&#039; Episcopal Church
REFRESH-INTERVAL;VALUE=DURATION:PT1H
X-Robots-Tag:noindex
X-PUBLISHED-TTL:PT1H
BEGIN:VTIMEZONE
TZID:America/New_York
BEGIN:DAYLIGHT
TZOFFSETFROM:-0500
TZOFFSETTO:-0400
TZNAME:EDT
DTSTART:20220313T070000
END:DAYLIGHT
BEGIN:STANDARD
TZOFFSETFROM:-0400
TZOFFSETTO:-0500
TZNAME:EST
DTSTART:20221106T060000
END:STANDARD
BEGIN:DAYLIGHT
TZOFFSETFROM:-0500
TZOFFSETTO:-0400
TZNAME:EDT
DTSTART:20230312T070000
END:DAYLIGHT
BEGIN:STANDARD
TZOFFSETFROM:-0400
TZOFFSETTO:-0500
TZNAME:EST
DTSTART:20231105T060000
END:STANDARD
BEGIN:DAYLIGHT
TZOFFSETFROM:-0500
TZOFFSETTO:-0400
TZNAME:EDT
DTSTART:20240310T070000
END:DAYLIGHT
BEGIN:STANDARD
TZOFFSETFROM:-0400
TZOFFSETTO:-0500
TZNAME:EST
DTSTART:20241103T060000
END:STANDARD
END:VTIMEZONE
BEGIN:VEVENT
DTSTART;TZID=America/New_York:20231206T183000
DTEND;TZID=America/New_York:20231206T193000
DTSTAMP:20260425T221350
CREATED:20230112T192240Z
LAST-MODIFIED:20230926T155941Z
UID:10001828-1701887400-1701891000@stjameshydepark.org
SUMMARY:Evening Prayer (Remote)
DESCRIPTION:
URL:https://stjameshydepark.org/event/evening-prayer-remote-2/2023-12-06/
LOCATION:Online
CATEGORIES:Worship
END:VEVENT
BEGIN:VEVENT
DTSTART;TZID=America/New_York:20231206T110000
DTEND;TZID=America/New_York:20231206T120000
DTSTAMP:20260425T221350
CREATED:20220329T172814Z
LAST-MODIFIED:20230112T193257Z
UID:10001847-1701860400-1701864000@stjameshydepark.org
SUMMARY:Bible Study (Zoom)
DESCRIPTION:Our weekly Bible study takes place on Zoom! Join in every Wednesday at 11 a.m. for prayer\, conversation and reflection on the readings for the upcoming Sunday. The Zoom link will be distributed via our Google Group\, or contact the parish office. 
URL:https://stjameshydepark.org/event/bible-study-2023-02-15-2023-09-13/2023-12-06/
LOCATION:Online
CATEGORIES:General
END:VEVENT
BEGIN:VEVENT
DTSTART;TZID=America/New_York:20231205T190000
DTEND;TZID=America/New_York:20231205T200000
DTSTAMP:20260425T221350
CREATED:20230113T151213Z
LAST-MODIFIED:20230316T161002Z
UID:10001890-1701802800-1701806400@stjameshydepark.org
SUMMARY:Boy Scouts Troop 80 (Parish Hall; Rm. 203)
DESCRIPTION:
URL:https://stjameshydepark.org/event/boy-scouts-troop-80-parish-hall-rm-203-2/2023-12-05/
LOCATION:St. James’ Episcopal Church\, 4526 Albany Post Rd.\, Hyde Park\, NY\, 12538\, United States
END:VEVENT
BEGIN:VEVENT
DTSTART;TZID=America/New_York:20231204T193000
DTEND;TZID=America/New_York:20231204T210000
DTSTAMP:20260425T221350
CREATED:20220220T004423Z
LAST-MODIFIED:20240124T135234Z
UID:10002714-1701718200-1701723600@stjameshydepark.org
SUMMARY:Girl Scout Troop 10015 Meeting (Parish Hall)
DESCRIPTION:
URL:https://stjameshydepark.org/event/girl-scout-troop-10015-meeting-parish-hall/2023-12-04/
LOCATION:St. James’ Episcopal Church\, 4526 Albany Post Rd.\, Hyde Park\, NY\, 12538\, United States
CATEGORIES:General
END:VEVENT
BEGIN:VEVENT
DTSTART;VALUE=DATE:20231204
DTEND;VALUE=DATE:20231205
DTSTAMP:20260425T221350
CREATED:20220329T204444Z
LAST-MODIFIED:20230112T190336Z
UID:10001208-1701648000-1701734399@stjameshydepark.org
SUMMARY:Parish Office Closed
DESCRIPTION:
URL:https://stjameshydepark.org/event/parish-office-closed-2/2023-12-04/
LOCATION:NY
CATEGORIES:General
END:VEVENT
BEGIN:VEVENT
DTSTART;TZID=America/New_York:20231203T183000
DTEND;TZID=America/New_York:20231203T210000
DTSTAMP:20260425T221350
CREATED:20230315T174027Z
LAST-MODIFIED:20231108T151435Z
UID:10001980-1701628200-1701637200@stjameshydepark.org
SUMMARY:AA Meeting (Parish Hall; Rm. 201)
DESCRIPTION:
URL:https://stjameshydepark.org/event/aa-meeting-parish-hall-rm-201/2023-12-03/
LOCATION:St. James’ Episcopal Church\, 4526 Albany Post Rd.\, Hyde Park\, NY\, 12538\, United States
END:VEVENT
BEGIN:VEVENT
DTSTART;TZID=America/New_York:20231203T100000
DTEND;TZID=America/New_York:20231203T110000
DTSTAMP:20260425T221350
CREATED:20230709T232511Z
LAST-MODIFIED:20231025T142412Z
UID:10002136-1701597600-1701601200@stjameshydepark.org
SUMMARY:Holy Eucharist (Rite II) with Sunday School and Coffee Hour
DESCRIPTION:Join us Sundays at 10:00 a.m. for a celebration of Holy Eucharist (Communion). This service has music (usually organ and choir\, along with special guest musicians) and uses a variety of prayers and language from traditional to inclusive and expansive\, drawing from Rite II of the 1979 Book of Common Prayer\, Enriching Our Worship\, and other sources. Coffee hour in the Parish House usually follows this service. \nSunday School for kindergarten and up meets today on the second floor of the Parish House at 10:00 a.m. Students will rejoin the congregation just before Holy Communion. New to St. James’? Your kids are welcome to Sunday School any Sunday. More details about St. James’ Sunday School at: https://stjameshydepark.org/for-children/
URL:https://stjameshydepark.org/event/holy-eucharist-ii-fall-2023/2023-12-03/
LOCATION:St. James’ Episcopal Church\, 4526 Albany Post Rd.\, Hyde Park\, NY\, 12538\, United States
CATEGORIES:Worship
END:VEVENT
BEGIN:VEVENT
DTSTART;TZID=America/New_York:20231203T090000
DTEND;TZID=America/New_York:20231203T100000
DTSTAMP:20260425T221350
CREATED:20231122T151238Z
LAST-MODIFIED:20231122T172202Z
UID:10002722-1701594000-1701597600@stjameshydepark.org
SUMMARY:Stewardship Breakfast (Parish Hall)
DESCRIPTION:Celebrate St. James’ at a special Stewardship Breakfast hosted by the Vestry (governing board)! Sunday\, December 3rd at 9 am (between our 8 and 10 am services) in the Parish Hall. ALL are welcome! \nDecember 3rd is the First Sunday of Advent and our “ingathering” day for members’ 2024 giving estimates (pledges). Your pledge to St. James’ shows your support and love for this community we build together\, and allows us to create a meaningful budget for shared ministry in the year ahead.
URL:https://stjameshydepark.org/event/stewardship-breakfast/
LOCATION:St. James’ Episcopal Church\, 4526 Albany Post Rd.\, Hyde Park\, NY\, 12538\, United States
CATEGORIES:One Time Event
ATTACH;FMTTYPE=image/png:https://stjameshydepark.org/wp-content/uploads/2023/11/Stewardship-Breakfast.png
END:VEVENT
BEGIN:VEVENT
DTSTART;TZID=America/New_York:20231203T080000
DTEND;TZID=America/New_York:20231203T090000
DTSTAMP:20260425T221350
CREATED:20230110T171732Z
LAST-MODIFIED:20230709T232408Z
UID:10001576-1701590400-1701594000@stjameshydepark.org
SUMMARY:Holy Eucharist (Rite I)
DESCRIPTION:Join us Sundays at 8:00 a.m. for a celebration of Holy Eucharist (Communion). This is a quiet service\, usually without music\, though we often have a soloist with acoustic guitar playing before and after the service. The service uses Rite 1 from the 1979 Book of Common Prayer\, with traditional language.
URL:https://stjameshydepark.org/event/holy-eucharist-rite-i-2023-05-28/2023-12-03/
LOCATION:St. James’ Episcopal Church\, 4526 Albany Post Rd.\, Hyde Park\, NY\, 12538\, United States
CATEGORIES:Worship
END:VEVENT
BEGIN:VEVENT
DTSTART;TZID=America/New_York:20231202T183000
DTEND;TZID=America/New_York:20231202T193000
DTSTAMP:20260425T221350
CREATED:20230112T191110Z
LAST-MODIFIED:20231102T135511Z
UID:10001645-1701541800-1701545400@stjameshydepark.org
SUMMARY:Compline (Remote)
DESCRIPTION:
URL:https://stjameshydepark.org/event/compline-remote-3-2023-01-07/2023-12-02/
LOCATION:Online
CATEGORIES:Worship
END:VEVENT
BEGIN:VEVENT
DTSTART;TZID=America/New_York:20231202T093000
DTEND;TZID=America/New_York:20231202T110000
DTSTAMP:20260425T221350
CREATED:20231122T160749Z
LAST-MODIFIED:20231122T160749Z
UID:10002723-1701509400-1701514800@stjameshydepark.org
SUMMARY:Altar Guild Meeting (Church)
DESCRIPTION:
URL:https://stjameshydepark.org/event/altar-guild-meeting-church/
LOCATION:St. James’ Episcopal Church\, 4526 Albany Post Rd.\, Hyde Park\, NY\, 12538\, United States
CATEGORIES:General
END:VEVENT
BEGIN:VEVENT
DTSTART;TZID=America/New_York:20231129T183000
DTEND;TZID=America/New_York:20231129T193000
DTSTAMP:20260425T221350
CREATED:20230112T192240Z
LAST-MODIFIED:20230926T155941Z
UID:10001827-1701282600-1701286200@stjameshydepark.org
SUMMARY:Evening Prayer (Remote)
DESCRIPTION:
URL:https://stjameshydepark.org/event/evening-prayer-remote-2/2023-11-29/
LOCATION:Online
CATEGORIES:Worship
END:VEVENT
BEGIN:VEVENT
DTSTART;TZID=America/New_York:20231129T110000
DTEND;TZID=America/New_York:20231129T120000
DTSTAMP:20260425T221350
CREATED:20220329T172814Z
LAST-MODIFIED:20230112T193257Z
UID:10001846-1701255600-1701259200@stjameshydepark.org
SUMMARY:Bible Study (Zoom)
DESCRIPTION:Our weekly Bible study takes place on Zoom! Join in every Wednesday at 11 a.m. for prayer\, conversation and reflection on the readings for the upcoming Sunday. The Zoom link will be distributed via our Google Group\, or contact the parish office. 
URL:https://stjameshydepark.org/event/bible-study-2023-02-15-2023-09-13/2023-11-29/
LOCATION:Online
CATEGORIES:General
END:VEVENT
BEGIN:VEVENT
DTSTART;TZID=America/New_York:20231128T190000
DTEND;TZID=America/New_York:20231128T200000
DTSTAMP:20260425T221350
CREATED:20230113T151213Z
LAST-MODIFIED:20230316T161002Z
UID:10001889-1701198000-1701201600@stjameshydepark.org
SUMMARY:Boy Scouts Troop 80 (Parish Hall; Rm. 203)
DESCRIPTION:
URL:https://stjameshydepark.org/event/boy-scouts-troop-80-parish-hall-rm-203-2/2023-11-28/
LOCATION:St. James’ Episcopal Church\, 4526 Albany Post Rd.\, Hyde Park\, NY\, 12538\, United States
END:VEVENT
BEGIN:VEVENT
DTSTART;VALUE=DATE:20231127
DTEND;VALUE=DATE:20231128
DTSTAMP:20260425T221350
CREATED:20220329T204444Z
LAST-MODIFIED:20230112T190336Z
UID:10001207-1701043200-1701129599@stjameshydepark.org
SUMMARY:Parish Office Closed
DESCRIPTION:
URL:https://stjameshydepark.org/event/parish-office-closed-2/2023-11-27/
LOCATION:NY
CATEGORIES:General
END:VEVENT
BEGIN:VEVENT
DTSTART;TZID=America/New_York:20231126T183000
DTEND;TZID=America/New_York:20231126T210000
DTSTAMP:20260425T221350
CREATED:20230315T174027Z
LAST-MODIFIED:20231108T151435Z
UID:10001979-1701023400-1701032400@stjameshydepark.org
SUMMARY:AA Meeting (Parish Hall; Rm. 201)
DESCRIPTION:
URL:https://stjameshydepark.org/event/aa-meeting-parish-hall-rm-201/2023-11-26/
LOCATION:St. James’ Episcopal Church\, 4526 Albany Post Rd.\, Hyde Park\, NY\, 12538\, United States
END:VEVENT
BEGIN:VEVENT
DTSTART;TZID=America/New_York:20231126T113000
DTEND;TZID=America/New_York:20231126T120000
DTSTAMP:20260425T221350
CREATED:20231108T141031Z
LAST-MODIFIED:20231108T141141Z
UID:10002707-1700998200-1701000000@stjameshydepark.org
SUMMARY:Advent Wreath Making During Coffee Hour
DESCRIPTION:
URL:https://stjameshydepark.org/event/advent-wreath-making-during-coffee-hour/
LOCATION:St. James’ Episcopal Church\, 4526 Albany Post Rd.\, Hyde Park\, NY\, 12538\, United States
CATEGORIES:One Time Event
END:VEVENT
BEGIN:VEVENT
DTSTART;TZID=America/New_York:20231126T100000
DTEND;TZID=America/New_York:20231126T110000
DTSTAMP:20260425T221350
CREATED:20230709T232511Z
LAST-MODIFIED:20231025T142412Z
UID:10002135-1700992800-1700996400@stjameshydepark.org
SUMMARY:Holy Eucharist (Rite II) with Sunday School and Coffee Hour
DESCRIPTION:Join us Sundays at 10:00 a.m. for a celebration of Holy Eucharist (Communion). This service has music (usually organ and choir\, along with special guest musicians) and uses a variety of prayers and language from traditional to inclusive and expansive\, drawing from Rite II of the 1979 Book of Common Prayer\, Enriching Our Worship\, and other sources. Coffee hour in the Parish House usually follows this service. \nSunday School for kindergarten and up meets today on the second floor of the Parish House at 10:00 a.m. Students will rejoin the congregation just before Holy Communion. New to St. James’? Your kids are welcome to Sunday School any Sunday. More details about St. James’ Sunday School at: https://stjameshydepark.org/for-children/
URL:https://stjameshydepark.org/event/holy-eucharist-ii-fall-2023/2023-11-26/
LOCATION:St. James’ Episcopal Church\, 4526 Albany Post Rd.\, Hyde Park\, NY\, 12538\, United States
CATEGORIES:Worship
END:VEVENT
BEGIN:VEVENT
DTSTART;TZID=America/New_York:20231126T080000
DTEND;TZID=America/New_York:20231126T090000
DTSTAMP:20260425T221350
CREATED:20230110T171732Z
LAST-MODIFIED:20230709T232408Z
UID:10001575-1700985600-1700989200@stjameshydepark.org
SUMMARY:Holy Eucharist (Rite I)
DESCRIPTION:Join us Sundays at 8:00 a.m. for a celebration of Holy Eucharist (Communion). This is a quiet service\, usually without music\, though we often have a soloist with acoustic guitar playing before and after the service. The service uses Rite 1 from the 1979 Book of Common Prayer\, with traditional language.
URL:https://stjameshydepark.org/event/holy-eucharist-rite-i-2023-05-28/2023-11-26/
LOCATION:St. James’ Episcopal Church\, 4526 Albany Post Rd.\, Hyde Park\, NY\, 12538\, United States
CATEGORIES:Worship
END:VEVENT
BEGIN:VEVENT
DTSTART;TZID=America/New_York:20231125T183000
DTEND;TZID=America/New_York:20231125T193000
DTSTAMP:20260425T221350
CREATED:20230112T191110Z
LAST-MODIFIED:20231102T135511Z
UID:10001644-1700937000-1700940600@stjameshydepark.org
SUMMARY:Compline (Remote)
DESCRIPTION:
URL:https://stjameshydepark.org/event/compline-remote-3-2023-01-07/2023-11-25/
LOCATION:Online
CATEGORIES:Worship
END:VEVENT
BEGIN:VEVENT
DTSTART;TZID=America/New_York:20231125T130000
DTEND;TZID=America/New_York:20231125T170000
DTSTAMP:20260425T221350
CREATED:20230905T151741Z
LAST-MODIFIED:20230905T151741Z
UID:10002659-1700917200-1700931600@stjameshydepark.org
SUMMARY:Eagle Scout Celebration (Parish Hall)
DESCRIPTION:
URL:https://stjameshydepark.org/event/eagle-scout-celebration-parish-hall/
LOCATION:St. James’ Episcopal Church\, 4526 Albany Post Rd.\, Hyde Park\, NY\, 12538\, United States
CATEGORIES:One Time Event
END:VEVENT
BEGIN:VEVENT
DTSTART;TZID=America/New_York:20231123T100000
DTEND;TZID=America/New_York:20231123T110000
DTSTAMP:20260425T221350
CREATED:20231108T141741Z
LAST-MODIFIED:20231109T210603Z
UID:10002708-1700733600-1700737200@stjameshydepark.org
SUMMARY:Thanksgiving Day Eucharist (Chapel)
DESCRIPTION:Give thanks! All are welcome to join in a quiet service of gratitude and Holy Communion on Thanksgiving Day at 10 am in our East Market Street Chapel.
URL:https://stjameshydepark.org/event/thanksgiving/
LOCATION:St. James’ Chapel\, 10 East Market Street\, Hyde Park\, NY\, 12567\, United States
CATEGORIES:Worship
ATTACH;FMTTYPE=image/jpeg:https://stjameshydepark.org/wp-content/uploads/2022/11/Thanksgiving-Day-Holy-Eucharist-1000-a.m.-in-the-chapel-10-E-Market-St-Hyde-Park.jpg
END:VEVENT
BEGIN:VEVENT
DTSTART;VALUE=DATE:20231123
DTEND;VALUE=DATE:20231125
DTSTAMP:20260425T221350
CREATED:20231121T173902Z
LAST-MODIFIED:20231121T173902Z
UID:10002718-1700697600-1700870399@stjameshydepark.org
SUMMARY:Parish Office Closed (Thanksgiving)
DESCRIPTION:
URL:https://stjameshydepark.org/event/parish-office-closed-thanksgiving/
LOCATION:St. James’ Episcopal Church\, 4526 Albany Post Rd.\, Hyde Park\, NY\, 12538\, United States
CATEGORIES:One Time Event
END:VEVENT
BEGIN:VEVENT
DTSTART;TZID=America/New_York:20231122T183000
DTEND;TZID=America/New_York:20231122T193000
DTSTAMP:20260425T221350
CREATED:20230112T192240Z
LAST-MODIFIED:20230926T155941Z
UID:10001826-1700677800-1700681400@stjameshydepark.org
SUMMARY:Evening Prayer (Remote)
DESCRIPTION:
URL:https://stjameshydepark.org/event/evening-prayer-remote-2/2023-11-22/
LOCATION:Online
CATEGORIES:Worship
END:VEVENT
BEGIN:VEVENT
DTSTART;TZID=America/New_York:20231122T110000
DTEND;TZID=America/New_York:20231122T120000
DTSTAMP:20260425T221350
CREATED:20231121T173712Z
LAST-MODIFIED:20231121T174102Z
UID:10001845-1700650800-1700654400@stjameshydepark.org
SUMMARY:No Bible Study today—we'll be back on November 29!
DESCRIPTION:No Bible Study for November 22\, 22023  \nOur weekly Bible study takes place on Zoom! Join in every Wednesday at 11 a.m. for prayer\, conversation and reflection on the readings for the upcoming Sunday. The Zoom link will be distributed via our Google Group\, or contact the parish office. 
URL:https://stjameshydepark.org/event/bible-study-2023/
LOCATION:Online
CATEGORIES:General
END:VEVENT
BEGIN:VEVENT
DTSTART;TZID=America/New_York:20231121T190000
DTEND;TZID=America/New_York:20231121T200000
DTSTAMP:20260425T221350
CREATED:20230113T151213Z
LAST-MODIFIED:20230316T161002Z
UID:10001888-1700593200-1700596800@stjameshydepark.org
SUMMARY:Boy Scouts Troop 80 (Parish Hall; Rm. 203)
DESCRIPTION:
URL:https://stjameshydepark.org/event/boy-scouts-troop-80-parish-hall-rm-203-2/2023-11-21/
LOCATION:St. James’ Episcopal Church\, 4526 Albany Post Rd.\, Hyde Park\, NY\, 12538\, United States
END:VEVENT
BEGIN:VEVENT
DTSTART;TZID=America/New_York:20231121T070000
DTEND;TZID=America/New_York:20231121T210000
DTSTAMP:20260425T221350
CREATED:20231121T173734Z
LAST-MODIFIED:20231121T173734Z
UID:10002186-1700550000-1700600400@stjameshydepark.org
SUMMARY:Vestry Meeting (Wilks Room)
DESCRIPTION:
URL:https://stjameshydepark.org/event/vestry-meeting-2-2-2/2023-11-21/
LOCATION:St. James’ Episcopal Church\, 4526 Albany Post Rd.\, Hyde Park\, NY\, 12538\, United States
CATEGORIES:General
END:VEVENT
BEGIN:VEVENT
DTSTART;TZID=America/New_York:20231120T193000
DTEND;TZID=America/New_York:20231120T210000
DTSTAMP:20260425T221350
CREATED:20220220T004423Z
LAST-MODIFIED:20240124T135234Z
UID:10002713-1700508600-1700514000@stjameshydepark.org
SUMMARY:Girl Scout Troop 10015 Meeting (Parish Hall)
DESCRIPTION:
URL:https://stjameshydepark.org/event/girl-scout-troop-10015-meeting-parish-hall/2023-11-20/
LOCATION:St. James’ Episcopal Church\, 4526 Albany Post Rd.\, Hyde Park\, NY\, 12538\, United States
CATEGORIES:General
END:VEVENT
BEGIN:VEVENT
DTSTART;VALUE=DATE:20231120
DTEND;VALUE=DATE:20231121
DTSTAMP:20260425T221350
CREATED:20220329T204444Z
LAST-MODIFIED:20230112T190336Z
UID:10001206-1700438400-1700524799@stjameshydepark.org
SUMMARY:Parish Office Closed
DESCRIPTION:
URL:https://stjameshydepark.org/event/parish-office-closed-2/2023-11-20/
LOCATION:NY
CATEGORIES:General
END:VEVENT
BEGIN:VEVENT
DTSTART;TZID=America/New_York:20231119T183000
DTEND;TZID=America/New_York:20231119T210000
DTSTAMP:20260425T221350
CREATED:20230315T174027Z
LAST-MODIFIED:20231108T151435Z
UID:10001978-1700418600-1700427600@stjameshydepark.org
SUMMARY:AA Meeting (Parish Hall; Rm. 201)
DESCRIPTION:
URL:https://stjameshydepark.org/event/aa-meeting-parish-hall-rm-201/2023-11-19/
LOCATION:St. James’ Episcopal Church\, 4526 Albany Post Rd.\, Hyde Park\, NY\, 12538\, United States
END:VEVENT
END:VCALENDAR