BEGIN:VCALENDAR
VERSION:2.0
PRODID:-//St. James&#039; Episcopal Church - ECPv6.15.20//NONSGML v1.0//EN
CALSCALE:GREGORIAN
METHOD:PUBLISH
X-WR-CALNAME:St. James&#039; Episcopal Church
X-ORIGINAL-URL:https://stjameshydepark.org
X-WR-CALDESC:Events for St. James&#039; Episcopal Church
REFRESH-INTERVAL;VALUE=DURATION:PT1H
X-Robots-Tag:noindex
X-PUBLISHED-TTL:PT1H
BEGIN:VTIMEZONE
TZID:America/New_York
BEGIN:DAYLIGHT
TZOFFSETFROM:-0500
TZOFFSETTO:-0400
TZNAME:EDT
DTSTART:20220313T070000
END:DAYLIGHT
BEGIN:STANDARD
TZOFFSETFROM:-0400
TZOFFSETTO:-0500
TZNAME:EST
DTSTART:20221106T060000
END:STANDARD
BEGIN:DAYLIGHT
TZOFFSETFROM:-0500
TZOFFSETTO:-0400
TZNAME:EDT
DTSTART:20230312T070000
END:DAYLIGHT
BEGIN:STANDARD
TZOFFSETFROM:-0400
TZOFFSETTO:-0500
TZNAME:EST
DTSTART:20231105T060000
END:STANDARD
BEGIN:DAYLIGHT
TZOFFSETFROM:-0500
TZOFFSETTO:-0400
TZNAME:EDT
DTSTART:20240310T070000
END:DAYLIGHT
BEGIN:STANDARD
TZOFFSETFROM:-0400
TZOFFSETTO:-0500
TZNAME:EST
DTSTART:20241103T060000
END:STANDARD
END:VTIMEZONE
BEGIN:VEVENT
DTSTART;VALUE=DATE:20231016
DTEND;VALUE=DATE:20231017
DTSTAMP:20260425T221412
CREATED:20220329T204444Z
LAST-MODIFIED:20230112T190336Z
UID:10001201-1697414400-1697500799@stjameshydepark.org
SUMMARY:Parish Office Closed
DESCRIPTION:
URL:https://stjameshydepark.org/event/parish-office-closed-2/2023-10-16/
LOCATION:NY
CATEGORIES:General
END:VEVENT
BEGIN:VEVENT
DTSTART;TZID=America/New_York:20231015T183000
DTEND;TZID=America/New_York:20231015T210000
DTSTAMP:20260425T221412
CREATED:20230315T174027Z
LAST-MODIFIED:20231108T151435Z
UID:10001973-1697394600-1697403600@stjameshydepark.org
SUMMARY:AA Meeting (Parish Hall; Rm. 201)
DESCRIPTION:
URL:https://stjameshydepark.org/event/aa-meeting-parish-hall-rm-201/2023-10-15/
LOCATION:St. James’ Episcopal Church\, 4526 Albany Post Rd.\, Hyde Park\, NY\, 12538\, United States
END:VEVENT
BEGIN:VEVENT
DTSTART;TZID=America/New_York:20231015T180000
DTEND;TZID=America/New_York:20231015T193000
DTSTAMP:20260425T221412
CREATED:20230906T142100Z
LAST-MODIFIED:20240927T115008Z
UID:10002661-1697392800-1697398200@stjameshydepark.org
SUMMARY:Service of Remembrance for Pregnancy and Infant Loss (Church)
DESCRIPTION:Join us for a service of prayer and Holy Communion as we observe Pregnancy and Infant Loss Remembrance Day. \nSunday\, October 15\, 2023 at 6 PM \nSt. James’ Episcopal Church\, 4526 Albany Post Road Hyde Park\, NY 12538 \nCome\, light a candle in remembrance of your dear one.
URL:https://stjameshydepark.org/event/wave-of-light-2023/
LOCATION:St. James’ Episcopal Church\, 4526 Albany Post Rd.\, Hyde Park\, NY\, 12538\, United States
CATEGORIES:Worship
ATTACH;FMTTYPE=image/jpeg:https://stjameshydepark.org/wp-content/uploads/2023/09/Wave-of-Light.jpg
END:VEVENT
BEGIN:VEVENT
DTSTART;TZID=America/New_York:20231015T100000
DTEND;TZID=America/New_York:20231015T110000
DTSTAMP:20260425T221412
CREATED:20230709T232511Z
LAST-MODIFIED:20231025T142412Z
UID:10002129-1697364000-1697367600@stjameshydepark.org
SUMMARY:Holy Eucharist (Rite II) with Sunday School and Coffee Hour
DESCRIPTION:Join us Sundays at 10:00 a.m. for a celebration of Holy Eucharist (Communion). This service has music (usually organ and choir\, along with special guest musicians) and uses a variety of prayers and language from traditional to inclusive and expansive\, drawing from Rite II of the 1979 Book of Common Prayer\, Enriching Our Worship\, and other sources. Coffee hour in the Parish House usually follows this service. \nSunday School for kindergarten and up meets today on the second floor of the Parish House at 10:00 a.m. Students will rejoin the congregation just before Holy Communion. New to St. James’? Your kids are welcome to Sunday School any Sunday. More details about St. James’ Sunday School at: https://stjameshydepark.org/for-children/
URL:https://stjameshydepark.org/event/holy-eucharist-ii-fall-2023/2023-10-15/
LOCATION:St. James’ Episcopal Church\, 4526 Albany Post Rd.\, Hyde Park\, NY\, 12538\, United States
CATEGORIES:Worship
END:VEVENT
BEGIN:VEVENT
DTSTART;TZID=America/New_York:20231015T080000
DTEND;TZID=America/New_York:20231015T090000
DTSTAMP:20260425T221412
CREATED:20230110T171732Z
LAST-MODIFIED:20230709T232408Z
UID:10001569-1697356800-1697360400@stjameshydepark.org
SUMMARY:Holy Eucharist (Rite I)
DESCRIPTION:Join us Sundays at 8:00 a.m. for a celebration of Holy Eucharist (Communion). This is a quiet service\, usually without music\, though we often have a soloist with acoustic guitar playing before and after the service. The service uses Rite 1 from the 1979 Book of Common Prayer\, with traditional language.
URL:https://stjameshydepark.org/event/holy-eucharist-rite-i-2023-05-28/2023-10-15/
LOCATION:St. James’ Episcopal Church\, 4526 Albany Post Rd.\, Hyde Park\, NY\, 12538\, United States
CATEGORIES:Worship
END:VEVENT
BEGIN:VEVENT
DTSTART;TZID=America/New_York:20231014T183000
DTEND;TZID=America/New_York:20231014T193000
DTSTAMP:20260425T221412
CREATED:20230112T191110Z
LAST-MODIFIED:20231102T135511Z
UID:10001638-1697308200-1697311800@stjameshydepark.org
SUMMARY:Compline (Remote)
DESCRIPTION:
URL:https://stjameshydepark.org/event/compline-remote-3-2023-01-07/2023-10-14/
LOCATION:Online
CATEGORIES:Worship
END:VEVENT
BEGIN:VEVENT
DTSTART;TZID=America/New_York:20231014T100000
DTEND;TZID=America/New_York:20231014T150000
DTSTAMP:20260425T221412
CREATED:20231003T133936Z
LAST-MODIFIED:20231102T004946Z
UID:10002672-1697277600-1697295600@stjameshydepark.org
SUMMARY:Youth Group Cooking for Hope on a Mission
DESCRIPTION:
URL:https://stjameshydepark.org/event/cooking-for-the-homeless-parish-hall-kitchen-2/
LOCATION:St. James’ Episcopal Church\, 4526 Albany Post Rd.\, Hyde Park\, NY\, 12538\, United States
CATEGORIES:Outreach
END:VEVENT
BEGIN:VEVENT
DTSTART;TZID=America/New_York:20231014T080000
DTEND;TZID=America/New_York:20231014T130000
DTSTAMP:20260425T221412
CREATED:20231011T140423Z
LAST-MODIFIED:20231011T140423Z
UID:10002675-1697270400-1697288400@stjameshydepark.org
SUMMARY:Health Screenings and Counselings (Chapel)
DESCRIPTION:
URL:https://stjameshydepark.org/event/health-screenings-and-counselings-chapel/
LOCATION:St. James’ Chapel\, 10 East Market Street\, Hyde Park\, NY\, 12567\, United States
END:VEVENT
BEGIN:VEVENT
DTSTART;VALUE=DATE:20231014
DTEND;VALUE=DATE:20231015
DTSTAMP:20260425T221412
CREATED:20230802T142750Z
LAST-MODIFIED:20230802T142934Z
UID:10002210-1697241600-1697327999@stjameshydepark.org
SUMMARY:Graveyard Tours
DESCRIPTION:
URL:https://stjameshydepark.org/event/graveyard-tours/2023-10-14/
LOCATION:St. James’ Episcopal Church\, 4526 Albany Post Rd.\, Hyde Park\, NY\, 12538\, United States
CATEGORIES:One Time Event
END:VEVENT
BEGIN:VEVENT
DTSTART;VALUE=DATE:20231013
DTEND;VALUE=DATE:20231014
DTSTAMP:20260425T221412
CREATED:20230802T142750Z
LAST-MODIFIED:20230802T142934Z
UID:10002209-1697155200-1697241599@stjameshydepark.org
SUMMARY:Graveyard Tours
DESCRIPTION:
URL:https://stjameshydepark.org/event/graveyard-tours/2023-10-13/
LOCATION:St. James’ Episcopal Church\, 4526 Albany Post Rd.\, Hyde Park\, NY\, 12538\, United States
CATEGORIES:One Time Event
END:VEVENT
BEGIN:VEVENT
DTSTART;TZID=America/New_York:20231011T183000
DTEND;TZID=America/New_York:20231011T193000
DTSTAMP:20260425T221412
CREATED:20230112T192240Z
LAST-MODIFIED:20230926T155941Z
UID:10001820-1697049000-1697052600@stjameshydepark.org
SUMMARY:Evening Prayer (Remote)
DESCRIPTION:
URL:https://stjameshydepark.org/event/evening-prayer-remote-2/2023-10-11/
LOCATION:Online
CATEGORIES:Worship
END:VEVENT
BEGIN:VEVENT
DTSTART;TZID=America/New_York:20231011T180000
DTEND;TZID=America/New_York:20231011T200000
DTSTAMP:20260425T221412
CREATED:20230825T155543Z
LAST-MODIFIED:20230926T163608Z
UID:10002656-1697047200-1697054400@stjameshydepark.org
SUMMARY:Womens' Group (Antonella's)
DESCRIPTION:
URL:https://stjameshydepark.org/event/womens-group-antonellas/2023-10-11/
LOCATION:Antonella’s Restaurant\, Hyde Park\, NY\, 4246 Albany Post Rd #1700\, Hyde Park\, NY\, 12538\, United States
CATEGORIES:Women's Group
END:VEVENT
BEGIN:VEVENT
DTSTART;TZID=America/New_York:20231011T110000
DTEND;TZID=America/New_York:20231011T120000
DTSTAMP:20260425T221412
CREATED:20220329T172814Z
LAST-MODIFIED:20230112T193257Z
UID:10001839-1697022000-1697025600@stjameshydepark.org
SUMMARY:Bible Study (Zoom)
DESCRIPTION:Our weekly Bible study takes place on Zoom! Join in every Wednesday at 11 a.m. for prayer\, conversation and reflection on the readings for the upcoming Sunday. The Zoom link will be distributed via our Google Group\, or contact the parish office. 
URL:https://stjameshydepark.org/event/bible-study-2023-02-15-2023-09-13/2023-10-11/
LOCATION:Online
CATEGORIES:General
END:VEVENT
BEGIN:VEVENT
DTSTART;TZID=America/New_York:20231010T190000
DTEND;TZID=America/New_York:20231010T200000
DTSTAMP:20260425T221412
CREATED:20230113T151213Z
LAST-MODIFIED:20230316T161002Z
UID:10001882-1696964400-1696968000@stjameshydepark.org
SUMMARY:Boy Scouts Troop 80 (Parish Hall; Rm. 203)
DESCRIPTION:
URL:https://stjameshydepark.org/event/boy-scouts-troop-80-parish-hall-rm-203-2/2023-10-10/
LOCATION:St. James’ Episcopal Church\, 4526 Albany Post Rd.\, Hyde Park\, NY\, 12538\, United States
END:VEVENT
BEGIN:VEVENT
DTSTART;VALUE=DATE:20231009
DTEND;VALUE=DATE:20231010
DTSTAMP:20260425T221412
CREATED:20220329T204444Z
LAST-MODIFIED:20230112T190336Z
UID:10001200-1696809600-1696895999@stjameshydepark.org
SUMMARY:Parish Office Closed
DESCRIPTION:
URL:https://stjameshydepark.org/event/parish-office-closed-2/2023-10-09/
LOCATION:NY
CATEGORIES:General
END:VEVENT
BEGIN:VEVENT
DTSTART;TZID=America/New_York:20231008T183000
DTEND;TZID=America/New_York:20231008T210000
DTSTAMP:20260425T221412
CREATED:20230315T174027Z
LAST-MODIFIED:20231108T151435Z
UID:10001972-1696789800-1696798800@stjameshydepark.org
SUMMARY:AA Meeting (Parish Hall; Rm. 201)
DESCRIPTION:
URL:https://stjameshydepark.org/event/aa-meeting-parish-hall-rm-201/2023-10-08/
LOCATION:St. James’ Episcopal Church\, 4526 Albany Post Rd.\, Hyde Park\, NY\, 12538\, United States
END:VEVENT
BEGIN:VEVENT
DTSTART;TZID=America/New_York:20231008T130000
DTEND;TZID=America/New_York:20231008T143000
DTSTAMP:20260425T221412
CREATED:20230926T151849Z
LAST-MODIFIED:20230928T181109Z
UID:10002669-1696770000-1696775400@stjameshydepark.org
SUMMARY:Blessing of the Animals
DESCRIPTION:Blessing of the Animals in honor of St. Francis \nSunday\, Oct. 8\, 1-2:30 pm (drop in) \nSt. James’ Episcopal Church 4526 Albany Post Rd\, Hyde Park in the Memorial Garden (Rain location: St. James’ Parish House) \nPets\, domestic animals\, stuffed animals\, and mementos of shy or departed pets are all welcome. \nCome and enjoy treats for pets and humans\, plus a free digital photo of your pet being blessed!
URL:https://stjameshydepark.org/event/blessing-of-the-animals/
LOCATION:St. James’ Episcopal Church\, 4526 Albany Post Rd.\, Hyde Park\, NY\, 12538\, United States
CATEGORIES:One Time Event
ATTACH;FMTTYPE=image/jpeg:https://stjameshydepark.org/wp-content/uploads/2023/09/St.-Francis-Day.jpg
END:VEVENT
BEGIN:VEVENT
DTSTART;TZID=America/New_York:20231008T100000
DTEND;TZID=America/New_York:20231008T110000
DTSTAMP:20260425T221412
CREATED:20230709T232511Z
LAST-MODIFIED:20231025T142412Z
UID:10002128-1696759200-1696762800@stjameshydepark.org
SUMMARY:Holy Eucharist (Rite II) with Sunday School and Coffee Hour
DESCRIPTION:Join us Sundays at 10:00 a.m. for a celebration of Holy Eucharist (Communion). This service has music (usually organ and choir\, along with special guest musicians) and uses a variety of prayers and language from traditional to inclusive and expansive\, drawing from Rite II of the 1979 Book of Common Prayer\, Enriching Our Worship\, and other sources. Coffee hour in the Parish House usually follows this service. \nSunday School for kindergarten and up meets today on the second floor of the Parish House at 10:00 a.m. Students will rejoin the congregation just before Holy Communion. New to St. James’? Your kids are welcome to Sunday School any Sunday. More details about St. James’ Sunday School at: https://stjameshydepark.org/for-children/
URL:https://stjameshydepark.org/event/holy-eucharist-ii-fall-2023/2023-10-08/
LOCATION:St. James’ Episcopal Church\, 4526 Albany Post Rd.\, Hyde Park\, NY\, 12538\, United States
CATEGORIES:Worship
END:VEVENT
BEGIN:VEVENT
DTSTART;TZID=America/New_York:20231008T080000
DTEND;TZID=America/New_York:20231008T090000
DTSTAMP:20260425T221412
CREATED:20230110T171732Z
LAST-MODIFIED:20230709T232408Z
UID:10001568-1696752000-1696755600@stjameshydepark.org
SUMMARY:Holy Eucharist (Rite I)
DESCRIPTION:Join us Sundays at 8:00 a.m. for a celebration of Holy Eucharist (Communion). This is a quiet service\, usually without music\, though we often have a soloist with acoustic guitar playing before and after the service. The service uses Rite 1 from the 1979 Book of Common Prayer\, with traditional language.
URL:https://stjameshydepark.org/event/holy-eucharist-rite-i-2023-05-28/2023-10-08/
LOCATION:St. James’ Episcopal Church\, 4526 Albany Post Rd.\, Hyde Park\, NY\, 12538\, United States
CATEGORIES:Worship
END:VEVENT
BEGIN:VEVENT
DTSTART;TZID=America/New_York:20231007T183000
DTEND;TZID=America/New_York:20231007T193000
DTSTAMP:20260425T221412
CREATED:20230112T191110Z
LAST-MODIFIED:20231102T135511Z
UID:10001637-1696703400-1696707000@stjameshydepark.org
SUMMARY:Compline (Remote)
DESCRIPTION:
URL:https://stjameshydepark.org/event/compline-remote-3-2023-01-07/2023-10-07/
LOCATION:Online
CATEGORIES:Worship
END:VEVENT
BEGIN:VEVENT
DTSTART;TZID=America/New_York:20231007T090000
DTEND;TZID=America/New_York:20231007T150000
DTSTAMP:20260425T221412
CREATED:20230526T131256Z
LAST-MODIFIED:20230926T155711Z
UID:10001917-1696669200-1696690800@stjameshydepark.org
SUMMARY:Yellow Chapel Emporium (Chapel Parking Lot)
DESCRIPTION:
URL:https://stjameshydepark.org/event/emporium-chapel-parking-lot-2/2023-10-07/
LOCATION:St. James’ Chapel\, 10 East Market Street\, Hyde Park\, NY\, 12567\, United States
CATEGORIES:Community Garden
END:VEVENT
BEGIN:VEVENT
DTSTART;TZID=America/New_York:20231007T080000
DTEND;TZID=America/New_York:20231007T160000
DTSTAMP:20260425T221412
CREATED:20230627T135752Z
LAST-MODIFIED:20230926T161430Z
UID:10002121-1696665600-1696694400@stjameshydepark.org
SUMMARY:Stoutenburgh Family (Parish Hall)
DESCRIPTION:
URL:https://stjameshydepark.org/event/stoutenburgh-family-parish-hall-tent/
LOCATION:St. James’ Episcopal Church\, 4526 Albany Post Rd.\, Hyde Park\, NY\, 12538\, United States
END:VEVENT
BEGIN:VEVENT
DTSTART;VALUE=DATE:20231007
DTEND;VALUE=DATE:20231008
DTSTAMP:20260425T221412
CREATED:20230802T142750Z
LAST-MODIFIED:20230802T142934Z
UID:10002208-1696636800-1696723199@stjameshydepark.org
SUMMARY:Graveyard Tours
DESCRIPTION:
URL:https://stjameshydepark.org/event/graveyard-tours/2023-10-07/
LOCATION:St. James’ Episcopal Church\, 4526 Albany Post Rd.\, Hyde Park\, NY\, 12538\, United States
CATEGORIES:One Time Event
END:VEVENT
BEGIN:VEVENT
DTSTART;VALUE=DATE:20231006
DTEND;VALUE=DATE:20231007
DTSTAMP:20260425T221412
CREATED:20230802T142750Z
LAST-MODIFIED:20230802T142934Z
UID:10002207-1696550400-1696636799@stjameshydepark.org
SUMMARY:Graveyard Tours
DESCRIPTION:
URL:https://stjameshydepark.org/event/graveyard-tours/2023-10-06/
LOCATION:St. James’ Episcopal Church\, 4526 Albany Post Rd.\, Hyde Park\, NY\, 12538\, United States
CATEGORIES:One Time Event
END:VEVENT
BEGIN:VEVENT
DTSTART;TZID=America/New_York:20231004T183000
DTEND;TZID=America/New_York:20231004T193000
DTSTAMP:20260425T221412
CREATED:20230112T192240Z
LAST-MODIFIED:20230926T155941Z
UID:10001819-1696444200-1696447800@stjameshydepark.org
SUMMARY:Evening Prayer (Remote)
DESCRIPTION:
URL:https://stjameshydepark.org/event/evening-prayer-remote-2/2023-10-04/
LOCATION:Online
CATEGORIES:Worship
END:VEVENT
BEGIN:VEVENT
DTSTART;TZID=America/New_York:20231004T110000
DTEND;TZID=America/New_York:20231004T120000
DTSTAMP:20260425T221412
CREATED:20220329T172814Z
LAST-MODIFIED:20230112T193257Z
UID:10001838-1696417200-1696420800@stjameshydepark.org
SUMMARY:Bible Study (Zoom)
DESCRIPTION:Our weekly Bible study takes place on Zoom! Join in every Wednesday at 11 a.m. for prayer\, conversation and reflection on the readings for the upcoming Sunday. The Zoom link will be distributed via our Google Group\, or contact the parish office. 
URL:https://stjameshydepark.org/event/bible-study-2023-02-15-2023-09-13/2023-10-04/
LOCATION:Online
CATEGORIES:General
END:VEVENT
BEGIN:VEVENT
DTSTART;TZID=America/New_York:20231003T190000
DTEND;TZID=America/New_York:20231003T200000
DTSTAMP:20260425T221412
CREATED:20230113T151213Z
LAST-MODIFIED:20230316T161002Z
UID:10001881-1696359600-1696363200@stjameshydepark.org
SUMMARY:Boy Scouts Troop 80 (Parish Hall; Rm. 203)
DESCRIPTION:
URL:https://stjameshydepark.org/event/boy-scouts-troop-80-parish-hall-rm-203-2/2023-10-03/
LOCATION:St. James’ Episcopal Church\, 4526 Albany Post Rd.\, Hyde Park\, NY\, 12538\, United States
END:VEVENT
BEGIN:VEVENT
DTSTART;TZID=America/New_York:20231003T183000
DTEND;TZID=America/New_York:20231003T193000
DTSTAMP:20260425T221412
CREATED:20230926T132437Z
LAST-MODIFIED:20230926T162044Z
UID:10002667-1696357800-1696361400@stjameshydepark.org
SUMMARY:Nursery School Committee Meeting (Wilks Room)
DESCRIPTION:
URL:https://stjameshydepark.org/event/nursery-school-committee-meeting-wilks-room/
LOCATION:St. James’ Episcopal Church\, 4526 Albany Post Rd.\, Hyde Park\, NY\, 12538\, United States
CATEGORIES:Nursery School
END:VEVENT
BEGIN:VEVENT
DTSTART;VALUE=DATE:20231002
DTEND;VALUE=DATE:20231003
DTSTAMP:20260425T221412
CREATED:20220329T204444Z
LAST-MODIFIED:20230112T190336Z
UID:10001199-1696204800-1696291199@stjameshydepark.org
SUMMARY:Parish Office Closed
DESCRIPTION:
URL:https://stjameshydepark.org/event/parish-office-closed-2/2023-10-02/
LOCATION:NY
CATEGORIES:General
END:VEVENT
BEGIN:VEVENT
DTSTART;TZID=America/New_York:20231001T183000
DTEND;TZID=America/New_York:20231001T210000
DTSTAMP:20260425T221412
CREATED:20230714T150457Z
LAST-MODIFIED:20230714T150457Z
UID:10002191-1696185000-1696194000@stjameshydepark.org
SUMMARY:AA Meeting (Rm. 201)
DESCRIPTION:
URL:https://stjameshydepark.org/event/aa-meeting-rm-201/
LOCATION:St. James’ Episcopal Church\, 4526 Albany Post Rd.\, Hyde Park\, NY\, 12538\, United States
END:VEVENT
END:VCALENDAR