BEGIN:VCALENDAR
VERSION:2.0
PRODID:-//St. James&#039; Episcopal Church - ECPv6.15.20//NONSGML v1.0//EN
CALSCALE:GREGORIAN
METHOD:PUBLISH
X-ORIGINAL-URL:https://stjameshydepark.org
X-WR-CALDESC:Events for St. James&#039; Episcopal Church
REFRESH-INTERVAL;VALUE=DURATION:PT1H
X-Robots-Tag:noindex
X-PUBLISHED-TTL:PT1H
BEGIN:VTIMEZONE
TZID:America/New_York
BEGIN:DAYLIGHT
TZOFFSETFROM:-0500
TZOFFSETTO:-0400
TZNAME:EDT
DTSTART:20230312T070000
END:DAYLIGHT
BEGIN:STANDARD
TZOFFSETFROM:-0400
TZOFFSETTO:-0500
TZNAME:EST
DTSTART:20231105T060000
END:STANDARD
BEGIN:DAYLIGHT
TZOFFSETFROM:-0500
TZOFFSETTO:-0400
TZNAME:EDT
DTSTART:20240310T070000
END:DAYLIGHT
BEGIN:STANDARD
TZOFFSETFROM:-0400
TZOFFSETTO:-0500
TZNAME:EST
DTSTART:20241103T060000
END:STANDARD
BEGIN:DAYLIGHT
TZOFFSETFROM:-0500
TZOFFSETTO:-0400
TZNAME:EDT
DTSTART:20250309T070000
END:DAYLIGHT
BEGIN:STANDARD
TZOFFSETFROM:-0400
TZOFFSETTO:-0500
TZNAME:EST
DTSTART:20251102T060000
END:STANDARD
END:VTIMEZONE
BEGIN:VEVENT
DTSTART;TZID=America/New_York:20240630T080000
DTEND;TZID=America/New_York:20240630T090000
DTSTAMP:20260425T000144
CREATED:20231222T015421Z
LAST-MODIFIED:20241213T230031Z
UID:10002857-1719734400-1719738000@stjameshydepark.org
SUMMARY:Holy Eucharist (Rite I)
DESCRIPTION:Join us Sundays at 8:00 a.m. for a celebration of Holy Eucharist (Communion). This is a quiet service\, usually without music\, though we often have a soloist with acoustic guitar playing before and after the service. The service uses Rite 1 from the 1979 Book of Common Prayer\, with traditional language.
URL:https://stjameshydepark.org/event/2024-eucharist-8am/2024-06-30/
LOCATION:St. James’ Episcopal Church\, 4526 Albany Post Rd.\, Hyde Park\, NY\, 12538\, United States
CATEGORIES:Worship
END:VEVENT
BEGIN:VEVENT
DTSTART;TZID=America/New_York:20240630T100000
DTEND;TZID=America/New_York:20240630T113000
DTSTAMP:20260425T000144
CREATED:20240627T202157Z
LAST-MODIFIED:20240627T202226Z
UID:10002753-1719741600-1719747000@stjameshydepark.org
SUMMARY:Holy Eucharist at St. Margaret's\, Staatsburg (Combined Two-Parish Service)
DESCRIPTION:On Sunday\, June 30th\, our 10 am service will be held at our sister parish\, St. Margaret’s Episcopal Church in Staatsburg (corner of East Elm and Old Post Road). Please plan to join in! \nAfter the service\, please stay for coffee and conversation in the St. Margaret’s fellowship room. \nWe have four combined services planned with St. Margaret’s this summer: \n\nJune 30th—10 am service at St. Margaret’s\, Mtr. Meredith preaching and presiding (8 am service at St. James’)\nJuly 21st—10 am service at St. Margaret’s\, Mtr. Meredith preaching and presiding (8 am service at St. James’)\nAugust 11th—10 am service at St. James’\, Fr. Michael preaching and presiding (he will also lead the 8 am service at St. James’)\nAugust 25th—10 am service at St. James’\, Fr. Michael preaching and presiding (he will also lead the 8 am service at St. James’)
URL:https://stjameshydepark.org/event/2024-eucharist-rite-ii-8/
LOCATION:St. James’ Episcopal Church\, 4526 Albany Post Rd.\, Hyde Park\, NY\, 12538\, United States
CATEGORIES:Worship
END:VEVENT
BEGIN:VEVENT
DTSTART;TZID=America/New_York:20240703T183000
DTEND;TZID=America/New_York:20240703T193000
DTSTAMP:20260425T000144
CREATED:20240112T175112Z
LAST-MODIFIED:20240112T175307Z
UID:10003089-1720031400-1720035000@stjameshydepark.org
SUMMARY:Evening Prayer (Remote)
DESCRIPTION:
URL:https://stjameshydepark.org/event/evening-prayer-remote-2-2/2024-07-03/
LOCATION:Online
CATEGORIES:Worship
END:VEVENT
BEGIN:VEVENT
DTSTART;TZID=America/New_York:20240706T183000
DTEND;TZID=America/New_York:20240706T193000
DTSTAMP:20260425T000144
CREATED:20240112T175527Z
LAST-MODIFIED:20240112T175653Z
UID:10003139-1720290600-1720294200@stjameshydepark.org
SUMMARY:Compline (Remote)
DESCRIPTION:
URL:https://stjameshydepark.org/event/compline-remote-3-2023-01-07-2/2024-07-06/
LOCATION:Online
CATEGORIES:Worship
END:VEVENT
END:VCALENDAR