BEGIN:VCALENDAR
VERSION:2.0
PRODID:-//St. James&#039; Episcopal Church - ECPv6.15.20//NONSGML v1.0//EN
CALSCALE:GREGORIAN
METHOD:PUBLISH
X-ORIGINAL-URL:https://stjameshydepark.org
X-WR-CALDESC:Events for St. James&#039; Episcopal Church
REFRESH-INTERVAL;VALUE=DURATION:PT1H
X-Robots-Tag:noindex
X-PUBLISHED-TTL:PT1H
BEGIN:VTIMEZONE
TZID:America/New_York
BEGIN:DAYLIGHT
TZOFFSETFROM:-0500
TZOFFSETTO:-0400
TZNAME:EDT
DTSTART:20230312T070000
END:DAYLIGHT
BEGIN:STANDARD
TZOFFSETFROM:-0400
TZOFFSETTO:-0500
TZNAME:EST
DTSTART:20231105T060000
END:STANDARD
BEGIN:DAYLIGHT
TZOFFSETFROM:-0500
TZOFFSETTO:-0400
TZNAME:EDT
DTSTART:20240310T070000
END:DAYLIGHT
BEGIN:STANDARD
TZOFFSETFROM:-0400
TZOFFSETTO:-0500
TZNAME:EST
DTSTART:20241103T060000
END:STANDARD
BEGIN:DAYLIGHT
TZOFFSETFROM:-0500
TZOFFSETTO:-0400
TZNAME:EDT
DTSTART:20250309T070000
END:DAYLIGHT
BEGIN:STANDARD
TZOFFSETFROM:-0400
TZOFFSETTO:-0500
TZNAME:EST
DTSTART:20251102T060000
END:STANDARD
END:VTIMEZONE
BEGIN:VEVENT
DTSTART;TZID=America/New_York:20240125T190000
DTEND;TZID=America/New_York:20240125T200000
DTSTAMP:20260425T123525
CREATED:20240111T204133Z
LAST-MODIFIED:20240117T151347Z
UID:10002897-1706209200-1706212800@stjameshydepark.org
SUMMARY:Prayer Service for Christian Unity
DESCRIPTION:St. James’ is hosting an ecumenical prayer service on Thursday\, January 25th at 7 pm to celebrate the worldwide annual Week of Prayer for Christian Unity. This service is organized by the Hyde Park Area Clergy group. Members from many Hyde Park churches will participate—all are welcome!
URL:https://stjameshydepark.org/event/prayer-service-for-christian-unity/
LOCATION:St. James’ Episcopal Church\, 4526 Albany Post Rd.\, Hyde Park\, NY\, 12538\, United States
CATEGORIES:Worship
ATTACH;FMTTYPE=image/png:https://stjameshydepark.org/wp-content/uploads/2024/01/Prayer-Service-for-Christian-Unity-1.png
END:VEVENT
END:VCALENDAR