BEGIN:VCALENDAR
VERSION:2.0
PRODID:-//St. James&#039; Episcopal Church - ECPv6.15.20//NONSGML v1.0//EN
CALSCALE:GREGORIAN
METHOD:PUBLISH
X-WR-CALNAME:St. James&#039; Episcopal Church
X-ORIGINAL-URL:https://stjameshydepark.org
X-WR-CALDESC:Events for St. James&#039; Episcopal Church
REFRESH-INTERVAL;VALUE=DURATION:PT1H
X-Robots-Tag:noindex
X-PUBLISHED-TTL:PT1H
BEGIN:VTIMEZONE
TZID:America/New_York
BEGIN:DAYLIGHT
TZOFFSETFROM:-0500
TZOFFSETTO:-0400
TZNAME:EDT
DTSTART:20230312T070000
END:DAYLIGHT
BEGIN:STANDARD
TZOFFSETFROM:-0400
TZOFFSETTO:-0500
TZNAME:EST
DTSTART:20231105T060000
END:STANDARD
BEGIN:DAYLIGHT
TZOFFSETFROM:-0500
TZOFFSETTO:-0400
TZNAME:EDT
DTSTART:20240310T070000
END:DAYLIGHT
BEGIN:STANDARD
TZOFFSETFROM:-0400
TZOFFSETTO:-0500
TZNAME:EST
DTSTART:20241103T060000
END:STANDARD
BEGIN:DAYLIGHT
TZOFFSETFROM:-0500
TZOFFSETTO:-0400
TZNAME:EDT
DTSTART:20250309T070000
END:DAYLIGHT
BEGIN:STANDARD
TZOFFSETFROM:-0400
TZOFFSETTO:-0500
TZNAME:EST
DTSTART:20251102T060000
END:STANDARD
END:VTIMEZONE
BEGIN:VEVENT
DTSTART;TZID=America/New_York:20241201T080000
DTEND;TZID=America/New_York:20241201T090000
DTSTAMP:20260424T142605
CREATED:20231222T015421Z
LAST-MODIFIED:20241213T230031Z
UID:10002879-1733040000-1733043600@stjameshydepark.org
SUMMARY:Holy Eucharist (Rite I)
DESCRIPTION:Join us Sundays at 8:00 a.m. for a celebration of Holy Eucharist (Communion). This is a quiet service\, usually without music\, though we often have a soloist with acoustic guitar playing before and after the service. The service uses Rite 1 from the 1979 Book of Common Prayer\, with traditional language.
URL:https://stjameshydepark.org/event/2024-eucharist-8am/2024-12-01/
LOCATION:St. James’ Episcopal Church\, 4526 Albany Post Rd.\, Hyde Park\, NY\, 12538\, United States
CATEGORIES:Worship
END:VEVENT
BEGIN:VEVENT
DTSTART;TZID=America/New_York:20241201T091500
DTEND;TZID=America/New_York:20241201T094500
DTSTAMP:20260424T142605
CREATED:20241126T151319Z
LAST-MODIFIED:20241126T151325Z
UID:10003708-1733044500-1733046300@stjameshydepark.org
SUMMARY:"Mary Strong" Rosary Prayer Group (Wilks Room)
DESCRIPTION:The “Mary Strong” rosary prayer group meets on the first Sunday of each month. We meet in the Wilks Room in the Parish House at 9:15 between our 8 and 10 am services. All are welcome! \nNever prayed the rosary before? No problem! This group will teach you everything you need to know. \nYes\, Episcopalians can and do pray the rosary! Just as we ask our friends to pray for us\, we can ask the saints—that great cloud of witnesses—to intercede on our behalf. Praying the rosary draws us close to the heart of St. Mary the God-bearer as we meditate on Jesus’ ministry\, crucifixion\, resurrection and ascension.
URL:https://stjameshydepark.org/event/rosary-prayer-group-2025/2024-12-01/
LOCATION:St. James’ Episcopal Church\, 4526 Albany Post Rd.\, Hyde Park\, NY\, 12538\, United States
CATEGORIES:Christian Formation,Worship
END:VEVENT
BEGIN:VEVENT
DTSTART;TZID=America/New_York:20241201T100000
DTEND;TZID=America/New_York:20241201T113000
DTSTAMP:20260424T142605
CREATED:20240628T203601Z
LAST-MODIFIED:20240628T203728Z
UID:10002775-1733047200-1733052600@stjameshydepark.org
SUMMARY:Holy Eucharist (Rite II) with Sunday School and Coffee Hour
DESCRIPTION:Join us Sundays at 10:00 a.m. for a celebration of Holy Eucharist (Communion). This service has music (usually organ and choir\, along with special guest musicians) and uses a variety of prayers and language from traditional to inclusive and expansive\, drawing from Rite II of the 1979 Book of Common Prayer\, Enriching Our Worship\, and other sources. \nCoffee hour in the Parish House usually follows this service. \nSunday School for kindergarten and up meets today on the second floor of the Parish House at 10:00 a.m. Students will rejoin the congregation just before Holy Communion. New to St. James’ Church? Your kids are welcome to Sunday School any Sunday. More details about St. James’ Sunday School at: https://stjameshydepark.org/for-children/
URL:https://stjameshydepark.org/event/2024-eucharist-rite-ii-10-2/2024-12-01/
LOCATION:St. James’ Episcopal Church\, 4526 Albany Post Rd.\, Hyde Park\, NY\, 12538\, United States
CATEGORIES:Worship
END:VEVENT
BEGIN:VEVENT
DTSTART;TZID=America/New_York:20241201T170000
DTEND;TZID=America/New_York:20241201T200000
DTSTAMP:20260424T142605
CREATED:20241001T151905Z
LAST-MODIFIED:20241118T200023Z
UID:10004148-1733072400-1733083200@stjameshydepark.org
SUMMARY:"Joy is at Hand!" Potluck Supper and Taizé Prayer Service
DESCRIPTION:Joy is at hand! \nSt. James’ welcomes the holy season of Advent with a potluck supper and Bible reflection followed by a meditative candlelit Taizé prayer service. Please join us on the First Sunday of Advent\, December 1st—potluck supper and Bible reflection begin at 5 pm in the Parish Hall\, and the prayer service begins at approximately 7 pm in the candlelit church. \nPotluck signup: https://forms.gle/YxToDopy6KewL2aF8 Please sign up to bring a dish or drink to share\, and/or to help set up or clean up! Thank you! \nThank you to the Rev. Masud ibn Syedullah and his ministry\, Roots & Branches\, for this gift to St. James’ and the wider community.
URL:https://stjameshydepark.org/event/advent-taize-2024/
LOCATION:St. James’ Episcopal Church\, 4526 Albany Post Rd.\, Hyde Park\, NY\, 12538\, United States
CATEGORIES:Christian Formation,Christmas,Worship
ATTACH;FMTTYPE=image/png:https://stjameshydepark.org/wp-content/uploads/2024/10/Advent-Taize-2024.png
END:VEVENT
BEGIN:VEVENT
DTSTART;TZID=America/New_York:20241204T183000
DTEND;TZID=America/New_York:20241204T193000
DTSTAMP:20260424T142605
CREATED:20240112T175112Z
LAST-MODIFIED:20240112T175307Z
UID:10003111-1733337000-1733340600@stjameshydepark.org
SUMMARY:Evening Prayer (Remote)
DESCRIPTION:
URL:https://stjameshydepark.org/event/evening-prayer-remote-2-2/2024-12-04/
LOCATION:Online
CATEGORIES:Worship
END:VEVENT
BEGIN:VEVENT
DTSTART;TZID=America/New_York:20241207T183000
DTEND;TZID=America/New_York:20241207T193000
DTSTAMP:20260424T142605
CREATED:20240112T175527Z
LAST-MODIFIED:20240112T175653Z
UID:10003161-1733596200-1733599800@stjameshydepark.org
SUMMARY:Compline (Remote)
DESCRIPTION:
URL:https://stjameshydepark.org/event/compline-remote-3-2023-01-07-2/2024-12-07/
LOCATION:Online
CATEGORIES:Worship
END:VEVENT
BEGIN:VEVENT
DTSTART;TZID=America/New_York:20241208T080000
DTEND;TZID=America/New_York:20241208T090000
DTSTAMP:20260424T142605
CREATED:20231222T015421Z
LAST-MODIFIED:20241213T230031Z
UID:10002880-1733644800-1733648400@stjameshydepark.org
SUMMARY:Holy Eucharist (Rite I)
DESCRIPTION:Join us Sundays at 8:00 a.m. for a celebration of Holy Eucharist (Communion). This is a quiet service\, usually without music\, though we often have a soloist with acoustic guitar playing before and after the service. The service uses Rite 1 from the 1979 Book of Common Prayer\, with traditional language.
URL:https://stjameshydepark.org/event/2024-eucharist-8am/2024-12-08/
LOCATION:St. James’ Episcopal Church\, 4526 Albany Post Rd.\, Hyde Park\, NY\, 12538\, United States
CATEGORIES:Worship
END:VEVENT
BEGIN:VEVENT
DTSTART;TZID=America/New_York:20241208T100000
DTEND;TZID=America/New_York:20241208T113000
DTSTAMP:20260424T142605
CREATED:20240628T203601Z
LAST-MODIFIED:20240628T203728Z
UID:10002776-1733652000-1733657400@stjameshydepark.org
SUMMARY:Holy Eucharist (Rite II) with Sunday School and Coffee Hour
DESCRIPTION:Join us Sundays at 10:00 a.m. for a celebration of Holy Eucharist (Communion). This service has music (usually organ and choir\, along with special guest musicians) and uses a variety of prayers and language from traditional to inclusive and expansive\, drawing from Rite II of the 1979 Book of Common Prayer\, Enriching Our Worship\, and other sources. \nCoffee hour in the Parish House usually follows this service. \nSunday School for kindergarten and up meets today on the second floor of the Parish House at 10:00 a.m. Students will rejoin the congregation just before Holy Communion. New to St. James’ Church? Your kids are welcome to Sunday School any Sunday. More details about St. James’ Sunday School at: https://stjameshydepark.org/for-children/
URL:https://stjameshydepark.org/event/2024-eucharist-rite-ii-10-2/2024-12-08/
LOCATION:St. James’ Episcopal Church\, 4526 Albany Post Rd.\, Hyde Park\, NY\, 12538\, United States
CATEGORIES:Worship
END:VEVENT
BEGIN:VEVENT
DTSTART;TZID=America/New_York:20241211T183000
DTEND;TZID=America/New_York:20241211T193000
DTSTAMP:20260424T142605
CREATED:20240112T175112Z
LAST-MODIFIED:20240112T175307Z
UID:10003112-1733941800-1733945400@stjameshydepark.org
SUMMARY:Evening Prayer (Remote)
DESCRIPTION:
URL:https://stjameshydepark.org/event/evening-prayer-remote-2-2/2024-12-11/
LOCATION:Online
CATEGORIES:Worship
END:VEVENT
BEGIN:VEVENT
DTSTART;TZID=America/New_York:20241214T183000
DTEND;TZID=America/New_York:20241214T193000
DTSTAMP:20260424T142605
CREATED:20240112T175527Z
LAST-MODIFIED:20240112T175653Z
UID:10003162-1734201000-1734204600@stjameshydepark.org
SUMMARY:Compline (Remote)
DESCRIPTION:
URL:https://stjameshydepark.org/event/compline-remote-3-2023-01-07-2/2024-12-14/
LOCATION:Online
CATEGORIES:Worship
END:VEVENT
BEGIN:VEVENT
DTSTART;TZID=America/New_York:20241215T080000
DTEND;TZID=America/New_York:20241215T090000
DTSTAMP:20260424T142605
CREATED:20231222T015421Z
LAST-MODIFIED:20241213T230031Z
UID:10002881-1734249600-1734253200@stjameshydepark.org
SUMMARY:Holy Eucharist (Rite I)
DESCRIPTION:Join us Sundays at 8:00 a.m. for a celebration of Holy Eucharist (Communion). This is a quiet service\, usually without music\, though we often have a soloist with acoustic guitar playing before and after the service. The service uses Rite 1 from the 1979 Book of Common Prayer\, with traditional language.
URL:https://stjameshydepark.org/event/2024-eucharist-8am/2024-12-15/
LOCATION:St. James’ Episcopal Church\, 4526 Albany Post Rd.\, Hyde Park\, NY\, 12538\, United States
CATEGORIES:Worship
END:VEVENT
BEGIN:VEVENT
DTSTART;TZID=America/New_York:20241215T100000
DTEND;TZID=America/New_York:20241215T113000
DTSTAMP:20260424T142605
CREATED:20241121T183444Z
LAST-MODIFIED:20241121T183445Z
UID:10002777-1734256800-1734262200@stjameshydepark.org
SUMMARY:Holy Eucharist (Rite II) with Sunday School (No Coffee Hour)
DESCRIPTION:Join us Sundays at 10:00 a.m. for a celebration of Holy Eucharist (Communion). This service has music (usually organ and choir\, along with special guest musicians) and uses a variety of prayers and language from traditional to inclusive and expansive\, drawing from Rite II of the 1979 Book of Common Prayer\, Enriching Our Worship\, and other sources. \nThere is no Coffee Hour on Sunday\, December 15th–please join us at 9 am for our Stewardship Celebration Breakfast. All are welcome! \nSunday School for kindergarten and up meets today on the second floor of the Parish House at 10:00 a.m. Students will rejoin the congregation just before Holy Communion. New to St. James’ Church? Your kids are welcome to Sunday School any Sunday. More details about St. James’ Sunday School at: https://stjameshydepark.org/for-children/
URL:https://stjameshydepark.org/event/2024-eucharist-rite-ii-10-2-3/
LOCATION:St. James’ Episcopal Church\, 4526 Albany Post Rd.\, Hyde Park\, NY\, 12538\, United States
CATEGORIES:Worship
END:VEVENT
BEGIN:VEVENT
DTSTART;TZID=America/New_York:20241218T183000
DTEND;TZID=America/New_York:20241218T193000
DTSTAMP:20260424T142605
CREATED:20240112T175112Z
LAST-MODIFIED:20240112T175307Z
UID:10003113-1734546600-1734550200@stjameshydepark.org
SUMMARY:Evening Prayer (Remote)
DESCRIPTION:
URL:https://stjameshydepark.org/event/evening-prayer-remote-2-2/2024-12-18/
LOCATION:Online
CATEGORIES:Worship
END:VEVENT
BEGIN:VEVENT
DTSTART;TZID=America/New_York:20241219T190000
DTEND;TZID=America/New_York:20241219T203000
DTSTAMP:20260424T142605
CREATED:20241121T183311Z
LAST-MODIFIED:20241121T183333Z
UID:10004301-1734634800-1734640200@stjameshydepark.org
SUMMARY:Blue Christmas Service
DESCRIPTION:A quiet\, reflective prayer service for anyone experiencing grief\, loss\, or struggle during the holidays.
URL:https://stjameshydepark.org/event/blue-christmas-service/
LOCATION:St. James’ Episcopal Church\, 4526 Albany Post Rd.\, Hyde Park\, NY\, 12538\, United States
CATEGORIES:Christmas,Worship
ATTACH;FMTTYPE=image/png:https://stjameshydepark.org/wp-content/uploads/2024/11/Blue-Christmas-2024.png
END:VEVENT
BEGIN:VEVENT
DTSTART;TZID=America/New_York:20241221T183000
DTEND;TZID=America/New_York:20241221T193000
DTSTAMP:20260424T142605
CREATED:20240112T175527Z
LAST-MODIFIED:20240112T175653Z
UID:10003163-1734805800-1734809400@stjameshydepark.org
SUMMARY:Compline (Remote)
DESCRIPTION:
URL:https://stjameshydepark.org/event/compline-remote-3-2023-01-07-2/2024-12-21/
LOCATION:Online
CATEGORIES:Worship
END:VEVENT
BEGIN:VEVENT
DTSTART;TZID=America/New_York:20241222T080000
DTEND;TZID=America/New_York:20241222T090000
DTSTAMP:20260424T142605
CREATED:20241213T230052Z
LAST-MODIFIED:20241213T230152Z
UID:10002882-1734854400-1734858000@stjameshydepark.org
SUMMARY:Holy Eucharist (Rite I)—the Rt. Rev. Allen Shin\, Celebrant and Preacher
DESCRIPTION:On Sunday\, December 22nd\, the Right Reverend Allen Shin\, Bishop Suffragan\, Diocese of New York\, will preach and celebrate at the 8 and 10 am services. \n\nJoin us Sundays at 8:00 a.m. for a celebration of Holy Eucharist (Communion). This is a quiet service\, usually without music\, though we often have a soloist with acoustic guitar playing before and after the service. The service uses Rite 1 from the 1979 Book of Common Prayer\, with traditional language.
URL:https://stjameshydepark.org/event/2024-bishop-shin-visit-dec-22-8am/
LOCATION:St. James’ Episcopal Church\, 4526 Albany Post Rd.\, Hyde Park\, NY\, 12538\, United States
CATEGORIES:Worship
END:VEVENT
BEGIN:VEVENT
DTSTART;TZID=America/New_York:20241222T100000
DTEND;TZID=America/New_York:20241222T113000
DTSTAMP:20260424T142605
CREATED:20241213T202453Z
LAST-MODIFIED:20241218T222508Z
UID:10002778-1734861600-1734867000@stjameshydepark.org
SUMMARY:Holy Eucharist (Rite II) with Confirmations & Receptions—the Rt. Rev. Allen Shin\, Celebrant and Preacher. Followed by Coffee Hour. No Sunday School today!
DESCRIPTION:On Sunday\, December 22nd\, our 10 am service will be a joint service with St. Margaret’s\, Staatsburg. The Right Reverend Allen Shin\, Bishop Suffragan\, Diocese of New York\, will preach and celebrate and will confirm three people in their faith and receive seven people into The Episcopal Church. \nImmediately following the 10 am service\, Bishop Shin will bless Christmas wreaths to be placed on the graves of the 75 veterans resting in our churchyard. \nThen we’ll proceed to our Parish Hall for a festive holiday Coffee Hour to celebrate the newly Confirmed and Received! \nNo Sunday School on Sunday\, December 22nd. \n\nJoin us Sundays at 10:00 a.m. for a celebration of Holy Eucharist (Communion). This service has music (usually organ and choir\, along with special guest musicians) and uses a variety of prayers and language from traditional to inclusive and expansive\, drawing from Rite II of the 1979 Book of Common Prayer\, Enriching Our Worship\, and other sources. \nCoffee hour in the Parish House usually follows this service. \nSunday School for kindergarten and up meets today on the second floor of the Parish House at 10:00 a.m. Students will rejoin the congregation just before Holy Communion. New to St. James’ Church? Your kids are welcome to Sunday School any Sunday. More details about St. James’ Sunday School at: https://stjameshydepark.org/for-children/
URL:https://stjameshydepark.org/event/2024-bishop-shin-visit-dec-22-10am/
LOCATION:St. James’ Episcopal Church\, 4526 Albany Post Rd.\, Hyde Park\, NY\, 12538\, United States
CATEGORIES:Worship
END:VEVENT
BEGIN:VEVENT
DTSTART;TZID=America/New_York:20241228T183000
DTEND;TZID=America/New_York:20241228T193000
DTSTAMP:20260424T142605
CREATED:20240112T175527Z
LAST-MODIFIED:20240112T175653Z
UID:10003164-1735410600-1735414200@stjameshydepark.org
SUMMARY:Compline (Remote)
DESCRIPTION:
URL:https://stjameshydepark.org/event/compline-remote-3-2023-01-07-2/2024-12-28/
LOCATION:Online
CATEGORIES:Worship
END:VEVENT
BEGIN:VEVENT
DTSTART;TZID=America/New_York:20241229T080000
DTEND;TZID=America/New_York:20241229T090000
DTSTAMP:20260424T142605
CREATED:20241210T172413Z
LAST-MODIFIED:20241210T172415Z
UID:10002883-1735459200-1735462800@stjameshydepark.org
SUMMARY:No 8 am service on December 29th
DESCRIPTION:There is no 8 am service on Sunday\, December 29th. Please join us at 10 am for worship with Christmas carols and our Christmas pageant! \n\nJoin us Sundays at 8:00 a.m. for a celebration of Holy Eucharist (Communion). This is a quiet service\, usually without music\, though we often have a soloist with acoustic guitar playing before and after the service. The service uses Rite 1 from the 1979 Book of Common Prayer\, with traditional language.
URL:https://stjameshydepark.org/event/2024-eucharist-rite-i-3/
LOCATION:St. James’ Episcopal Church\, 4526 Albany Post Rd.\, Hyde Park\, NY\, 12538\, United States
CATEGORIES:Worship
END:VEVENT
BEGIN:VEVENT
DTSTART;TZID=America/New_York:20241229T100000
DTEND;TZID=America/New_York:20241229T113000
DTSTAMP:20260424T142605
CREATED:20241210T172627Z
LAST-MODIFIED:20241210T172725Z
UID:10002779-1735466400-1735471800@stjameshydepark.org
SUMMARY:Holy Eucharist (Rite II) with Christmas Pageant and Coffee Hour
DESCRIPTION:Join us on the First Sunday after Christmas\, December 29th at 10 am\, for a special service with Christmas carols\, a Christmas pageant for all ages\, and Holy Eucharist. Coffee Hour in the Parish Hall will follow. There is no Sunday School today.
URL:https://stjameshydepark.org/event/2024-eucharist-rite-ii-with-pageant/
LOCATION:St. James’ Episcopal Church\, 4526 Albany Post Rd.\, Hyde Park\, NY\, 12538\, United States
CATEGORIES:Christmas,Worship
ATTACH;FMTTYPE=image/png:https://stjameshydepark.org/wp-content/uploads/2024/12/Pageant.png
END:VEVENT
END:VCALENDAR