BEGIN:VCALENDAR
VERSION:2.0
PRODID:-//St. James&#039; Episcopal Church - ECPv6.15.20//NONSGML v1.0//EN
CALSCALE:GREGORIAN
METHOD:PUBLISH
X-WR-CALNAME:St. James&#039; Episcopal Church
X-ORIGINAL-URL:https://stjameshydepark.org
X-WR-CALDESC:Events for St. James&#039; Episcopal Church
REFRESH-INTERVAL;VALUE=DURATION:PT1H
X-Robots-Tag:noindex
X-PUBLISHED-TTL:PT1H
BEGIN:VTIMEZONE
TZID:America/New_York
BEGIN:DAYLIGHT
TZOFFSETFROM:-0500
TZOFFSETTO:-0400
TZNAME:EDT
DTSTART:20230312T070000
END:DAYLIGHT
BEGIN:STANDARD
TZOFFSETFROM:-0400
TZOFFSETTO:-0500
TZNAME:EST
DTSTART:20231105T060000
END:STANDARD
BEGIN:DAYLIGHT
TZOFFSETFROM:-0500
TZOFFSETTO:-0400
TZNAME:EDT
DTSTART:20240310T070000
END:DAYLIGHT
BEGIN:STANDARD
TZOFFSETFROM:-0400
TZOFFSETTO:-0500
TZNAME:EST
DTSTART:20241103T060000
END:STANDARD
BEGIN:DAYLIGHT
TZOFFSETFROM:-0500
TZOFFSETTO:-0400
TZNAME:EDT
DTSTART:20250309T070000
END:DAYLIGHT
BEGIN:STANDARD
TZOFFSETFROM:-0400
TZOFFSETTO:-0500
TZNAME:EST
DTSTART:20251102T060000
END:STANDARD
END:VTIMEZONE
BEGIN:VEVENT
DTSTART;TZID=America/New_York:20240901T080000
DTEND;TZID=America/New_York:20240901T090000
DTSTAMP:20260424T195301
CREATED:20231222T015421Z
LAST-MODIFIED:20241213T230031Z
UID:10002866-1725177600-1725181200@stjameshydepark.org
SUMMARY:Holy Eucharist (Rite I)
DESCRIPTION:Join us Sundays at 8:00 a.m. for a celebration of Holy Eucharist (Communion). This is a quiet service\, usually without music\, though we often have a soloist with acoustic guitar playing before and after the service. The service uses Rite 1 from the 1979 Book of Common Prayer\, with traditional language.
URL:https://stjameshydepark.org/event/2024-eucharist-8am/2024-09-01/
LOCATION:St. James’ Episcopal Church\, 4526 Albany Post Rd.\, Hyde Park\, NY\, 12538\, United States
CATEGORIES:Worship
END:VEVENT
BEGIN:VEVENT
DTSTART;TZID=America/New_York:20240901T091500
DTEND;TZID=America/New_York:20240901T094500
DTSTAMP:20260424T195301
CREATED:20240415T115702Z
LAST-MODIFIED:20240415T115712Z
UID:10003695-1725182100-1725183900@stjameshydepark.org
SUMMARY:"Mary Strong" Rosary Prayer Group
DESCRIPTION:The “Mary Strong” rosary prayer group meets on the first Sunday of each month. We meet in the Church at 9:15 between our 8 and 10 am services. All are welcome! \nNever prayed the rosary before? No problem! This group will teach you everything you need to know. \nYes\, Episcopalians can and do pray the rosary! Just as we ask our friends to pray for us\, we can ask the saints—that great cloud of witnesses—to intercede on our behalf. Praying the rosary draws us close to the heart of St. Mary the God-bearer as we meditate on Jesus’ ministry\, crucifixion\, resurrection and ascension.
URL:https://stjameshydepark.org/event/rosary-prayer-group-2/2024-09-01/
LOCATION:St. James’ Episcopal Church\, 4526 Albany Post Rd.\, Hyde Park\, NY\, 12538\, United States
CATEGORIES:Christian Formation,Worship
END:VEVENT
BEGIN:VEVENT
DTSTART;TZID=America/New_York:20240901T100000
DTEND;TZID=America/New_York:20240901T113000
DTSTAMP:20260424T195301
CREATED:20240829T144257Z
LAST-MODIFIED:20240829T145131Z
UID:10002762-1725184800-1725190200@stjameshydepark.org
SUMMARY:Holy Eucharist (Rite II) followed by Coffee Hour (Summer—No Sunday School)
DESCRIPTION:Join us Sundays at 10:00 a.m. for a celebration of Holy Eucharist (Communion). This service has music (usually organ and choir\, along with special guest musicians) and uses a variety of prayers and language from traditional to inclusive and expansive\, drawing from Rite II of the 1979 Book of Common Prayer\, Enriching Our Worship\, and other sources. \nPlease join us for Coffee Hour after the service in our parish hall! \nSunday School is on haitus for the summer.
URL:https://stjameshydepark.org/event/2024-eucharist-rite-ii-10-5/
LOCATION:St. James’ Episcopal Church\, 4526 Albany Post Rd.\, Hyde Park\, NY\, 12538\, United States
CATEGORIES:Worship
END:VEVENT
BEGIN:VEVENT
DTSTART;TZID=America/New_York:20240904T183000
DTEND;TZID=America/New_York:20240904T193000
DTSTAMP:20260424T195301
CREATED:20240112T175112Z
LAST-MODIFIED:20240112T175307Z
UID:10003098-1725474600-1725478200@stjameshydepark.org
SUMMARY:Evening Prayer (Remote)
DESCRIPTION:
URL:https://stjameshydepark.org/event/evening-prayer-remote-2-2/2024-09-04/
LOCATION:Online
CATEGORIES:Worship
END:VEVENT
BEGIN:VEVENT
DTSTART;TZID=America/New_York:20240907T183000
DTEND;TZID=America/New_York:20240907T193000
DTSTAMP:20260424T195301
CREATED:20240112T175527Z
LAST-MODIFIED:20240112T175653Z
UID:10003148-1725733800-1725737400@stjameshydepark.org
SUMMARY:Compline (Remote)
DESCRIPTION:
URL:https://stjameshydepark.org/event/compline-remote-3-2023-01-07-2/2024-09-07/
LOCATION:Online
CATEGORIES:Worship
END:VEVENT
BEGIN:VEVENT
DTSTART;TZID=America/New_York:20240908T080000
DTEND;TZID=America/New_York:20240908T090000
DTSTAMP:20260424T195301
CREATED:20231222T015421Z
LAST-MODIFIED:20241213T230031Z
UID:10002867-1725782400-1725786000@stjameshydepark.org
SUMMARY:Holy Eucharist (Rite I)
DESCRIPTION:Join us Sundays at 8:00 a.m. for a celebration of Holy Eucharist (Communion). This is a quiet service\, usually without music\, though we often have a soloist with acoustic guitar playing before and after the service. The service uses Rite 1 from the 1979 Book of Common Prayer\, with traditional language.
URL:https://stjameshydepark.org/event/2024-eucharist-8am/2024-09-08/
LOCATION:St. James’ Episcopal Church\, 4526 Albany Post Rd.\, Hyde Park\, NY\, 12538\, United States
CATEGORIES:Worship
END:VEVENT
BEGIN:VEVENT
DTSTART;TZID=America/New_York:20240908T100000
DTEND;TZID=America/New_York:20240908T113000
DTSTAMP:20260424T195301
CREATED:20240628T203601Z
LAST-MODIFIED:20240628T203728Z
UID:10002763-1725789600-1725795000@stjameshydepark.org
SUMMARY:Holy Eucharist (Rite II) with Sunday School and Coffee Hour
DESCRIPTION:Join us Sundays at 10:00 a.m. for a celebration of Holy Eucharist (Communion). This service has music (usually organ and choir\, along with special guest musicians) and uses a variety of prayers and language from traditional to inclusive and expansive\, drawing from Rite II of the 1979 Book of Common Prayer\, Enriching Our Worship\, and other sources. \nCoffee hour in the Parish House usually follows this service. \nSunday School for kindergarten and up meets today on the second floor of the Parish House at 10:00 a.m. Students will rejoin the congregation just before Holy Communion. New to St. James’ Church? Your kids are welcome to Sunday School any Sunday. More details about St. James’ Sunday School at: https://stjameshydepark.org/for-children/
URL:https://stjameshydepark.org/event/2024-eucharist-rite-ii-10-2/2024-09-08/
LOCATION:St. James’ Episcopal Church\, 4526 Albany Post Rd.\, Hyde Park\, NY\, 12538\, United States
CATEGORIES:Worship
END:VEVENT
BEGIN:VEVENT
DTSTART;TZID=America/New_York:20240908T100000
DTEND;TZID=America/New_York:20240908T113000
DTSTAMP:20260424T195301
CREATED:20240829T145042Z
LAST-MODIFIED:20240829T145042Z
UID:10003939-1725789600-1725795000@stjameshydepark.org
SUMMARY:Blessing of the Backpacks
DESCRIPTION:On Sunday\, September 8th (Sunday after Labor Day)\, we’re inviting students and educators of every age to bring your backpack\, bag\, or briefcase to church for a special blessing at our 10 am service!
URL:https://stjameshydepark.org/event/blessing-of-the-backpacks/
LOCATION:St. James’ Episcopal Church\, 4526 Albany Post Rd.\, Hyde Park\, NY\, 12538\, United States
CATEGORIES:Fun,Kids & Youth,Worship
ATTACH;FMTTYPE=image/png:https://stjameshydepark.org/wp-content/uploads/2024/08/Backpack-Blessing-2024.png
END:VEVENT
BEGIN:VEVENT
DTSTART;TZID=America/New_York:20240911T183000
DTEND;TZID=America/New_York:20240911T193000
DTSTAMP:20260424T195301
CREATED:20240112T175112Z
LAST-MODIFIED:20240112T175307Z
UID:10003099-1726079400-1726083000@stjameshydepark.org
SUMMARY:Evening Prayer (Remote)
DESCRIPTION:
URL:https://stjameshydepark.org/event/evening-prayer-remote-2-2/2024-09-11/
LOCATION:Online
CATEGORIES:Worship
END:VEVENT
BEGIN:VEVENT
DTSTART;TZID=America/New_York:20240914T183000
DTEND;TZID=America/New_York:20240914T193000
DTSTAMP:20260424T195301
CREATED:20240112T175527Z
LAST-MODIFIED:20240112T175653Z
UID:10003149-1726338600-1726342200@stjameshydepark.org
SUMMARY:Compline (Remote)
DESCRIPTION:
URL:https://stjameshydepark.org/event/compline-remote-3-2023-01-07-2/2024-09-14/
LOCATION:Online
CATEGORIES:Worship
END:VEVENT
BEGIN:VEVENT
DTSTART;TZID=America/New_York:20240915T080000
DTEND;TZID=America/New_York:20240915T090000
DTSTAMP:20260424T195301
CREATED:20231222T015421Z
LAST-MODIFIED:20241213T230031Z
UID:10002868-1726387200-1726390800@stjameshydepark.org
SUMMARY:Holy Eucharist (Rite I)
DESCRIPTION:Join us Sundays at 8:00 a.m. for a celebration of Holy Eucharist (Communion). This is a quiet service\, usually without music\, though we often have a soloist with acoustic guitar playing before and after the service. The service uses Rite 1 from the 1979 Book of Common Prayer\, with traditional language.
URL:https://stjameshydepark.org/event/2024-eucharist-8am/2024-09-15/
LOCATION:St. James’ Episcopal Church\, 4526 Albany Post Rd.\, Hyde Park\, NY\, 12538\, United States
CATEGORIES:Worship
END:VEVENT
BEGIN:VEVENT
DTSTART;TZID=America/New_York:20240915T100000
DTEND;TZID=America/New_York:20240915T113000
DTSTAMP:20260424T195301
CREATED:20240628T203601Z
LAST-MODIFIED:20240628T203728Z
UID:10002764-1726394400-1726399800@stjameshydepark.org
SUMMARY:Holy Eucharist (Rite II) with Sunday School and Coffee Hour
DESCRIPTION:Join us Sundays at 10:00 a.m. for a celebration of Holy Eucharist (Communion). This service has music (usually organ and choir\, along with special guest musicians) and uses a variety of prayers and language from traditional to inclusive and expansive\, drawing from Rite II of the 1979 Book of Common Prayer\, Enriching Our Worship\, and other sources. \nCoffee hour in the Parish House usually follows this service. \nSunday School for kindergarten and up meets today on the second floor of the Parish House at 10:00 a.m. Students will rejoin the congregation just before Holy Communion. New to St. James’ Church? Your kids are welcome to Sunday School any Sunday. More details about St. James’ Sunday School at: https://stjameshydepark.org/for-children/
URL:https://stjameshydepark.org/event/2024-eucharist-rite-ii-10-2/2024-09-15/
LOCATION:St. James’ Episcopal Church\, 4526 Albany Post Rd.\, Hyde Park\, NY\, 12538\, United States
CATEGORIES:Worship
END:VEVENT
BEGIN:VEVENT
DTSTART;TZID=America/New_York:20240918T183000
DTEND;TZID=America/New_York:20240918T193000
DTSTAMP:20260424T195301
CREATED:20240112T175112Z
LAST-MODIFIED:20240112T175307Z
UID:10003100-1726684200-1726687800@stjameshydepark.org
SUMMARY:Evening Prayer (Remote)
DESCRIPTION:
URL:https://stjameshydepark.org/event/evening-prayer-remote-2-2/2024-09-18/
LOCATION:Online
CATEGORIES:Worship
END:VEVENT
BEGIN:VEVENT
DTSTART;TZID=America/New_York:20240921T183000
DTEND;TZID=America/New_York:20240921T193000
DTSTAMP:20260424T195301
CREATED:20240112T175527Z
LAST-MODIFIED:20240112T175653Z
UID:10003150-1726943400-1726947000@stjameshydepark.org
SUMMARY:Compline (Remote)
DESCRIPTION:
URL:https://stjameshydepark.org/event/compline-remote-3-2023-01-07-2/2024-09-21/
LOCATION:Online
CATEGORIES:Worship
END:VEVENT
BEGIN:VEVENT
DTSTART;TZID=America/New_York:20240922T080000
DTEND;TZID=America/New_York:20240922T090000
DTSTAMP:20260424T195301
CREATED:20231222T015421Z
LAST-MODIFIED:20241213T230031Z
UID:10002869-1726992000-1726995600@stjameshydepark.org
SUMMARY:Holy Eucharist (Rite I)
DESCRIPTION:Join us Sundays at 8:00 a.m. for a celebration of Holy Eucharist (Communion). This is a quiet service\, usually without music\, though we often have a soloist with acoustic guitar playing before and after the service. The service uses Rite 1 from the 1979 Book of Common Prayer\, with traditional language.
URL:https://stjameshydepark.org/event/2024-eucharist-8am/2024-09-22/
LOCATION:St. James’ Episcopal Church\, 4526 Albany Post Rd.\, Hyde Park\, NY\, 12538\, United States
CATEGORIES:Worship
END:VEVENT
BEGIN:VEVENT
DTSTART;TZID=America/New_York:20240922T100000
DTEND;TZID=America/New_York:20240922T113000
DTSTAMP:20260424T195301
CREATED:20240628T203601Z
LAST-MODIFIED:20240628T203728Z
UID:10002765-1726999200-1727004600@stjameshydepark.org
SUMMARY:Holy Eucharist (Rite II) with Sunday School and Coffee Hour
DESCRIPTION:Join us Sundays at 10:00 a.m. for a celebration of Holy Eucharist (Communion). This service has music (usually organ and choir\, along with special guest musicians) and uses a variety of prayers and language from traditional to inclusive and expansive\, drawing from Rite II of the 1979 Book of Common Prayer\, Enriching Our Worship\, and other sources. \nCoffee hour in the Parish House usually follows this service. \nSunday School for kindergarten and up meets today on the second floor of the Parish House at 10:00 a.m. Students will rejoin the congregation just before Holy Communion. New to St. James’ Church? Your kids are welcome to Sunday School any Sunday. More details about St. James’ Sunday School at: https://stjameshydepark.org/for-children/
URL:https://stjameshydepark.org/event/2024-eucharist-rite-ii-10-2/2024-09-22/
LOCATION:St. James’ Episcopal Church\, 4526 Albany Post Rd.\, Hyde Park\, NY\, 12538\, United States
CATEGORIES:Worship
END:VEVENT
BEGIN:VEVENT
DTSTART;TZID=America/New_York:20240925T183000
DTEND;TZID=America/New_York:20240925T193000
DTSTAMP:20260424T195301
CREATED:20240112T175112Z
LAST-MODIFIED:20240112T175307Z
UID:10003101-1727289000-1727292600@stjameshydepark.org
SUMMARY:Evening Prayer (Remote)
DESCRIPTION:
URL:https://stjameshydepark.org/event/evening-prayer-remote-2-2/2024-09-25/
LOCATION:Online
CATEGORIES:Worship
END:VEVENT
BEGIN:VEVENT
DTSTART;TZID=America/New_York:20240928T183000
DTEND;TZID=America/New_York:20240928T193000
DTSTAMP:20260424T195301
CREATED:20240112T175527Z
LAST-MODIFIED:20240112T175653Z
UID:10003151-1727548200-1727551800@stjameshydepark.org
SUMMARY:Compline (Remote)
DESCRIPTION:
URL:https://stjameshydepark.org/event/compline-remote-3-2023-01-07-2/2024-09-28/
LOCATION:Online
CATEGORIES:Worship
END:VEVENT
BEGIN:VEVENT
DTSTART;TZID=America/New_York:20240929T080000
DTEND;TZID=America/New_York:20240929T090000
DTSTAMP:20260424T195301
CREATED:20231222T015421Z
LAST-MODIFIED:20241213T230031Z
UID:10002870-1727596800-1727600400@stjameshydepark.org
SUMMARY:Holy Eucharist (Rite I)
DESCRIPTION:Join us Sundays at 8:00 a.m. for a celebration of Holy Eucharist (Communion). This is a quiet service\, usually without music\, though we often have a soloist with acoustic guitar playing before and after the service. The service uses Rite 1 from the 1979 Book of Common Prayer\, with traditional language.
URL:https://stjameshydepark.org/event/2024-eucharist-8am/2024-09-29/
LOCATION:St. James’ Episcopal Church\, 4526 Albany Post Rd.\, Hyde Park\, NY\, 12538\, United States
CATEGORIES:Worship
END:VEVENT
BEGIN:VEVENT
DTSTART;TZID=America/New_York:20240929T100000
DTEND;TZID=America/New_York:20240929T113000
DTSTAMP:20260424T195301
CREATED:20240628T203601Z
LAST-MODIFIED:20240628T203728Z
UID:10002766-1727604000-1727609400@stjameshydepark.org
SUMMARY:Holy Eucharist (Rite II) with Sunday School and Coffee Hour
DESCRIPTION:Join us Sundays at 10:00 a.m. for a celebration of Holy Eucharist (Communion). This service has music (usually organ and choir\, along with special guest musicians) and uses a variety of prayers and language from traditional to inclusive and expansive\, drawing from Rite II of the 1979 Book of Common Prayer\, Enriching Our Worship\, and other sources. \nCoffee hour in the Parish House usually follows this service. \nSunday School for kindergarten and up meets today on the second floor of the Parish House at 10:00 a.m. Students will rejoin the congregation just before Holy Communion. New to St. James’ Church? Your kids are welcome to Sunday School any Sunday. More details about St. James’ Sunday School at: https://stjameshydepark.org/for-children/
URL:https://stjameshydepark.org/event/2024-eucharist-rite-ii-10-2/2024-09-29/
LOCATION:St. James’ Episcopal Church\, 4526 Albany Post Rd.\, Hyde Park\, NY\, 12538\, United States
CATEGORIES:Worship
END:VEVENT
END:VCALENDAR