BEGIN:VCALENDAR
VERSION:2.0
PRODID:-//St. James&#039; Episcopal Church - ECPv6.15.20//NONSGML v1.0//EN
CALSCALE:GREGORIAN
METHOD:PUBLISH
X-ORIGINAL-URL:https://stjameshydepark.org
X-WR-CALDESC:Events for St. James&#039; Episcopal Church
REFRESH-INTERVAL;VALUE=DURATION:PT1H
X-Robots-Tag:noindex
X-PUBLISHED-TTL:PT1H
BEGIN:VTIMEZONE
TZID:America/New_York
BEGIN:DAYLIGHT
TZOFFSETFROM:-0500
TZOFFSETTO:-0400
TZNAME:EDT
DTSTART:20230312T070000
END:DAYLIGHT
BEGIN:STANDARD
TZOFFSETFROM:-0400
TZOFFSETTO:-0500
TZNAME:EST
DTSTART:20231105T060000
END:STANDARD
BEGIN:DAYLIGHT
TZOFFSETFROM:-0500
TZOFFSETTO:-0400
TZNAME:EDT
DTSTART:20240310T070000
END:DAYLIGHT
BEGIN:STANDARD
TZOFFSETFROM:-0400
TZOFFSETTO:-0500
TZNAME:EST
DTSTART:20241103T060000
END:STANDARD
BEGIN:DAYLIGHT
TZOFFSETFROM:-0500
TZOFFSETTO:-0400
TZNAME:EDT
DTSTART:20250309T070000
END:DAYLIGHT
BEGIN:STANDARD
TZOFFSETFROM:-0400
TZOFFSETTO:-0500
TZNAME:EST
DTSTART:20251102T060000
END:STANDARD
END:VTIMEZONE
BEGIN:VEVENT
DTSTART;TZID=America/New_York:20240703T183000
DTEND;TZID=America/New_York:20240703T193000
DTSTAMP:20260424T223519
CREATED:20240112T175112Z
LAST-MODIFIED:20240112T175307Z
UID:10003089-1720031400-1720035000@stjameshydepark.org
SUMMARY:Evening Prayer (Remote)
DESCRIPTION:
URL:https://stjameshydepark.org/event/evening-prayer-remote-2-2/2024-07-03/
LOCATION:Online
CATEGORIES:Worship
END:VEVENT
BEGIN:VEVENT
DTSTART;TZID=America/New_York:20240706T183000
DTEND;TZID=America/New_York:20240706T193000
DTSTAMP:20260424T223519
CREATED:20240112T175527Z
LAST-MODIFIED:20240112T175653Z
UID:10003139-1720290600-1720294200@stjameshydepark.org
SUMMARY:Compline (Remote)
DESCRIPTION:
URL:https://stjameshydepark.org/event/compline-remote-3-2023-01-07-2/2024-07-06/
LOCATION:Online
CATEGORIES:Worship
END:VEVENT
BEGIN:VEVENT
DTSTART;TZID=America/New_York:20240707T080000
DTEND;TZID=America/New_York:20240707T090000
DTSTAMP:20260424T223519
CREATED:20231222T015421Z
LAST-MODIFIED:20241213T230031Z
UID:10002858-1720339200-1720342800@stjameshydepark.org
SUMMARY:Holy Eucharist (Rite I)
DESCRIPTION:Join us Sundays at 8:00 a.m. for a celebration of Holy Eucharist (Communion). This is a quiet service\, usually without music\, though we often have a soloist with acoustic guitar playing before and after the service. The service uses Rite 1 from the 1979 Book of Common Prayer\, with traditional language.
URL:https://stjameshydepark.org/event/2024-eucharist-8am/2024-07-07/
LOCATION:St. James’ Episcopal Church\, 4526 Albany Post Rd.\, Hyde Park\, NY\, 12538\, United States
CATEGORIES:Worship
END:VEVENT
BEGIN:VEVENT
DTSTART;TZID=America/New_York:20240707T091500
DTEND;TZID=America/New_York:20240707T094500
DTSTAMP:20260424T223519
CREATED:20240415T115702Z
LAST-MODIFIED:20240415T115712Z
UID:10003687-1720343700-1720345500@stjameshydepark.org
SUMMARY:"Mary Strong" Rosary Prayer Group
DESCRIPTION:The “Mary Strong” rosary prayer group meets on the first Sunday of each month. We meet in the Church at 9:15 between our 8 and 10 am services. All are welcome! \nNever prayed the rosary before? No problem! This group will teach you everything you need to know. \nYes\, Episcopalians can and do pray the rosary! Just as we ask our friends to pray for us\, we can ask the saints—that great cloud of witnesses—to intercede on our behalf. Praying the rosary draws us close to the heart of St. Mary the God-bearer as we meditate on Jesus’ ministry\, crucifixion\, resurrection and ascension.
URL:https://stjameshydepark.org/event/rosary-prayer-group-2/2024-07-07/
LOCATION:St. James’ Episcopal Church\, 4526 Albany Post Rd.\, Hyde Park\, NY\, 12538\, United States
CATEGORIES:Christian Formation,Worship
END:VEVENT
BEGIN:VEVENT
DTSTART;TZID=America/New_York:20240707T100000
DTEND;TZID=America/New_York:20240707T113000
DTSTAMP:20260424T223519
CREATED:20240628T203410Z
LAST-MODIFIED:20240628T203412Z
UID:10002754-1720346400-1720351800@stjameshydepark.org
SUMMARY:Holy Eucharist (Rite II) (Summer—No Sunday School\, No Coffee Hour)
DESCRIPTION:Join us Sundays at 10:00 a.m. for a celebration of Holy Eucharist (Communion). This service has music (usually organ and choir\, along with special guest musicians) and uses a variety of prayers and language from traditional to inclusive and expansive\, drawing from Rite II of the 1979 Book of Common Prayer\, Enriching Our Worship\, and other sources. \nSunday School and Coffee Hour are on haitus for the summer.
URL:https://stjameshydepark.org/event/2024-eucharist-rite-ii-10/2024-07-07/
LOCATION:St. James’ Episcopal Church\, 4526 Albany Post Rd.\, Hyde Park\, NY\, 12538\, United States
CATEGORIES:Worship
END:VEVENT
BEGIN:VEVENT
DTSTART;TZID=America/New_York:20240710T183000
DTEND;TZID=America/New_York:20240710T193000
DTSTAMP:20260424T223519
CREATED:20240112T175112Z
LAST-MODIFIED:20240112T175307Z
UID:10003090-1720636200-1720639800@stjameshydepark.org
SUMMARY:Evening Prayer (Remote)
DESCRIPTION:
URL:https://stjameshydepark.org/event/evening-prayer-remote-2-2/2024-07-10/
LOCATION:Online
CATEGORIES:Worship
END:VEVENT
BEGIN:VEVENT
DTSTART;TZID=America/New_York:20240713T183000
DTEND;TZID=America/New_York:20240713T193000
DTSTAMP:20260424T223519
CREATED:20240112T175527Z
LAST-MODIFIED:20240112T175653Z
UID:10003140-1720895400-1720899000@stjameshydepark.org
SUMMARY:Compline (Remote)
DESCRIPTION:
URL:https://stjameshydepark.org/event/compline-remote-3-2023-01-07-2/2024-07-13/
LOCATION:Online
CATEGORIES:Worship
END:VEVENT
BEGIN:VEVENT
DTSTART;TZID=America/New_York:20240714T080000
DTEND;TZID=America/New_York:20240714T090000
DTSTAMP:20260424T223519
CREATED:20231222T015421Z
LAST-MODIFIED:20241213T230031Z
UID:10002859-1720944000-1720947600@stjameshydepark.org
SUMMARY:Holy Eucharist (Rite I)
DESCRIPTION:Join us Sundays at 8:00 a.m. for a celebration of Holy Eucharist (Communion). This is a quiet service\, usually without music\, though we often have a soloist with acoustic guitar playing before and after the service. The service uses Rite 1 from the 1979 Book of Common Prayer\, with traditional language.
URL:https://stjameshydepark.org/event/2024-eucharist-8am/2024-07-14/
LOCATION:St. James’ Episcopal Church\, 4526 Albany Post Rd.\, Hyde Park\, NY\, 12538\, United States
CATEGORIES:Worship
END:VEVENT
BEGIN:VEVENT
DTSTART;TZID=America/New_York:20240714T100000
DTEND;TZID=America/New_York:20240714T113000
DTSTAMP:20260424T223519
CREATED:20240628T203410Z
LAST-MODIFIED:20240628T203412Z
UID:10002755-1720951200-1720956600@stjameshydepark.org
SUMMARY:Holy Eucharist (Rite II) (Summer—No Sunday School\, No Coffee Hour)
DESCRIPTION:Join us Sundays at 10:00 a.m. for a celebration of Holy Eucharist (Communion). This service has music (usually organ and choir\, along with special guest musicians) and uses a variety of prayers and language from traditional to inclusive and expansive\, drawing from Rite II of the 1979 Book of Common Prayer\, Enriching Our Worship\, and other sources. \nSunday School and Coffee Hour are on haitus for the summer.
URL:https://stjameshydepark.org/event/2024-eucharist-rite-ii-10/2024-07-14/
LOCATION:St. James’ Episcopal Church\, 4526 Albany Post Rd.\, Hyde Park\, NY\, 12538\, United States
CATEGORIES:Worship
END:VEVENT
BEGIN:VEVENT
DTSTART;TZID=America/New_York:20240717T183000
DTEND;TZID=America/New_York:20240717T193000
DTSTAMP:20260424T223519
CREATED:20240112T175112Z
LAST-MODIFIED:20240112T175307Z
UID:10003091-1721241000-1721244600@stjameshydepark.org
SUMMARY:Evening Prayer (Remote)
DESCRIPTION:
URL:https://stjameshydepark.org/event/evening-prayer-remote-2-2/2024-07-17/
LOCATION:Online
CATEGORIES:Worship
END:VEVENT
BEGIN:VEVENT
DTSTART;TZID=America/New_York:20240719T103000
DTEND;TZID=America/New_York:20240719T130000
DTSTAMP:20260424T223519
CREATED:20240627T201400Z
LAST-MODIFIED:20240629T174216Z
UID:10003822-1721385000-1721394000@stjameshydepark.org
SUMMARY:Field Trip to Holy Cross Monastery
DESCRIPTION:On Friday\, July 19th\, join Mother Meredith for an informal field trip to Holy Cross Monastery. Discover this beautiful and sacred place—just 20 minutes from St. James’—that can be a resource for your own spiritual life. \nOur day together will include a tour of the monastery and grounds\, noonday prayer\, and a delicious lunch (prepared by a CIA-trained chef) with the monks and other guests. \nThe formal program will begin at 10:30 am and end after lunch. If you’d like to add Holy Eucharist with the monks to your day\, arrive at 8:45 am. You might also wish to plan to visit the monastery’s well-stocked book store and gift shop\, bring a book or quiet activity to enjoy in the afternoon\, or just stay for some time in quiet prayer. \nRSVP to Anne McGrath at mcgrath.mosto@gmail.com by July 10th\, please. Suggested donation is $15 for lunch (can be dropped off directly at the monastery). \n  \n 
URL:https://stjameshydepark.org/event/field-trip-to-holy-cross-monastery/
LOCATION:Holy Cross Monastery
CATEGORIES:Christian Formation,Worship
END:VEVENT
BEGIN:VEVENT
DTSTART;TZID=America/New_York:20240720T183000
DTEND;TZID=America/New_York:20240720T193000
DTSTAMP:20260424T223519
CREATED:20240112T175527Z
LAST-MODIFIED:20240112T175653Z
UID:10003141-1721500200-1721503800@stjameshydepark.org
SUMMARY:Compline (Remote)
DESCRIPTION:
URL:https://stjameshydepark.org/event/compline-remote-3-2023-01-07-2/2024-07-20/
LOCATION:Online
CATEGORIES:Worship
END:VEVENT
BEGIN:VEVENT
DTSTART;TZID=America/New_York:20240721T080000
DTEND;TZID=America/New_York:20240721T090000
DTSTAMP:20260424T223519
CREATED:20231222T015421Z
LAST-MODIFIED:20241213T230031Z
UID:10002860-1721548800-1721552400@stjameshydepark.org
SUMMARY:Holy Eucharist (Rite I)
DESCRIPTION:Join us Sundays at 8:00 a.m. for a celebration of Holy Eucharist (Communion). This is a quiet service\, usually without music\, though we often have a soloist with acoustic guitar playing before and after the service. The service uses Rite 1 from the 1979 Book of Common Prayer\, with traditional language.
URL:https://stjameshydepark.org/event/2024-eucharist-8am/2024-07-21/
LOCATION:St. James’ Episcopal Church\, 4526 Albany Post Rd.\, Hyde Park\, NY\, 12538\, United States
CATEGORIES:Worship
END:VEVENT
BEGIN:VEVENT
DTSTART;TZID=America/New_York:20240721T100000
DTEND;TZID=America/New_York:20240721T113000
DTSTAMP:20260424T223519
CREATED:20240628T203235Z
LAST-MODIFIED:20240628T203237Z
UID:10002756-1721556000-1721561400@stjameshydepark.org
SUMMARY:Holy Eucharist at St. Margaret’s\, Staatsburg (Combined Two-Parish Service)
DESCRIPTION:On Sunday\, June 30th\, our 10 am service will be held at our sister parish\, St. Margaret’s Episcopal Church in Staatsburg (corner of East Elm and Old Post Road). Please plan to join in! \nAfter the service\, please stay for coffee and conversation in the St. Margaret’s fellowship room. \nWe have four combined services planned with St. Margaret’s this summer: \n\nJune 30th—10 am service at St. Margaret’s\, Mtr. Meredith preaching and presiding (8 am service at St. James’)\nJuly 21st—10 am service at St. Margaret’s\, Mtr. Meredith preaching and presiding (8 am service at St. James’)\nAugust 11th—10 am service at St. James’\, Fr. Michael preaching and presiding (he will also lead the 8 am service at St. James’)\nAugust 25th—10 am service at St. James’\, Fr. Michael preaching and presiding (he will also lead the 8 am service at St. James’)
URL:https://stjameshydepark.org/event/2024-eucharist-rite-ii-9/
LOCATION:St. Margaret’s Church\, E. Elm Ave.\, Staatsburg\, NY\, 12580\, United States
CATEGORIES:Worship
END:VEVENT
BEGIN:VEVENT
DTSTART;TZID=America/New_York:20240724T183000
DTEND;TZID=America/New_York:20240724T193000
DTSTAMP:20260424T223519
CREATED:20240112T175112Z
LAST-MODIFIED:20240112T175307Z
UID:10003092-1721845800-1721849400@stjameshydepark.org
SUMMARY:Evening Prayer (Remote)
DESCRIPTION:
URL:https://stjameshydepark.org/event/evening-prayer-remote-2-2/2024-07-24/
LOCATION:Online
CATEGORIES:Worship
END:VEVENT
BEGIN:VEVENT
DTSTART;TZID=America/New_York:20240727T183000
DTEND;TZID=America/New_York:20240727T193000
DTSTAMP:20260424T223519
CREATED:20240112T175527Z
LAST-MODIFIED:20240112T175653Z
UID:10003142-1722105000-1722108600@stjameshydepark.org
SUMMARY:Compline (Remote)
DESCRIPTION:
URL:https://stjameshydepark.org/event/compline-remote-3-2023-01-07-2/2024-07-27/
LOCATION:Online
CATEGORIES:Worship
END:VEVENT
BEGIN:VEVENT
DTSTART;TZID=America/New_York:20240728T080000
DTEND;TZID=America/New_York:20240728T090000
DTSTAMP:20260424T223519
CREATED:20231222T015421Z
LAST-MODIFIED:20241213T230031Z
UID:10002861-1722153600-1722157200@stjameshydepark.org
SUMMARY:Holy Eucharist (Rite I)
DESCRIPTION:Join us Sundays at 8:00 a.m. for a celebration of Holy Eucharist (Communion). This is a quiet service\, usually without music\, though we often have a soloist with acoustic guitar playing before and after the service. The service uses Rite 1 from the 1979 Book of Common Prayer\, with traditional language.
URL:https://stjameshydepark.org/event/2024-eucharist-8am/2024-07-28/
LOCATION:St. James’ Episcopal Church\, 4526 Albany Post Rd.\, Hyde Park\, NY\, 12538\, United States
CATEGORIES:Worship
END:VEVENT
BEGIN:VEVENT
DTSTART;TZID=America/New_York:20240728T100000
DTEND;TZID=America/New_York:20240728T113000
DTSTAMP:20260424T223519
CREATED:20240628T203410Z
LAST-MODIFIED:20240628T203412Z
UID:10002757-1722160800-1722166200@stjameshydepark.org
SUMMARY:Holy Eucharist (Rite II) (Summer—No Sunday School\, No Coffee Hour)
DESCRIPTION:Join us Sundays at 10:00 a.m. for a celebration of Holy Eucharist (Communion). This service has music (usually organ and choir\, along with special guest musicians) and uses a variety of prayers and language from traditional to inclusive and expansive\, drawing from Rite II of the 1979 Book of Common Prayer\, Enriching Our Worship\, and other sources. \nSunday School and Coffee Hour are on haitus for the summer.
URL:https://stjameshydepark.org/event/2024-eucharist-rite-ii-10/2024-07-28/
LOCATION:St. James’ Episcopal Church\, 4526 Albany Post Rd.\, Hyde Park\, NY\, 12538\, United States
CATEGORIES:Worship
END:VEVENT
BEGIN:VEVENT
DTSTART;TZID=America/New_York:20240731T183000
DTEND;TZID=America/New_York:20240731T193000
DTSTAMP:20260424T223519
CREATED:20240112T175112Z
LAST-MODIFIED:20240112T175307Z
UID:10003093-1722450600-1722454200@stjameshydepark.org
SUMMARY:Evening Prayer (Remote)
DESCRIPTION:
URL:https://stjameshydepark.org/event/evening-prayer-remote-2-2/2024-07-31/
LOCATION:Online
CATEGORIES:Worship
END:VEVENT
END:VCALENDAR