BEGIN:VCALENDAR
VERSION:2.0
PRODID:-//St. James&#039; Episcopal Church - ECPv6.15.20//NONSGML v1.0//EN
CALSCALE:GREGORIAN
METHOD:PUBLISH
X-ORIGINAL-URL:https://stjameshydepark.org
X-WR-CALDESC:Events for St. James&#039; Episcopal Church
REFRESH-INTERVAL;VALUE=DURATION:PT1H
X-Robots-Tag:noindex
X-PUBLISHED-TTL:PT1H
BEGIN:VTIMEZONE
TZID:America/New_York
BEGIN:DAYLIGHT
TZOFFSETFROM:-0500
TZOFFSETTO:-0400
TZNAME:EDT
DTSTART:20230312T070000
END:DAYLIGHT
BEGIN:STANDARD
TZOFFSETFROM:-0400
TZOFFSETTO:-0500
TZNAME:EST
DTSTART:20231105T060000
END:STANDARD
BEGIN:DAYLIGHT
TZOFFSETFROM:-0500
TZOFFSETTO:-0400
TZNAME:EDT
DTSTART:20240310T070000
END:DAYLIGHT
BEGIN:STANDARD
TZOFFSETFROM:-0400
TZOFFSETTO:-0500
TZNAME:EST
DTSTART:20241103T060000
END:STANDARD
BEGIN:DAYLIGHT
TZOFFSETFROM:-0500
TZOFFSETTO:-0400
TZNAME:EDT
DTSTART:20250309T070000
END:DAYLIGHT
BEGIN:STANDARD
TZOFFSETFROM:-0400
TZOFFSETTO:-0500
TZNAME:EST
DTSTART:20251102T060000
END:STANDARD
END:VTIMEZONE
BEGIN:VEVENT
DTSTART;TZID=America/New_York:20240103T183000
DTEND;TZID=America/New_York:20240103T193000
DTSTAMP:20260425T105649
CREATED:20240112T175112Z
LAST-MODIFIED:20240112T175307Z
UID:10001831-1704306600-1704310200@stjameshydepark.org
SUMMARY:Evening Prayer (Remote)
DESCRIPTION:
URL:https://stjameshydepark.org/event/evening-prayer-remote-2-2/2024-01-03/
LOCATION:Online
CATEGORIES:Worship
END:VEVENT
BEGIN:VEVENT
DTSTART;TZID=America/New_York:20240106T110000
DTEND;TZID=America/New_York:20240106T130000
DTSTAMP:20260425T105649
CREATED:20231208T134512Z
LAST-MODIFIED:20240104T180943Z
UID:10002725-1704538800-1704546000@stjameshydepark.org
SUMMARY:Celebration of New Ministry
DESCRIPTION:When a parish calls a priest\, there is a formal ceremony called an “installation” or “Celebration of New Ministry.” \nBishop Mary Glasspool will preside at Mother Meredith’s installation at St. James’ on the Feast of the Epiphany\, Saturday\, January 6th at 11 am. This is a joyful service—an opportunity for us all to celebrate our ministry together over the past 13 months as we look to the future with hope. We’ll invite clergy from the wider diocese and from other Hyde Park churches. \nIf you can’t make it in-person… \nPlease join us live on YouTube: https://www.youtube.com/channel/UCNWZHboXxsNRa339M1TEVaw/streams  \nDownload Worship Bulletin \nA festive potluck reception will follow in the Parish Hall. \nSt. James’ Medal recipients are encouraged to wear their medal to the service and reception.
URL:https://stjameshydepark.org/event/installation/
LOCATION:St. James’ Episcopal Church\, 4526 Albany Post Rd.\, Hyde Park\, NY\, 12538\, United States
CATEGORIES:Fun,Worship
ATTACH;FMTTYPE=image/png:https://stjameshydepark.org/wp-content/uploads/2023/12/Installation-1.png
END:VEVENT
BEGIN:VEVENT
DTSTART;TZID=America/New_York:20240106T183000
DTEND;TZID=America/New_York:20240106T193000
DTSTAMP:20260425T105649
CREATED:20240112T175527Z
LAST-MODIFIED:20240112T175653Z
UID:10001649-1704565800-1704569400@stjameshydepark.org
SUMMARY:Compline (Remote)
DESCRIPTION:
URL:https://stjameshydepark.org/event/compline-remote-3-2023-01-07-2/2024-01-06/
LOCATION:Online
CATEGORIES:Worship
END:VEVENT
BEGIN:VEVENT
DTSTART;TZID=America/New_York:20240107T080000
DTEND;TZID=America/New_York:20240107T090000
DTSTAMP:20260425T105649
CREATED:20231222T015421Z
LAST-MODIFIED:20241213T230031Z
UID:10002832-1704614400-1704618000@stjameshydepark.org
SUMMARY:Holy Eucharist (Rite I)
DESCRIPTION:Join us Sundays at 8:00 a.m. for a celebration of Holy Eucharist (Communion). This is a quiet service\, usually without music\, though we often have a soloist with acoustic guitar playing before and after the service. The service uses Rite 1 from the 1979 Book of Common Prayer\, with traditional language.
URL:https://stjameshydepark.org/event/2024-eucharist-8am/2024-01-07/
LOCATION:St. James’ Episcopal Church\, 4526 Albany Post Rd.\, Hyde Park\, NY\, 12538\, United States
CATEGORIES:Worship
END:VEVENT
BEGIN:VEVENT
DTSTART;TZID=America/New_York:20240107T100000
DTEND;TZID=America/New_York:20240107T113000
DTSTAMP:20260425T105649
CREATED:20240104T115233Z
LAST-MODIFIED:20240104T150408Z
UID:10002728-1704621600-1704627000@stjameshydepark.org
SUMMARY:Holy Eucharist (Rite II) (No Sunday School or Coffee Hour Today)
DESCRIPTION:Join us Sundays at 10:00 a.m. for a celebration of Holy Eucharist (Communion). This service has music (usually organ and choir\, along with special guest musicians) and uses a variety of prayers and language from traditional to inclusive and expansive\, drawing from Rite II of the 1979 Book of Common Prayer\, Enriching Our Worship\, and other sources. \nThere is no Coffee Hour scheduled on Sunday\, January 7th due to inclement weather predictions.  \nThere is no Sunday School on Sunday\, January 7th due to inclement weather predictions. See you on January 14th for our Epiphany party! About Sunday School: https://stjameshydepark.org/for-children/
URL:https://stjameshydepark.org/event/2024-eucharist-rite-ii-jan-7/
LOCATION:St. James’ Episcopal Church\, 4526 Albany Post Rd.\, Hyde Park\, NY\, 12538\, United States
CATEGORIES:Worship
END:VEVENT
BEGIN:VEVENT
DTSTART;TZID=America/New_York:20240110T183000
DTEND;TZID=America/New_York:20240110T193000
DTSTAMP:20260425T105649
CREATED:20240112T175112Z
LAST-MODIFIED:20240112T175307Z
UID:10003065-1704911400-1704915000@stjameshydepark.org
SUMMARY:Evening Prayer (Remote)
DESCRIPTION:
URL:https://stjameshydepark.org/event/evening-prayer-remote-2-2/2024-01-10/
LOCATION:Online
CATEGORIES:Worship
END:VEVENT
BEGIN:VEVENT
DTSTART;TZID=America/New_York:20240113T183000
DTEND;TZID=America/New_York:20240113T193000
DTSTAMP:20260425T105649
CREATED:20240112T175527Z
LAST-MODIFIED:20240112T175653Z
UID:10003114-1705170600-1705174200@stjameshydepark.org
SUMMARY:Compline (Remote)
DESCRIPTION:
URL:https://stjameshydepark.org/event/compline-remote-3-2023-01-07-2/2024-01-13/
LOCATION:Online
CATEGORIES:Worship
END:VEVENT
BEGIN:VEVENT
DTSTART;TZID=America/New_York:20240114T080000
DTEND;TZID=America/New_York:20240114T090000
DTSTAMP:20260425T105649
CREATED:20231222T015421Z
LAST-MODIFIED:20241213T230031Z
UID:10002833-1705219200-1705222800@stjameshydepark.org
SUMMARY:Holy Eucharist (Rite I)
DESCRIPTION:Join us Sundays at 8:00 a.m. for a celebration of Holy Eucharist (Communion). This is a quiet service\, usually without music\, though we often have a soloist with acoustic guitar playing before and after the service. The service uses Rite 1 from the 1979 Book of Common Prayer\, with traditional language.
URL:https://stjameshydepark.org/event/2024-eucharist-8am/2024-01-14/
LOCATION:St. James’ Episcopal Church\, 4526 Albany Post Rd.\, Hyde Park\, NY\, 12538\, United States
CATEGORIES:Worship
END:VEVENT
BEGIN:VEVENT
DTSTART;TZID=America/New_York:20240114T100000
DTEND;TZID=America/New_York:20240114T113000
DTSTAMP:20260425T105649
CREATED:20231222T014951Z
LAST-MODIFIED:20231222T014951Z
UID:10002729-1705226400-1705231800@stjameshydepark.org
SUMMARY:Holy Eucharist (Rite II) with Sunday School and Coffee Hour
DESCRIPTION:Join us Sundays at 10:00 a.m. for a celebration of Holy Eucharist (Communion). This service has music (usually organ and choir\, along with special guest musicians) and uses a variety of prayers and language from traditional to inclusive and expansive\, drawing from Rite II of the 1979 Book of Common Prayer\, Enriching Our Worship\, and other sources. \nCoffee hour in the Parish House usually follows this service. \nSunday School for kindergarten and up meets today on the second floor of the Parish House at 10:00 a.m. Students will rejoin the congregation just before Holy Communion. New to St. James’ Church? Your kids are welcome to Sunday School any Sunday. More details about St. James’ Sunday School at: https://stjameshydepark.org/for-children/
URL:https://stjameshydepark.org/event/2024-eucharist-rite-ii/2024-01-14/
LOCATION:St. James’ Episcopal Church\, 4526 Albany Post Rd.\, Hyde Park\, NY\, 12538\, United States
CATEGORIES:Worship
END:VEVENT
BEGIN:VEVENT
DTSTART;TZID=America/New_York:20240117T183000
DTEND;TZID=America/New_York:20240117T193000
DTSTAMP:20260425T105649
CREATED:20240112T175112Z
LAST-MODIFIED:20240112T175307Z
UID:10003066-1705516200-1705519800@stjameshydepark.org
SUMMARY:Evening Prayer (Remote)
DESCRIPTION:
URL:https://stjameshydepark.org/event/evening-prayer-remote-2-2/2024-01-17/
LOCATION:Online
CATEGORIES:Worship
END:VEVENT
BEGIN:VEVENT
DTSTART;TZID=America/New_York:20240120T183000
DTEND;TZID=America/New_York:20240120T193000
DTSTAMP:20260425T105649
CREATED:20240112T175527Z
LAST-MODIFIED:20240112T175653Z
UID:10003115-1705775400-1705779000@stjameshydepark.org
SUMMARY:Compline (Remote)
DESCRIPTION:
URL:https://stjameshydepark.org/event/compline-remote-3-2023-01-07-2/2024-01-20/
LOCATION:Online
CATEGORIES:Worship
END:VEVENT
BEGIN:VEVENT
DTSTART;TZID=America/New_York:20240121T080000
DTEND;TZID=America/New_York:20240121T090000
DTSTAMP:20260425T105649
CREATED:20231222T015421Z
LAST-MODIFIED:20241213T230031Z
UID:10002834-1705824000-1705827600@stjameshydepark.org
SUMMARY:Holy Eucharist (Rite I)
DESCRIPTION:Join us Sundays at 8:00 a.m. for a celebration of Holy Eucharist (Communion). This is a quiet service\, usually without music\, though we often have a soloist with acoustic guitar playing before and after the service. The service uses Rite 1 from the 1979 Book of Common Prayer\, with traditional language.
URL:https://stjameshydepark.org/event/2024-eucharist-8am/2024-01-21/
LOCATION:St. James’ Episcopal Church\, 4526 Albany Post Rd.\, Hyde Park\, NY\, 12538\, United States
CATEGORIES:Worship
END:VEVENT
BEGIN:VEVENT
DTSTART;TZID=America/New_York:20240121T100000
DTEND;TZID=America/New_York:20240121T113000
DTSTAMP:20260425T105649
CREATED:20240102T013020Z
LAST-MODIFIED:20240117T150936Z
UID:10002730-1705831200-1705836600@stjameshydepark.org
SUMMARY:Holy Eucharist (Rite II)\, Sunday School\, and Coffee Hour AT ST. MARGARET'S
DESCRIPTION:On Sunday\, January 21st we’ll join our neighbors at St. Margaret’s\, Staatsburg for a special combined service. The Rev. Meredith Sanderson will preach and preside. Please join in at the corner of Old Post Road and East Elm in Staatsburg! \nSunday School will meet in the Fellowship Room of St. Margaret’s Church. \nCoffee hour in the fellowship room will follow this service. \n 
URL:https://stjameshydepark.org/event/2024-eucharist-rite-ii-jan-21/
LOCATION:St. Margaret’s Church\, E. Elm Ave.\, Staatsburg\, NY\, 12580\, United States
CATEGORIES:Worship
END:VEVENT
BEGIN:VEVENT
DTSTART;TZID=America/New_York:20240124T183000
DTEND;TZID=America/New_York:20240124T193000
DTSTAMP:20260425T105649
CREATED:20240112T175112Z
LAST-MODIFIED:20240112T175307Z
UID:10003067-1706121000-1706124600@stjameshydepark.org
SUMMARY:Evening Prayer (Remote)
DESCRIPTION:
URL:https://stjameshydepark.org/event/evening-prayer-remote-2-2/2024-01-24/
LOCATION:Online
CATEGORIES:Worship
END:VEVENT
BEGIN:VEVENT
DTSTART;TZID=America/New_York:20240125T190000
DTEND;TZID=America/New_York:20240125T200000
DTSTAMP:20260425T105649
CREATED:20240111T204133Z
LAST-MODIFIED:20240117T151347Z
UID:10002897-1706209200-1706212800@stjameshydepark.org
SUMMARY:Prayer Service for Christian Unity
DESCRIPTION:St. James’ is hosting an ecumenical prayer service on Thursday\, January 25th at 7 pm to celebrate the worldwide annual Week of Prayer for Christian Unity. This service is organized by the Hyde Park Area Clergy group. Members from many Hyde Park churches will participate—all are welcome!
URL:https://stjameshydepark.org/event/prayer-service-for-christian-unity/
LOCATION:St. James’ Episcopal Church\, 4526 Albany Post Rd.\, Hyde Park\, NY\, 12538\, United States
CATEGORIES:Worship
ATTACH;FMTTYPE=image/png:https://stjameshydepark.org/wp-content/uploads/2024/01/Prayer-Service-for-Christian-Unity-1.png
END:VEVENT
BEGIN:VEVENT
DTSTART;TZID=America/New_York:20240127T183000
DTEND;TZID=America/New_York:20240127T193000
DTSTAMP:20260425T105649
CREATED:20240112T175527Z
LAST-MODIFIED:20240112T175653Z
UID:10003116-1706380200-1706383800@stjameshydepark.org
SUMMARY:Compline (Remote)
DESCRIPTION:
URL:https://stjameshydepark.org/event/compline-remote-3-2023-01-07-2/2024-01-27/
LOCATION:Online
CATEGORIES:Worship
END:VEVENT
BEGIN:VEVENT
DTSTART;TZID=America/New_York:20240128T090000
DTEND;TZID=America/New_York:20240128T100000
DTSTAMP:20260425T105649
CREATED:20240102T011827Z
LAST-MODIFIED:20240102T012053Z
UID:10002731-1706432400-1706436000@stjameshydepark.org
SUMMARY:Holy Eucharist (Rite II) - ONE SERVICE TODAY at 9 am\, followed by Annual Meeting
DESCRIPTION:On Sunday\, January 28th\, we will have ONE SERVICE ONLY\, at 9 AM\, immediately followed by our Annual Meeting. Please join us! (No Sunday School or coffee hour\, but refreshments will be served at the Annual Meeting\, and there will be activities for kids too!)
URL:https://stjameshydepark.org/event/2024-annual-meeting-9am-service/
LOCATION:St. James’ Episcopal Church\, 4526 Albany Post Rd.\, Hyde Park\, NY\, 12538\, United States
CATEGORIES:Worship
END:VEVENT
BEGIN:VEVENT
DTSTART;TZID=America/New_York:20240131T183000
DTEND;TZID=America/New_York:20240131T193000
DTSTAMP:20260425T105649
CREATED:20240112T175112Z
LAST-MODIFIED:20240112T175307Z
UID:10003068-1706725800-1706729400@stjameshydepark.org
SUMMARY:Evening Prayer (Remote)
DESCRIPTION:
URL:https://stjameshydepark.org/event/evening-prayer-remote-2-2/2024-01-31/
LOCATION:Online
CATEGORIES:Worship
END:VEVENT
END:VCALENDAR