BEGIN:VCALENDAR
VERSION:2.0
PRODID:-//St. James&#039; Episcopal Church - ECPv6.15.20//NONSGML v1.0//EN
CALSCALE:GREGORIAN
METHOD:PUBLISH
X-WR-CALNAME:St. James&#039; Episcopal Church
X-ORIGINAL-URL:https://stjameshydepark.org
X-WR-CALDESC:Events for St. James&#039; Episcopal Church
REFRESH-INTERVAL;VALUE=DURATION:PT1H
X-Robots-Tag:noindex
X-PUBLISHED-TTL:PT1H
BEGIN:VTIMEZONE
TZID:America/New_York
BEGIN:DAYLIGHT
TZOFFSETFROM:-0500
TZOFFSETTO:-0400
TZNAME:EDT
DTSTART:20220313T070000
END:DAYLIGHT
BEGIN:STANDARD
TZOFFSETFROM:-0400
TZOFFSETTO:-0500
TZNAME:EST
DTSTART:20221106T060000
END:STANDARD
BEGIN:DAYLIGHT
TZOFFSETFROM:-0500
TZOFFSETTO:-0400
TZNAME:EDT
DTSTART:20230312T070000
END:DAYLIGHT
BEGIN:STANDARD
TZOFFSETFROM:-0400
TZOFFSETTO:-0500
TZNAME:EST
DTSTART:20231105T060000
END:STANDARD
BEGIN:DAYLIGHT
TZOFFSETFROM:-0500
TZOFFSETTO:-0400
TZNAME:EDT
DTSTART:20240310T070000
END:DAYLIGHT
BEGIN:STANDARD
TZOFFSETFROM:-0400
TZOFFSETTO:-0500
TZNAME:EST
DTSTART:20241103T060000
END:STANDARD
END:VTIMEZONE
BEGIN:VEVENT
DTSTART;TZID=America/New_York:20231101T183000
DTEND;TZID=America/New_York:20231101T193000
DTSTAMP:20260425T122301
CREATED:20230112T192240Z
LAST-MODIFIED:20230926T155941Z
UID:10001823-1698863400-1698867000@stjameshydepark.org
SUMMARY:Evening Prayer (Remote)
DESCRIPTION:
URL:https://stjameshydepark.org/event/evening-prayer-remote-2/2023-11-01/
LOCATION:Online
CATEGORIES:Worship
END:VEVENT
BEGIN:VEVENT
DTSTART;TZID=America/New_York:20231104T183000
DTEND;TZID=America/New_York:20231104T193000
DTSTAMP:20260425T122301
CREATED:20230112T191110Z
LAST-MODIFIED:20231102T135511Z
UID:10001641-1699122600-1699126200@stjameshydepark.org
SUMMARY:Compline (Remote)
DESCRIPTION:
URL:https://stjameshydepark.org/event/compline-remote-3-2023-01-07/2023-11-04/
LOCATION:Online
CATEGORIES:Worship
END:VEVENT
BEGIN:VEVENT
DTSTART;TZID=America/New_York:20231105T080000
DTEND;TZID=America/New_York:20231105T090000
DTSTAMP:20260425T122301
CREATED:20230110T171732Z
LAST-MODIFIED:20230709T232408Z
UID:10001572-1699171200-1699174800@stjameshydepark.org
SUMMARY:Holy Eucharist (Rite I)
DESCRIPTION:Join us Sundays at 8:00 a.m. for a celebration of Holy Eucharist (Communion). This is a quiet service\, usually without music\, though we often have a soloist with acoustic guitar playing before and after the service. The service uses Rite 1 from the 1979 Book of Common Prayer\, with traditional language.
URL:https://stjameshydepark.org/event/holy-eucharist-rite-i-2023-05-28/2023-11-05/
LOCATION:St. James’ Episcopal Church\, 4526 Albany Post Rd.\, Hyde Park\, NY\, 12538\, United States
CATEGORIES:Worship
END:VEVENT
BEGIN:VEVENT
DTSTART;TZID=America/New_York:20231108T183000
DTEND;TZID=America/New_York:20231108T193000
DTSTAMP:20260425T122301
CREATED:20230112T192240Z
LAST-MODIFIED:20230926T155941Z
UID:10001824-1699468200-1699471800@stjameshydepark.org
SUMMARY:Evening Prayer (Remote)
DESCRIPTION:
URL:https://stjameshydepark.org/event/evening-prayer-remote-2/2023-11-08/
LOCATION:Online
CATEGORIES:Worship
END:VEVENT
BEGIN:VEVENT
DTSTART;TZID=America/New_York:20231112T080000
DTEND;TZID=America/New_York:20231112T090000
DTSTAMP:20260425T122301
CREATED:20230110T171732Z
LAST-MODIFIED:20230709T232408Z
UID:10001573-1699776000-1699779600@stjameshydepark.org
SUMMARY:Holy Eucharist (Rite I)
DESCRIPTION:Join us Sundays at 8:00 a.m. for a celebration of Holy Eucharist (Communion). This is a quiet service\, usually without music\, though we often have a soloist with acoustic guitar playing before and after the service. The service uses Rite 1 from the 1979 Book of Common Prayer\, with traditional language.
URL:https://stjameshydepark.org/event/holy-eucharist-rite-i-2023-05-28/2023-11-12/
LOCATION:St. James’ Episcopal Church\, 4526 Albany Post Rd.\, Hyde Park\, NY\, 12538\, United States
CATEGORIES:Worship
END:VEVENT
BEGIN:VEVENT
DTSTART;TZID=America/New_York:20231112T100000
DTEND;TZID=America/New_York:20231112T110000
DTSTAMP:20260425T122301
CREATED:20231109T205936Z
LAST-MODIFIED:20231109T210024Z
UID:10002133-1699783200-1699786800@stjameshydepark.org
SUMMARY:Holy Eucharist (Rite II) with Sunday School (Coffee Hour at 9 am during Special Meeting today)
DESCRIPTION:Join us Sundays at 10:00 a.m. for a celebration of Holy Eucharist (Communion). This service has music (usually organ and choir\, along with special guest musicians) and uses a variety of prayers and language from traditional to inclusive and expansive\, drawing from Rite II of the 1979 Book of Common Prayer\, Enriching Our Worship\, and other sources. \nThis Sunday only\, we’ll have our coffee hour at 9 am in the Parish House (BEFORE the 10 am service) to coincide with a Special Meeting of the congregation where proposed revisions to our bylaws will be presented. All are welcome. \nSunday School for kindergarten and up meets today on the second floor of the Parish House at 10:00 a.m. Students will rejoin the congregation just before Holy Communion. New to St. James’? Your kids are welcome to Sunday School any Sunday. More details about St. James’ Sunday School at: https://stjameshydepark.org/for-children/
URL:https://stjameshydepark.org/event/holy-eucharist-ii-fall-2023-3/
LOCATION:St. James’ Episcopal Church\, 4526 Albany Post Rd.\, Hyde Park\, NY\, 12538\, United States
CATEGORIES:Worship
END:VEVENT
BEGIN:VEVENT
DTSTART;TZID=America/New_York:20231115T183000
DTEND;TZID=America/New_York:20231115T193000
DTSTAMP:20260425T122301
CREATED:20230112T192240Z
LAST-MODIFIED:20230926T155941Z
UID:10001825-1700073000-1700076600@stjameshydepark.org
SUMMARY:Evening Prayer (Remote)
DESCRIPTION:
URL:https://stjameshydepark.org/event/evening-prayer-remote-2/2023-11-15/
LOCATION:Online
CATEGORIES:Worship
END:VEVENT
BEGIN:VEVENT
DTSTART;TZID=America/New_York:20231118T183000
DTEND;TZID=America/New_York:20231118T193000
DTSTAMP:20260425T122301
CREATED:20230112T191110Z
LAST-MODIFIED:20231102T135511Z
UID:10001643-1700332200-1700335800@stjameshydepark.org
SUMMARY:Compline (Remote)
DESCRIPTION:
URL:https://stjameshydepark.org/event/compline-remote-3-2023-01-07/2023-11-18/
LOCATION:Online
CATEGORIES:Worship
END:VEVENT
BEGIN:VEVENT
DTSTART;TZID=America/New_York:20231119T080000
DTEND;TZID=America/New_York:20231119T090000
DTSTAMP:20260425T122301
CREATED:20230110T171732Z
LAST-MODIFIED:20230709T232408Z
UID:10001574-1700380800-1700384400@stjameshydepark.org
SUMMARY:Holy Eucharist (Rite I)
DESCRIPTION:Join us Sundays at 8:00 a.m. for a celebration of Holy Eucharist (Communion). This is a quiet service\, usually without music\, though we often have a soloist with acoustic guitar playing before and after the service. The service uses Rite 1 from the 1979 Book of Common Prayer\, with traditional language.
URL:https://stjameshydepark.org/event/holy-eucharist-rite-i-2023-05-28/2023-11-19/
LOCATION:St. James’ Episcopal Church\, 4526 Albany Post Rd.\, Hyde Park\, NY\, 12538\, United States
CATEGORIES:Worship
END:VEVENT
BEGIN:VEVENT
DTSTART;TZID=America/New_York:20231119T100000
DTEND;TZID=America/New_York:20231119T110000
DTSTAMP:20260425T122301
CREATED:20230709T232511Z
LAST-MODIFIED:20231025T142412Z
UID:10002134-1700388000-1700391600@stjameshydepark.org
SUMMARY:Holy Eucharist (Rite II) with Sunday School and Coffee Hour
DESCRIPTION:Join us Sundays at 10:00 a.m. for a celebration of Holy Eucharist (Communion). This service has music (usually organ and choir\, along with special guest musicians) and uses a variety of prayers and language from traditional to inclusive and expansive\, drawing from Rite II of the 1979 Book of Common Prayer\, Enriching Our Worship\, and other sources. Coffee hour in the Parish House usually follows this service. \nSunday School for kindergarten and up meets today on the second floor of the Parish House at 10:00 a.m. Students will rejoin the congregation just before Holy Communion. New to St. James’? Your kids are welcome to Sunday School any Sunday. More details about St. James’ Sunday School at: https://stjameshydepark.org/for-children/
URL:https://stjameshydepark.org/event/holy-eucharist-ii-fall-2023/2023-11-19/
LOCATION:St. James’ Episcopal Church\, 4526 Albany Post Rd.\, Hyde Park\, NY\, 12538\, United States
CATEGORIES:Worship
END:VEVENT
BEGIN:VEVENT
DTSTART;TZID=America/New_York:20231122T183000
DTEND;TZID=America/New_York:20231122T193000
DTSTAMP:20260425T122301
CREATED:20230112T192240Z
LAST-MODIFIED:20230926T155941Z
UID:10001826-1700677800-1700681400@stjameshydepark.org
SUMMARY:Evening Prayer (Remote)
DESCRIPTION:
URL:https://stjameshydepark.org/event/evening-prayer-remote-2/2023-11-22/
LOCATION:Online
CATEGORIES:Worship
END:VEVENT
BEGIN:VEVENT
DTSTART;TZID=America/New_York:20231123T100000
DTEND;TZID=America/New_York:20231123T110000
DTSTAMP:20260425T122301
CREATED:20231108T141741Z
LAST-MODIFIED:20231109T210603Z
UID:10002708-1700733600-1700737200@stjameshydepark.org
SUMMARY:Thanksgiving Day Eucharist (Chapel)
DESCRIPTION:Give thanks! All are welcome to join in a quiet service of gratitude and Holy Communion on Thanksgiving Day at 10 am in our East Market Street Chapel.
URL:https://stjameshydepark.org/event/thanksgiving/
LOCATION:St. James’ Chapel\, 10 East Market Street\, Hyde Park\, NY\, 12567\, United States
CATEGORIES:Worship
ATTACH;FMTTYPE=image/jpeg:https://stjameshydepark.org/wp-content/uploads/2022/11/Thanksgiving-Day-Holy-Eucharist-1000-a.m.-in-the-chapel-10-E-Market-St-Hyde-Park.jpg
END:VEVENT
BEGIN:VEVENT
DTSTART;TZID=America/New_York:20231125T183000
DTEND;TZID=America/New_York:20231125T193000
DTSTAMP:20260425T122301
CREATED:20230112T191110Z
LAST-MODIFIED:20231102T135511Z
UID:10001644-1700937000-1700940600@stjameshydepark.org
SUMMARY:Compline (Remote)
DESCRIPTION:
URL:https://stjameshydepark.org/event/compline-remote-3-2023-01-07/2023-11-25/
LOCATION:Online
CATEGORIES:Worship
END:VEVENT
BEGIN:VEVENT
DTSTART;TZID=America/New_York:20231126T080000
DTEND;TZID=America/New_York:20231126T090000
DTSTAMP:20260425T122301
CREATED:20230110T171732Z
LAST-MODIFIED:20230709T232408Z
UID:10001575-1700985600-1700989200@stjameshydepark.org
SUMMARY:Holy Eucharist (Rite I)
DESCRIPTION:Join us Sundays at 8:00 a.m. for a celebration of Holy Eucharist (Communion). This is a quiet service\, usually without music\, though we often have a soloist with acoustic guitar playing before and after the service. The service uses Rite 1 from the 1979 Book of Common Prayer\, with traditional language.
URL:https://stjameshydepark.org/event/holy-eucharist-rite-i-2023-05-28/2023-11-26/
LOCATION:St. James’ Episcopal Church\, 4526 Albany Post Rd.\, Hyde Park\, NY\, 12538\, United States
CATEGORIES:Worship
END:VEVENT
BEGIN:VEVENT
DTSTART;TZID=America/New_York:20231126T100000
DTEND;TZID=America/New_York:20231126T110000
DTSTAMP:20260425T122301
CREATED:20230709T232511Z
LAST-MODIFIED:20231025T142412Z
UID:10002135-1700992800-1700996400@stjameshydepark.org
SUMMARY:Holy Eucharist (Rite II) with Sunday School and Coffee Hour
DESCRIPTION:Join us Sundays at 10:00 a.m. for a celebration of Holy Eucharist (Communion). This service has music (usually organ and choir\, along with special guest musicians) and uses a variety of prayers and language from traditional to inclusive and expansive\, drawing from Rite II of the 1979 Book of Common Prayer\, Enriching Our Worship\, and other sources. Coffee hour in the Parish House usually follows this service. \nSunday School for kindergarten and up meets today on the second floor of the Parish House at 10:00 a.m. Students will rejoin the congregation just before Holy Communion. New to St. James’? Your kids are welcome to Sunday School any Sunday. More details about St. James’ Sunday School at: https://stjameshydepark.org/for-children/
URL:https://stjameshydepark.org/event/holy-eucharist-ii-fall-2023/2023-11-26/
LOCATION:St. James’ Episcopal Church\, 4526 Albany Post Rd.\, Hyde Park\, NY\, 12538\, United States
CATEGORIES:Worship
END:VEVENT
BEGIN:VEVENT
DTSTART;TZID=America/New_York:20231129T183000
DTEND;TZID=America/New_York:20231129T193000
DTSTAMP:20260425T122301
CREATED:20230112T192240Z
LAST-MODIFIED:20230926T155941Z
UID:10001827-1701282600-1701286200@stjameshydepark.org
SUMMARY:Evening Prayer (Remote)
DESCRIPTION:
URL:https://stjameshydepark.org/event/evening-prayer-remote-2/2023-11-29/
LOCATION:Online
CATEGORIES:Worship
END:VEVENT
END:VCALENDAR