BEGIN:VCALENDAR
VERSION:2.0
PRODID:-//St. James&#039; Episcopal Church - ECPv6.15.20//NONSGML v1.0//EN
CALSCALE:GREGORIAN
METHOD:PUBLISH
X-WR-CALNAME:St. James&#039; Episcopal Church
X-ORIGINAL-URL:https://stjameshydepark.org
X-WR-CALDESC:Events for St. James&#039; Episcopal Church
REFRESH-INTERVAL;VALUE=DURATION:PT1H
X-Robots-Tag:noindex
X-PUBLISHED-TTL:PT1H
BEGIN:VTIMEZONE
TZID:America/New_York
BEGIN:DAYLIGHT
TZOFFSETFROM:-0500
TZOFFSETTO:-0400
TZNAME:EDT
DTSTART:20230312T070000
END:DAYLIGHT
BEGIN:STANDARD
TZOFFSETFROM:-0400
TZOFFSETTO:-0500
TZNAME:EST
DTSTART:20231105T060000
END:STANDARD
BEGIN:DAYLIGHT
TZOFFSETFROM:-0500
TZOFFSETTO:-0400
TZNAME:EDT
DTSTART:20240310T070000
END:DAYLIGHT
BEGIN:STANDARD
TZOFFSETFROM:-0400
TZOFFSETTO:-0500
TZNAME:EST
DTSTART:20241103T060000
END:STANDARD
BEGIN:DAYLIGHT
TZOFFSETFROM:-0500
TZOFFSETTO:-0400
TZNAME:EDT
DTSTART:20250309T070000
END:DAYLIGHT
BEGIN:STANDARD
TZOFFSETFROM:-0400
TZOFFSETTO:-0500
TZNAME:EST
DTSTART:20251102T060000
END:STANDARD
BEGIN:DAYLIGHT
TZOFFSETFROM:-0500
TZOFFSETTO:-0400
TZNAME:EDT
DTSTART:20260308T070000
END:DAYLIGHT
BEGIN:STANDARD
TZOFFSETFROM:-0400
TZOFFSETTO:-0500
TZNAME:EST
DTSTART:20261101T060000
END:STANDARD
BEGIN:DAYLIGHT
TZOFFSETFROM:-0500
TZOFFSETTO:-0400
TZNAME:EDT
DTSTART:20270314T070000
END:DAYLIGHT
BEGIN:STANDARD
TZOFFSETFROM:-0400
TZOFFSETTO:-0500
TZNAME:EST
DTSTART:20271107T060000
END:STANDARD
END:VTIMEZONE
BEGIN:VEVENT
DTSTART;TZID=America/New_York:20260222T150000
DTEND;TZID=America/New_York:20260222T170000
DTSTAMP:20260423T225646
CREATED:20260115T183916Z
LAST-MODIFIED:20260221T190301Z
UID:10007240-1771772400-1771779600@stjameshydepark.org
SUMMARY:"Eleanor Roosevelt's Nightly Prayer" with author Donn Mitchell (MOVED ONLINE DUE TO WINTER STORM)
DESCRIPTION:Due to winter weather\, our event with Donn Mitchell\, author of Eleanor Roosevelt’s Nightly Prayer\, has been moved online. \nPlease join us on Sunday\, February 22 at 3 pm via Zoom or YouTube.\n(Those who wish to participate in Q&A should please use the Zoom option.) \n  \n\n\n  \nSt. James’ Episcopal Church and the Eleanor Roosevelt Center at Val-Kill welcome \nDonn Mitchell\nauthor of \nEleanor Roosevelt’s Nightly Prayer\n(new from Morehouse Publishing) \n\nReading\, Presentation\, and Q&A\nSunday\, February 22 at 3 pm\nOnline only due to winter storm. Please join us on Zoom or on St. James’ YouTube Channel. Those who wish to participate in the Q&A portion\, please use Zoom. \nReception and book-signing in the Parish Hall are canceled. \n\n\nAbout the Book\nEleanor Roosevelt’s Nightly Prayer uncovers how Eleanor Roosevelt’s faith—shaped in part at St. James’ Episcopal Church—served as a wellspring for her courage\, compassion\, and moral clarity. Her tireless work for racial equality\, refugee protection\, women’s and workers’ rights\, and the Universal Declaration of Human Rights all bear the imprint of a woman whose belief in justice was inseparable from her belief in God. \n“No account of the extraordinary life and achievements of Eleanor Roosevelt is complete without attention to the ways her deep Christian faith affected every aspect of her public and private life. Yet most of her biographers have followed the trend of political historians to minimize the role of religion in the lives of their subjects. Now\, thanks to this richly sourced spiritual biography by Donn Mitchell\, no one will be able to make that mistake again.”\n— Mary Ann Glendon\, Learned Hand Professor of Law at Harvard Law School; author of A World Made New: Eleanor Roosevelt and the Universal Declaration of Human Rights; Former U.S. Ambassador to the Holy See\n\n\nAbout the Author\nDonn Mitchell currently teaches at Fordham University. His work has appeared in the Christian Century\, the Living Church\, and the Anglican Theological Review. He is the author of Tread the City’s Streets Again: Frances Perkins Shares Her Theology. He has previously taught at Manhattan College\, the General Theological Seminary\, and Princeton Theological Seminary.
URL:https://stjameshydepark.org/event/eleanor-roosevelt-nightly-prayer/
LOCATION:St. James’ Episcopal Church\, 4526 Albany Post Rd.\, Hyde Park\, NY\, 12538\, United States
CATEGORIES:Christian Formation,Outreach
ATTACH;FMTTYPE=image/png:https://stjameshydepark.org/wp-content/uploads/2026/02/Eleanor-Roosevelts-Nightly-Prayer-Book-Event-moved-online.png
END:VEVENT
BEGIN:VEVENT
DTSTART;TZID=America/New_York:20260218T073000
DTEND;TZID=America/New_York:20260218T200000
DTSTAMP:20260423T225646
CREATED:20260206T005402Z
LAST-MODIFIED:20260206T005545Z
UID:10007673-1771399800-1771444800@stjameshydepark.org
SUMMARY:Ash Wednesday—Services at noon and 7 pm + Ashes-to-Go and prayer in the parking lot 4:30-6 pm
DESCRIPTION:Ash Wednesday Services at St. James’ will be offered at 12 noon and 7 pm in the Church. \nAshes-to-Go with prayer will be available in the driveway in front of the Church from 4:30-6:00 pm (please carefully drive up to the red church doors).
URL:https://stjameshydepark.org/event/ash-weds-2026/
LOCATION:St. James’ Episcopal Church\, 4526 Albany Post Rd.\, Hyde Park\, NY\, 12538\, United States
CATEGORIES:Ash Wednesday,Lent,Outreach,Worship
ATTACH;FMTTYPE=image/png:https://stjameshydepark.org/wp-content/uploads/2026/02/Ash-Wednesday-2026.png
END:VEVENT
BEGIN:VEVENT
DTSTART;TZID=America/New_York:20251230T100000
DTEND;TZID=America/New_York:20251230T150000
DTSTAMP:20260423T225646
CREATED:20250515T141010Z
LAST-MODIFIED:20251220T015109Z
UID:10006562-1767088800-1767106800@stjameshydepark.org
SUMMARY:Red Cross Blood Drive sponsored by St. James' Sunday School (Parish Hall)
DESCRIPTION:Our Sunday School is sponsoring a Red Cross Blood Drive on Tuesday\, December 30\, 10 am to 3 pm in the Parish Hall. \nWalk-ins are welcome or you can sign up for a slot.
URL:https://stjameshydepark.org/event/blood-drive-dec-2025/
LOCATION:St. James’ Episcopal Church\, 4526 Albany Post Rd.\, Hyde Park\, NY\, 12538\, United States
CATEGORIES:Outreach
END:VEVENT
BEGIN:VEVENT
DTSTART;TZID=America/New_York:20251118T180000
DTEND;TZID=America/New_York:20251118T200000
DTSTAMP:20260423T225646
CREATED:20251111T235518Z
LAST-MODIFIED:20251111T235645Z
UID:10007139-1763488800-1763496000@stjameshydepark.org
SUMMARY:Outreach Meeting (Wilks Room)—6 pm fellowship; 6:30 pm meeting
DESCRIPTION:
URL:https://stjameshydepark.org/event/outreach-meeting-nov-2025/
LOCATION:St. James’ Episcopal Church\, 4526 Albany Post Rd.\, Hyde Park\, NY\, 12538\, United States
CATEGORIES:Outreach
END:VEVENT
BEGIN:VEVENT
DTSTART;TZID=America/New_York:20251115T100000
DTEND;TZID=America/New_York:20251115T140000
DTSTAMP:20260423T225646
CREATED:20251017T130807Z
LAST-MODIFIED:20251114T224144Z
UID:10007032-1763200800-1763215200@stjameshydepark.org
SUMMARY:Outreach Clothing Giveaway (Parish Hall)
DESCRIPTION:St. James’ Outreach Committee is distributing warm winter clothing (all ages/sizes) for free on Saturday\, November 15th\, 10 am to 2 pm\, in the Parish Hall. All are welcome to browse and take what you need! Donations of new or gently used warm winter clothing gratefully accepted—please bring to the Parish Hall prior to the event.
URL:https://stjameshydepark.org/event/outreach-clothing-giveaway-parish-hall/
LOCATION:St. James’ Episcopal Church\, 4526 Albany Post Rd.\, Hyde Park\, NY\, 12538\, United States
CATEGORIES:Outreach
END:VEVENT
BEGIN:VEVENT
DTSTART;TZID=America/New_York:20251019T150000
DTEND;TZID=America/New_York:20251019T160000
DTSTAMP:20260423T225646
CREATED:20250701T153028Z
LAST-MODIFIED:20251010T192933Z
UID:10006826-1760886000-1760889600@stjameshydepark.org
SUMMARY:HPVEC Education Series: Home Compost Training (Parish Hall)
DESCRIPTION:
URL:https://stjameshydepark.org/event/hpvec-compost-training/
LOCATION:St. James’ Episcopal Church\, 4526 Albany Post Rd.\, Hyde Park\, NY\, 12538\, United States
CATEGORIES:Outreach
END:VEVENT
BEGIN:VEVENT
DTSTART;TZID=America/New_York:20251016T180000
DTEND;TZID=America/New_York:20251016T190000
DTSTAMP:20260423T225646
CREATED:20251003T233455Z
LAST-MODIFIED:20251003T233707Z
UID:10007009-1760637600-1760641200@stjameshydepark.org
SUMMARY:Service of Remembrance for Pregnancy and Infant Loss
DESCRIPTION:Join us for a service of prayer and Holy Communion as we observe Pregnancy and Infant Loss Remembrance Day. \nThursday\, October 16\, 6 pm. \nSt. James’ Episcopal Church\, 4526 Albany Post Road Hyde Park\, NY 12538 \nCome\, light a candle in remembrance of your dear one.
URL:https://stjameshydepark.org/event/remembrance-2025/
LOCATION:St. James’ Episcopal Church\, 4526 Albany Post Rd.\, Hyde Park\, NY\, 12538\, United States
CATEGORIES:Outreach,Worship
ATTACH;FMTTYPE=image/png:https://stjameshydepark.org/wp-content/uploads/2025/10/Wave-of-Light-2025.png
END:VEVENT
BEGIN:VEVENT
DTSTART;TZID=America/New_York:20251015T183000
DTEND;TZID=America/New_York:20251015T200000
DTSTAMP:20260423T225646
CREATED:20250411T154808Z
LAST-MODIFIED:20251205T133526Z
UID:10006234-1760553000-1760558400@stjameshydepark.org
SUMMARY:Outreach Meeting (Wilks Room)
DESCRIPTION:
URL:https://stjameshydepark.org/event/outreach-meeting-wilks-room-2-2/2025-10-15/
LOCATION:St. James’ Episcopal Church\, 4526 Albany Post Rd.\, Hyde Park\, NY\, 12538\, United States
CATEGORIES:Outreach
END:VEVENT
BEGIN:VEVENT
DTSTART;TZID=America/New_York:20251004T090000
DTEND;TZID=America/New_York:20251004T140000
DTSTAMP:20260423T225646
CREATED:20250717T182748Z
LAST-MODIFIED:20251003T161626Z
UID:10006900-1759568400-1759586400@stjameshydepark.org
SUMMARY:Hyde Park Food Pantry Bake Sale and Yard Sale (Chapel)
DESCRIPTION:
URL:https://stjameshydepark.org/event/food-pantry-bake-yard-sale/
LOCATION:St. James’ Chapel\, 10 East Market Street\, Hyde Park\, NY\, 12567\, United States
CATEGORIES:Outreach
END:VEVENT
BEGIN:VEVENT
DTSTART;TZID=America/New_York:20250917T183000
DTEND;TZID=America/New_York:20250917T200000
DTSTAMP:20260423T225646
CREATED:20250411T154808Z
LAST-MODIFIED:20251205T133526Z
UID:10006233-1758133800-1758139200@stjameshydepark.org
SUMMARY:Outreach Meeting (Wilks Room)
DESCRIPTION:
URL:https://stjameshydepark.org/event/outreach-meeting-wilks-room-2-2/2025-09-17/
LOCATION:St. James’ Episcopal Church\, 4526 Albany Post Rd.\, Hyde Park\, NY\, 12538\, United States
CATEGORIES:Outreach
END:VEVENT
BEGIN:VEVENT
DTSTART;TZID=America/New_York:20250803T123000
DTEND;TZID=America/New_York:20250803T140000
DTSTAMP:20260423T225646
CREATED:20250717T154952Z
LAST-MODIFIED:20250717T155231Z
UID:10006899-1754224200-1754229600@stjameshydepark.org
SUMMARY:Free Community Qigong Class (on the Church front lawn) (Rain location: Parish Hall)
DESCRIPTION:Community Qigong Class: Sunday\, 8/3 at 12:30 pm (on the Church lawn\, or in the Parish Hall in case of rain) \nExperience a world of flowing movements\, synchronized breath\, and profound relaxation. All are welcome to attend this free event—no experience needed! Gifted to the community by St. James’ member Charlessa Thatcher. Please wear comfortable clothing and footwear (bare feet ok).
URL:https://stjameshydepark.org/event/qigong-aug-2025/
LOCATION:St. James’ Episcopal Church\, 4526 Albany Post Rd.\, Hyde Park\, NY\, 12538\, United States
CATEGORIES:Fun,Outreach
END:VEVENT
BEGIN:VEVENT
DTSTART;TZID=America/New_York:20250618T183000
DTEND;TZID=America/New_York:20250618T200000
DTSTAMP:20260423T225646
CREATED:20250411T154808Z
LAST-MODIFIED:20251205T133526Z
UID:10006232-1750271400-1750276800@stjameshydepark.org
SUMMARY:Outreach Meeting (Wilks Room)
DESCRIPTION:
URL:https://stjameshydepark.org/event/outreach-meeting-wilks-room-2-2/2025-06-18/
LOCATION:St. James’ Episcopal Church\, 4526 Albany Post Rd.\, Hyde Park\, NY\, 12538\, United States
CATEGORIES:Outreach
END:VEVENT
BEGIN:VEVENT
DTSTART;TZID=America/New_York:20250603T110000
DTEND;TZID=America/New_York:20250603T220000
DTSTAMP:20260423T225646
CREATED:20250522T192616Z
LAST-MODIFIED:20250522T192632Z
UID:10006565-1748948400-1748988000@stjameshydepark.org
SUMMARY:Five Guys Fundraiser to benefit Outreach
DESCRIPTION:Visit Five Guys Burgers and Fries (2507 South Road\, Poughkeepsie) on Tuesday\, June 3rd from 11 am to 10 pm and mention St. James’ Outreach—Five Guys will donate 20% of your order to our outreach ministries\, plus an additional $1 for every milkshake ordered!
URL:https://stjameshydepark.org/event/five-guys-fundraiser/
LOCATION:NY
CATEGORIES:Fun,Outreach
END:VEVENT
BEGIN:VEVENT
DTSTART;TZID=America/New_York:20250503T120000
DTEND;TZID=America/New_York:20250503T170000
DTSTAMP:20260423T225646
CREATED:20250325T171004Z
LAST-MODIFIED:20250424T151705Z
UID:10006444-1746273600-1746291600@stjameshydepark.org
SUMMARY:Mother's Day Tea Party
DESCRIPTION:St. James’ Episcopal Church presents “A Mother’s Day Tea Party” with four-course luncheon and light entertainment. \nTwo seatings on Saturday\, May 11th: noon and 3:00 p.m. $30 per person. \nCelebrate with your mother\, sister\, daughter\, or best friend in a special way at a special place. \nReservations are required; please call Dyan in the Church Office at 845-229-2820.
URL:https://stjameshydepark.org/event/mothers-day-tea-2025/
LOCATION:St. James’ Episcopal Church\, 4526 Albany Post Rd.\, Hyde Park\, NY\, 12538\, United States
CATEGORIES:Fun,Outreach
ATTACH;FMTTYPE=image/jpeg:https://stjameshydepark.org/wp-content/uploads/2025/03/Mothers-Day-Tea-2025.jpg
END:VEVENT
BEGIN:VEVENT
DTSTART;TZID=America/New_York:20250423T183000
DTEND;TZID=America/New_York:20250423T200000
DTSTAMP:20260423T225646
CREATED:20250411T154808Z
LAST-MODIFIED:20251205T133526Z
UID:10006534-1745433000-1745438400@stjameshydepark.org
SUMMARY:Outreach Meeting (Wilks Room)
DESCRIPTION:
URL:https://stjameshydepark.org/event/outreach-meeting-wilks-room-2-2/2025-04-23/
LOCATION:St. James’ Episcopal Church\, 4526 Albany Post Rd.\, Hyde Park\, NY\, 12538\, United States
CATEGORIES:Outreach
END:VEVENT
BEGIN:VEVENT
DTSTART;TZID=America/New_York:20250330T123000
DTEND;TZID=America/New_York:20250330T170000
DTSTAMP:20260423T225646
CREATED:20250325T113816Z
LAST-MODIFIED:20250325T113817Z
UID:10006303-1743337800-1743354000@stjameshydepark.org
SUMMARY:2 pm: "Spotting the Spotted Lanternflies" presented by the Hyde Park Visual Environment Committee (Parish Hall)
DESCRIPTION:
URL:https://stjameshydepark.org/event/hyde-park-visual-environment-committee-programs-parish-hall-2/
LOCATION:St. James’ Episcopal Church\, 4526 Albany Post Rd.\, Hyde Park\, NY\, 12538\, United States
CATEGORIES:Outreach
END:VEVENT
BEGIN:VEVENT
DTSTART;TZID=America/New_York:20241227T100000
DTEND;TZID=America/New_York:20241227T150000
DTSTAMP:20260423T225646
CREATED:20240530T124544Z
LAST-MODIFIED:20241128T122353Z
UID:10003784-1735293600-1735311600@stjameshydepark.org
SUMMARY:Blood Drive (Parish Hall)
DESCRIPTION:We’re hosting an American Red Cross Blood Drive on Friday\, December 27th\, 10 am to 3 pm\, in our Parish Hall! Please contact Patty Glancey if you’d like to help out with hospitality. \nBlood donors are needed! Schedule to donate at redcrossblood.org with sponsor code HydeParkNew.
URL:https://stjameshydepark.org/event/2024-blood-drive/
LOCATION:St. James’ Episcopal Church\, 4526 Albany Post Rd.\, Hyde Park\, NY\, 12538\, United States
CATEGORIES:Outreach
ATTACH;FMTTYPE=image/png:https://stjameshydepark.org/wp-content/uploads/2024/05/blood-drive-dec-2024.png
END:VEVENT
BEGIN:VEVENT
DTSTART;TZID=America/New_York:20241215T120000
DTEND;TZID=America/New_York:20241215T150000
DTSTAMP:20260423T225646
CREATED:20241022T133732Z
LAST-MODIFIED:20241205T164301Z
UID:10004305-1734264000-1734274800@stjameshydepark.org
SUMMARY:Winter Clothing Giveaway (Chapel)
DESCRIPTION:❄️ ❄️ November 17th & 24th + December 15th: Winter Clothing Giveaway ❄️ ❄️\nWarm winter clothing for women~men~children \nSunday\, November 17th AND Sunday\, November 24th AND Sunday\, December 15th\n12-3 pm (while supplies last) \nSt. James’ Episcopal Chapel\n10 East Market Street\nHyde Park\, New York \nNEEDED: \nGently used\, warm winter clothing\, all sizes for Women\, Men and Children \nCONTACT: \nLillian\n845-282-6328\nfinallygigi22@gmail.com
URL:https://stjameshydepark.org/event/outreach-clothing-drive-chapel/2024-12-15/
LOCATION:St. James’ Chapel\, 10 East Market Street\, Hyde Park\, NY\, 12567\, United States
CATEGORIES:Outreach
END:VEVENT
BEGIN:VEVENT
DTSTART;TZID=America/New_York:20241207T100000
DTEND;TZID=America/New_York:20241207T140000
DTSTAMP:20260423T225646
CREATED:20240409T160057Z
LAST-MODIFIED:20241108T132212Z
UID:10003739-1733565600-1733580000@stjameshydepark.org
SUMMARY:Annual Holiday Cookie & Candy Sale
DESCRIPTION:Hyde Park’s best bakers and confectioners are here for your holidays: \nFudge! Peanut Brittle! Sweets! \nHomemade Cookies (your choice) $8/tin or 2 tins for $15 (gluten-free available) \nSaturday\, December 7th\, 10 am to 2 pm (or while supplies last) in the Parish Hall \nWe need your help!\n✅ Bake a batch or two of cookies (sign-up in the church entryway) or fudge or candy\n✅ Deliver to the kitchen on Friday\, December 6th 2-7pm or Saturday\, Dec. 7th by 8 am \nAll sale proceeds benefit the outreach ministries of St. James’ Episcopal Church.
URL:https://stjameshydepark.org/event/holiday-cookie-sale-2024/
LOCATION:St. James’ Episcopal Church\, 4526 Albany Post Rd.\, Hyde Park\, NY\, 12538\, United States
CATEGORIES:Christmas,Fun,Outreach
ATTACH;FMTTYPE=image/jpeg:https://stjameshydepark.org/wp-content/uploads/2024/04/Cookie-Candy-Sale.jpg
END:VEVENT
BEGIN:VEVENT
DTSTART;TZID=America/New_York:20241124T120000
DTEND;TZID=America/New_York:20241124T150000
DTSTAMP:20260423T225646
CREATED:20241022T133732Z
LAST-MODIFIED:20241205T164301Z
UID:10004246-1732449600-1732460400@stjameshydepark.org
SUMMARY:Winter Clothing Giveaway (Chapel)
DESCRIPTION:❄️ ❄️ November 17th & 24th + December 15th: Winter Clothing Giveaway ❄️ ❄️\nWarm winter clothing for women~men~children \nSunday\, November 17th AND Sunday\, November 24th AND Sunday\, December 15th\n12-3 pm (while supplies last) \nSt. James’ Episcopal Chapel\n10 East Market Street\nHyde Park\, New York \nNEEDED: \nGently used\, warm winter clothing\, all sizes for Women\, Men and Children \nCONTACT: \nLillian\n845-282-6328\nfinallygigi22@gmail.com
URL:https://stjameshydepark.org/event/outreach-clothing-drive-chapel/2024-11-24/
LOCATION:St. James’ Chapel\, 10 East Market Street\, Hyde Park\, NY\, 12567\, United States
CATEGORIES:Outreach
END:VEVENT
BEGIN:VEVENT
DTSTART;TZID=America/New_York:20241117T120000
DTEND;TZID=America/New_York:20241117T150000
DTSTAMP:20260423T225646
CREATED:20241022T133732Z
LAST-MODIFIED:20241205T164301Z
UID:10004217-1731844800-1731855600@stjameshydepark.org
SUMMARY:Winter Clothing Giveaway (Chapel)
DESCRIPTION:❄️ ❄️ November 17th & 24th + December 15th: Winter Clothing Giveaway ❄️ ❄️\nWarm winter clothing for women~men~children \nSunday\, November 17th AND Sunday\, November 24th AND Sunday\, December 15th\n12-3 pm (while supplies last) \nSt. James’ Episcopal Chapel\n10 East Market Street\nHyde Park\, New York \nNEEDED: \nGently used\, warm winter clothing\, all sizes for Women\, Men and Children \nCONTACT: \nLillian\n845-282-6328\nfinallygigi22@gmail.com
URL:https://stjameshydepark.org/event/outreach-clothing-drive-chapel/2024-11-17/
LOCATION:St. James’ Chapel\, 10 East Market Street\, Hyde Park\, NY\, 12567\, United States
CATEGORIES:Outreach
END:VEVENT
BEGIN:VEVENT
DTSTART;TZID=America/New_York:20241105T190000
DTEND;TZID=America/New_York:20241105T210000
DTSTAMP:20260423T225646
CREATED:20241015T120504Z
LAST-MODIFIED:20241025T095947Z
UID:10004203-1730833200-1730840400@stjameshydepark.org
SUMMARY:Election Day Community Night (Wilks Room)
DESCRIPTION:Need some time away from tv and social media on election day? Our church will be open 6 am to 9 pm for prayer and meditation\, and we’re hosting an evening fellowship gathering in the Wilks Room & Parish Hall until 9 pm\, with board games and conversation. You’re welcome to bring your own food to eat or a snack/drink to share.
URL:https://stjameshydepark.org/event/election-day-community-night-wilks-room/
LOCATION:St. James’ Episcopal Church\, 4526 Albany Post Rd.\, Hyde Park\, NY\, 12538\, United States
CATEGORIES:Outreach
END:VEVENT
BEGIN:VEVENT
DTSTART;TZID=America/New_York:20241105T060000
DTEND;TZID=America/New_York:20241105T210000
DTSTAMP:20260423T225646
CREATED:20241010T192548Z
LAST-MODIFIED:20241105T120440Z
UID:10004201-1730786400-1730840400@stjameshydepark.org
SUMMARY:Election Day: Church open for prayer
DESCRIPTION:If you need a quiet place to pray and reflect today\, St. James’ Church is open from 6 am to 9 pm. Stop in and pick up a pamphlet of suggested prayers. \nO God\, you have bound us together in a common life. Help us\, in the midst of our struggles for justice and truth\, to meet one another without hatred or bitterness\, and to work together with mutual forbearance and respect; through Jesus Christ our Lord. Amen. (Book of Common Prayer\, adapted)
URL:https://stjameshydepark.org/event/election-day-church-open-prayer/
LOCATION:St. James’ Episcopal Church\, 4526 Albany Post Rd.\, Hyde Park\, NY\, 12538\, United States
CATEGORIES:Outreach,Worship
ATTACH;FMTTYPE=image/png:https://stjameshydepark.org/wp-content/uploads/2024/10/openforprayer.png
END:VEVENT
BEGIN:VEVENT
DTSTART;TZID=America/New_York:20241020T110000
DTEND;TZID=America/New_York:20241020T123000
DTSTAMP:20260423T225646
CREATED:20241010T192033Z
LAST-MODIFIED:20241010T192141Z
UID:10004199-1729422000-1729427400@stjameshydepark.org
SUMMARY:Blessing of the Hyde Park Community Garden & Potluck Lunch
DESCRIPTION:Directly after the 10 am service on Sunday\, October 20th\, please join in the annual Blessing of the Hyde Park Community Garden\, with thanksgiving for this year’s harvest. The blessing is followed by a potluck lunch and cookout in the Garden.
URL:https://stjameshydepark.org/event/garden-blessing-2024/
LOCATION:St. James’ Episcopal Church\, 4526 Albany Post Rd.\, Hyde Park\, NY\, 12538\, United States
CATEGORIES:Community Garden,Fun,Worship
ATTACH;FMTTYPE=image/jpeg:https://stjameshydepark.org/wp-content/uploads/2024/10/Blessing-of-the-Garden-Potluck.jpg
END:VEVENT
BEGIN:VEVENT
DTSTART;TZID=America/New_York:20241016T183000
DTEND;TZID=America/New_York:20241016T203000
DTSTAMP:20260423T225646
CREATED:20240117T191804Z
LAST-MODIFIED:20240117T193049Z
UID:10003362-1729103400-1729110600@stjameshydepark.org
SUMMARY:Outreach Meeting (Wilks Room)
DESCRIPTION:
URL:https://stjameshydepark.org/event/outreach-meeting-wilks-room/2024-10-16/
LOCATION:St. James’ Episcopal Church\, 4526 Albany Post Rd.\, Hyde Park\, NY\, 12538\, United States
CATEGORIES:Outreach
END:VEVENT
BEGIN:VEVENT
DTSTART;TZID=America/New_York:20241015T180000
DTEND;TZID=America/New_York:20241015T190000
DTSTAMP:20260423T225646
CREATED:20240927T115013Z
LAST-MODIFIED:20240927T115013Z
UID:10004145-1729015200-1729018800@stjameshydepark.org
SUMMARY:Service of Remembrance for Pregnancy and Infant Loss
DESCRIPTION:Join us for a service of prayer and Holy Communion as we observe Pregnancy and Infant Loss Remembrance Day. \nTuesday\, October 15\, 2024 at 6 PM \nSt. James’ Episcopal Church\, 4526 Albany Post Road Hyde Park\, NY 12538 \nCome\, light a candle in remembrance of your dear one.
URL:https://stjameshydepark.org/event/wave-of-light/
LOCATION:St. James’ Episcopal Church\, 4526 Albany Post Rd.\, Hyde Park\, NY\, 12538\, United States
CATEGORIES:Outreach,Worship
ATTACH;FMTTYPE=image/png:https://stjameshydepark.org/wp-content/uploads/2024/09/Wave-of-Light-2024.png
END:VEVENT
BEGIN:VEVENT
DTSTART;TZID=America/New_York:20241012T090000
DTEND;TZID=America/New_York:20241012T140000
DTSTAMP:20260423T225646
CREATED:20240314T181712Z
LAST-MODIFIED:20240503T013146Z
UID:10003600-1728723600-1728741600@stjameshydepark.org
SUMMARY:Pop-up Craft Fair at the Yellow Chapel
DESCRIPTION:Pop-up craft fair at our Chapel on East Market Street—food\, local crafts and gifts\, live music and more! All table fee proceeds benefit the Hyde Park Community Garden\, a ministry of St. James’ Church. Call Deb Belding at 845-240-3194 for more info or to reserve a table. \nSaturdays May 11th\, June 15th\, July 13th\, September 14th\, and October 12th\, 9 am to 2 pm.
URL:https://stjameshydepark.org/event/chapel-popups-2024/2024-10-12/
LOCATION:St. James’ Chapel\, 10 East Market Street\, Hyde Park\, NY\, 12567\, United States
CATEGORIES:Community Garden
ATTACH;FMTTYPE=image/jpeg:https://stjameshydepark.org/wp-content/uploads/2024/03/Yellow-Chapel-pop-ups.jpeg
END:VEVENT
BEGIN:VEVENT
DTSTART;TZID=America/New_York:20241006T133000
DTEND;TZID=America/New_York:20241006T143000
DTSTAMP:20260423T225646
CREATED:20240910T160209Z
LAST-MODIFIED:20240910T160232Z
UID:10003955-1728221400-1728225000@stjameshydepark.org
SUMMARY:Blessing of the Animals
DESCRIPTION:Blessing of the Animals in honor of St. Francis \nSunday\, Oct. 6\, 1-2:30 pm (drop in) \nSt. James’ Episcopal Church 4526 Albany Post Rd\, Hyde Park in the Memorial Garden (Rain location: St. James’ Parish House) \nPets\, domestic animals\, stuffed animals\, and mementos of shy or departed pets are all welcome. \nCome and enjoy treats for pets and humans\, plus a free digital photo of your pet being blessed!
URL:https://stjameshydepark.org/event/blessing-of-the-animals-2024/
LOCATION:St. James’ Episcopal Church\, 4526 Albany Post Rd.\, Hyde Park\, NY\, 12538\, United States
CATEGORIES:Fun,Kids & Youth,Outreach,Worship
ATTACH;FMTTYPE=image/png:https://stjameshydepark.org/wp-content/uploads/2024/09/St.-Francis-Day.png
END:VEVENT
BEGIN:VEVENT
DTSTART;TZID=America/New_York:20241005T090000
DTEND;TZID=America/New_York:20241005T160000
DTSTAMP:20260423T225646
CREATED:20240927T191231Z
LAST-MODIFIED:20240927T191231Z
UID:10004147-1728118800-1728144000@stjameshydepark.org
SUMMARY:Diocese of NY Global Mission Fair (Pleasantville\, NY)
DESCRIPTION:
URL:https://stjameshydepark.org/event/global-mission-fair-2024/
LOCATION:NY
CATEGORIES:Outreach
END:VEVENT
BEGIN:VEVENT
DTSTART;TZID=America/New_York:20240920T170000
DTEND;TZID=America/New_York:20240920T190000
DTSTAMP:20260423T225646
CREATED:20240214T185526Z
LAST-MODIFIED:20240914T013834Z
UID:10003473-1726851600-1726858800@stjameshydepark.org
SUMMARY:Community Garden Harvest Dinner (Parish Hall)
DESCRIPTION:Join us from 5-7 pm on Friday\, September 20th for a fabulous chef-prepared meal in the Parish Hall featuring veggies fresh from our Community Garden! Menu created by Claude Geuermont\, HP Community gardener and chef of the former + beloved Le Pavillion restaurant in Poughkeepsie. Tickets  available through the parish office—please call 845-229-2820 to reserve (leave a voicemail outside of office hours). Cost is $18\, $12 for children 10-17\, and $5 for kids under 10. All proceeds benefit the Hyde Park Community Garden at St. James’ Church. \n 
URL:https://stjameshydepark.org/event/harvest-dinner-2024/
LOCATION:St. James’ Episcopal Church\, 4526 Albany Post Rd.\, Hyde Park\, NY\, 12538\, United States
CATEGORIES:Community Garden,Fun,Outreach
ATTACH;FMTTYPE=image/jpeg:https://stjameshydepark.org/wp-content/uploads/2024/02/Fall-Harvest-DInner.jpg
END:VEVENT
END:VCALENDAR