BEGIN:VCALENDAR
VERSION:2.0
PRODID:-//St. James&#039; Episcopal Church - ECPv6.15.20//NONSGML v1.0//EN
CALSCALE:GREGORIAN
METHOD:PUBLISH
X-ORIGINAL-URL:https://stjameshydepark.org
X-WR-CALDESC:Events for St. James&#039; Episcopal Church
REFRESH-INTERVAL;VALUE=DURATION:PT1H
X-Robots-Tag:noindex
X-PUBLISHED-TTL:PT1H
BEGIN:VTIMEZONE
TZID:America/New_York
BEGIN:DAYLIGHT
TZOFFSETFROM:-0500
TZOFFSETTO:-0400
TZNAME:EDT
DTSTART:20240310T070000
END:DAYLIGHT
BEGIN:STANDARD
TZOFFSETFROM:-0400
TZOFFSETTO:-0500
TZNAME:EST
DTSTART:20241103T060000
END:STANDARD
BEGIN:DAYLIGHT
TZOFFSETFROM:-0500
TZOFFSETTO:-0400
TZNAME:EDT
DTSTART:20250309T070000
END:DAYLIGHT
BEGIN:STANDARD
TZOFFSETFROM:-0400
TZOFFSETTO:-0500
TZNAME:EST
DTSTART:20251102T060000
END:STANDARD
BEGIN:DAYLIGHT
TZOFFSETFROM:-0500
TZOFFSETTO:-0400
TZNAME:EDT
DTSTART:20260308T070000
END:DAYLIGHT
BEGIN:STANDARD
TZOFFSETFROM:-0400
TZOFFSETTO:-0500
TZNAME:EST
DTSTART:20261101T060000
END:STANDARD
END:VTIMEZONE
BEGIN:VEVENT
DTSTART;TZID=America/New_York:20250414T090000
DTEND;TZID=America/New_York:20250414T160000
DTSTAMP:20260424T201356
CREATED:20250107T182210Z
LAST-MODIFIED:20250107T183528Z
UID:10004821-1744621200-1744646400@stjameshydepark.org
SUMMARY:[New Deal] Spring Break (Parish Hall)
DESCRIPTION:
URL:https://stjameshydepark.org/event/new-deal-spring-break-parish-hall/2025-04-14/
LOCATION:St. James’ Episcopal Church\, 4526 Albany Post Rd.\, Hyde Park\, NY\, 12538\, United States
CATEGORIES:New Deal
END:VEVENT
BEGIN:VEVENT
DTSTART;TZID=America/New_York:20250415T090000
DTEND;TZID=America/New_York:20250415T160000
DTSTAMP:20260424T201356
CREATED:20250107T182210Z
LAST-MODIFIED:20250107T183528Z
UID:10004822-1744707600-1744732800@stjameshydepark.org
SUMMARY:[New Deal] Spring Break (Parish Hall)
DESCRIPTION:
URL:https://stjameshydepark.org/event/new-deal-spring-break-parish-hall/2025-04-15/
LOCATION:St. James’ Episcopal Church\, 4526 Albany Post Rd.\, Hyde Park\, NY\, 12538\, United States
CATEGORIES:New Deal
END:VEVENT
BEGIN:VEVENT
DTSTART;TZID=America/New_York:20250416T090000
DTEND;TZID=America/New_York:20250416T160000
DTSTAMP:20260424T201356
CREATED:20250107T182210Z
LAST-MODIFIED:20250107T183528Z
UID:10004823-1744794000-1744819200@stjameshydepark.org
SUMMARY:[New Deal] Spring Break (Parish Hall)
DESCRIPTION:
URL:https://stjameshydepark.org/event/new-deal-spring-break-parish-hall/2025-04-16/
LOCATION:St. James’ Episcopal Church\, 4526 Albany Post Rd.\, Hyde Park\, NY\, 12538\, United States
CATEGORIES:New Deal
END:VEVENT
BEGIN:VEVENT
DTSTART;TZID=America/New_York:20250417T090000
DTEND;TZID=America/New_York:20250417T160000
DTSTAMP:20260424T201356
CREATED:20250107T182210Z
LAST-MODIFIED:20250107T183528Z
UID:10004824-1744880400-1744905600@stjameshydepark.org
SUMMARY:[New Deal] Spring Break (Parish Hall)
DESCRIPTION:
URL:https://stjameshydepark.org/event/new-deal-spring-break-parish-hall/2025-04-17/
LOCATION:St. James’ Episcopal Church\, 4526 Albany Post Rd.\, Hyde Park\, NY\, 12538\, United States
CATEGORIES:New Deal
END:VEVENT
BEGIN:VEVENT
DTSTART;TZID=America/New_York:20250418T090000
DTEND;TZID=America/New_York:20250418T160000
DTSTAMP:20260424T201356
CREATED:20250107T182210Z
LAST-MODIFIED:20250107T183528Z
UID:10004825-1744966800-1744992000@stjameshydepark.org
SUMMARY:[New Deal] Spring Break (Parish Hall)
DESCRIPTION:
URL:https://stjameshydepark.org/event/new-deal-spring-break-parish-hall/2025-04-18/
LOCATION:St. James’ Episcopal Church\, 4526 Albany Post Rd.\, Hyde Park\, NY\, 12538\, United States
CATEGORIES:New Deal
END:VEVENT
END:VCALENDAR