BEGIN:VCALENDAR
VERSION:2.0
PRODID:-//St. James&#039; Episcopal Church - ECPv6.15.20//NONSGML v1.0//EN
CALSCALE:GREGORIAN
METHOD:PUBLISH
X-WR-CALNAME:St. James&#039; Episcopal Church
X-ORIGINAL-URL:https://stjameshydepark.org
X-WR-CALDESC:Events for St. James&#039; Episcopal Church
REFRESH-INTERVAL;VALUE=DURATION:PT1H
X-Robots-Tag:noindex
X-PUBLISHED-TTL:PT1H
BEGIN:VTIMEZONE
TZID:America/New_York
BEGIN:DAYLIGHT
TZOFFSETFROM:-0500
TZOFFSETTO:-0400
TZNAME:EDT
DTSTART:20230312T070000
END:DAYLIGHT
BEGIN:STANDARD
TZOFFSETFROM:-0400
TZOFFSETTO:-0500
TZNAME:EST
DTSTART:20231105T060000
END:STANDARD
BEGIN:DAYLIGHT
TZOFFSETFROM:-0500
TZOFFSETTO:-0400
TZNAME:EDT
DTSTART:20240310T070000
END:DAYLIGHT
BEGIN:STANDARD
TZOFFSETFROM:-0400
TZOFFSETTO:-0500
TZNAME:EST
DTSTART:20241103T060000
END:STANDARD
BEGIN:DAYLIGHT
TZOFFSETFROM:-0500
TZOFFSETTO:-0400
TZNAME:EDT
DTSTART:20250309T070000
END:DAYLIGHT
BEGIN:STANDARD
TZOFFSETFROM:-0400
TZOFFSETTO:-0500
TZNAME:EST
DTSTART:20251102T060000
END:STANDARD
END:VTIMEZONE
BEGIN:VEVENT
DTSTART;TZID=America/New_York:20240809T083000
DTEND;TZID=America/New_York:20240809T163000
DTSTAMP:20260424T091002
CREATED:20240216T182543Z
LAST-MODIFIED:20240709T135406Z
UID:10003577-1723192200-1723221000@stjameshydepark.org
SUMMARY:[New Deal] Summer Camp (Parish Hall)
DESCRIPTION:
URL:https://stjameshydepark.org/event/summer-camp-parish-hall/2024-08-09/
LOCATION:St. James’ Episcopal Church\, 4526 Albany Post Rd.\, Hyde Park\, NY\, 12538\, United States
CATEGORIES:New Deal
END:VEVENT
BEGIN:VEVENT
DTSTART;TZID=America/New_York:20240808T083000
DTEND;TZID=America/New_York:20240808T163000
DTSTAMP:20260424T091002
CREATED:20240216T182543Z
LAST-MODIFIED:20240709T135406Z
UID:10003576-1723105800-1723134600@stjameshydepark.org
SUMMARY:[New Deal] Summer Camp (Parish Hall)
DESCRIPTION:
URL:https://stjameshydepark.org/event/summer-camp-parish-hall/2024-08-08/
LOCATION:St. James’ Episcopal Church\, 4526 Albany Post Rd.\, Hyde Park\, NY\, 12538\, United States
CATEGORIES:New Deal
END:VEVENT
BEGIN:VEVENT
DTSTART;TZID=America/New_York:20240807T083000
DTEND;TZID=America/New_York:20240807T163000
DTSTAMP:20260424T091002
CREATED:20240216T182543Z
LAST-MODIFIED:20240709T135406Z
UID:10003575-1723019400-1723048200@stjameshydepark.org
SUMMARY:[New Deal] Summer Camp (Parish Hall)
DESCRIPTION:
URL:https://stjameshydepark.org/event/summer-camp-parish-hall/2024-08-07/
LOCATION:St. James’ Episcopal Church\, 4526 Albany Post Rd.\, Hyde Park\, NY\, 12538\, United States
CATEGORIES:New Deal
END:VEVENT
BEGIN:VEVENT
DTSTART;TZID=America/New_York:20240806T083000
DTEND;TZID=America/New_York:20240806T163000
DTSTAMP:20260424T091002
CREATED:20240216T182543Z
LAST-MODIFIED:20240709T135406Z
UID:10003574-1722933000-1722961800@stjameshydepark.org
SUMMARY:[New Deal] Summer Camp (Parish Hall)
DESCRIPTION:
URL:https://stjameshydepark.org/event/summer-camp-parish-hall/2024-08-06/
LOCATION:St. James’ Episcopal Church\, 4526 Albany Post Rd.\, Hyde Park\, NY\, 12538\, United States
CATEGORIES:New Deal
END:VEVENT
BEGIN:VEVENT
DTSTART;TZID=America/New_York:20240805T083000
DTEND;TZID=America/New_York:20240805T163000
DTSTAMP:20260424T091002
CREATED:20240216T182543Z
LAST-MODIFIED:20240709T135406Z
UID:10003573-1722846600-1722875400@stjameshydepark.org
SUMMARY:[New Deal] Summer Camp (Parish Hall)
DESCRIPTION:
URL:https://stjameshydepark.org/event/summer-camp-parish-hall/2024-08-05/
LOCATION:St. James’ Episcopal Church\, 4526 Albany Post Rd.\, Hyde Park\, NY\, 12538\, United States
CATEGORIES:New Deal
END:VEVENT
BEGIN:VEVENT
DTSTART;TZID=America/New_York:20240722T191500
DTEND;TZID=America/New_York:20240722T201500
DTSTAMP:20260424T091002
CREATED:20240216T170759Z
LAST-MODIFIED:20240305T134052Z
UID:10003591-1721675700-1721679300@stjameshydepark.org
SUMMARY:[New Deal] Book Club (Wilks Room)
DESCRIPTION:
URL:https://stjameshydepark.org/event/book-club-classrooms/2024-07-22/
LOCATION:St. James’ Episcopal Church\, 4526 Albany Post Rd.\, Hyde Park\, NY\, 12538\, United States
CATEGORIES:New Deal
END:VEVENT
BEGIN:VEVENT
DTSTART;TZID=America/New_York:20240719T163000
DTEND;TZID=America/New_York:20240719T203000
DTSTAMP:20260424T091002
CREATED:20240403T124932Z
LAST-MODIFIED:20240709T135006Z
UID:10003669-1721406600-1721421000@stjameshydepark.org
SUMMARY:[New Deal] Performance (Parish Hall)
DESCRIPTION:
URL:https://stjameshydepark.org/event/new-deal-performance-parish-hall/2024-07-19/
LOCATION:St. James’ Episcopal Church\, 4526 Albany Post Rd.\, Hyde Park\, NY\, 12538\, United States
CATEGORIES:New Deal
END:VEVENT
BEGIN:VEVENT
DTSTART;TZID=America/New_York:20240719T083000
DTEND;TZID=America/New_York:20240719T163000
DTSTAMP:20260424T091002
CREATED:20240216T182543Z
LAST-MODIFIED:20240709T135406Z
UID:10003562-1721377800-1721406600@stjameshydepark.org
SUMMARY:[New Deal] Summer Camp (Parish Hall)
DESCRIPTION:
URL:https://stjameshydepark.org/event/summer-camp-parish-hall/2024-07-19/
LOCATION:St. James’ Episcopal Church\, 4526 Albany Post Rd.\, Hyde Park\, NY\, 12538\, United States
CATEGORIES:New Deal
END:VEVENT
BEGIN:VEVENT
DTSTART;TZID=America/New_York:20240718T083000
DTEND;TZID=America/New_York:20240718T163000
DTSTAMP:20260424T091002
CREATED:20240216T182543Z
LAST-MODIFIED:20240709T135406Z
UID:10003561-1721291400-1721320200@stjameshydepark.org
SUMMARY:[New Deal] Summer Camp (Parish Hall)
DESCRIPTION:
URL:https://stjameshydepark.org/event/summer-camp-parish-hall/2024-07-18/
LOCATION:St. James’ Episcopal Church\, 4526 Albany Post Rd.\, Hyde Park\, NY\, 12538\, United States
CATEGORIES:New Deal
END:VEVENT
BEGIN:VEVENT
DTSTART;TZID=America/New_York:20240717T083000
DTEND;TZID=America/New_York:20240717T163000
DTSTAMP:20260424T091002
CREATED:20240216T182543Z
LAST-MODIFIED:20240709T135406Z
UID:10003560-1721205000-1721233800@stjameshydepark.org
SUMMARY:[New Deal] Summer Camp (Parish Hall)
DESCRIPTION:
URL:https://stjameshydepark.org/event/summer-camp-parish-hall/2024-07-17/
LOCATION:St. James’ Episcopal Church\, 4526 Albany Post Rd.\, Hyde Park\, NY\, 12538\, United States
CATEGORIES:New Deal
END:VEVENT
BEGIN:VEVENT
DTSTART;TZID=America/New_York:20240716T083000
DTEND;TZID=America/New_York:20240716T163000
DTSTAMP:20260424T091002
CREATED:20240216T182543Z
LAST-MODIFIED:20240709T135406Z
UID:10003559-1721118600-1721147400@stjameshydepark.org
SUMMARY:[New Deal] Summer Camp (Parish Hall)
DESCRIPTION:
URL:https://stjameshydepark.org/event/summer-camp-parish-hall/2024-07-16/
LOCATION:St. James’ Episcopal Church\, 4526 Albany Post Rd.\, Hyde Park\, NY\, 12538\, United States
CATEGORIES:New Deal
END:VEVENT
BEGIN:VEVENT
DTSTART;TZID=America/New_York:20240715T083000
DTEND;TZID=America/New_York:20240715T163000
DTSTAMP:20260424T091002
CREATED:20240216T182543Z
LAST-MODIFIED:20240709T135406Z
UID:10003558-1721032200-1721061000@stjameshydepark.org
SUMMARY:[New Deal] Summer Camp (Parish Hall)
DESCRIPTION:
URL:https://stjameshydepark.org/event/summer-camp-parish-hall/2024-07-15/
LOCATION:St. James’ Episcopal Church\, 4526 Albany Post Rd.\, Hyde Park\, NY\, 12538\, United States
CATEGORIES:New Deal
END:VEVENT
BEGIN:VEVENT
DTSTART;TZID=America/New_York:20240712T083000
DTEND;TZID=America/New_York:20240712T163000
DTSTAMP:20260424T091002
CREATED:20240216T182543Z
LAST-MODIFIED:20240709T135406Z
UID:10003557-1720773000-1720801800@stjameshydepark.org
SUMMARY:[New Deal] Summer Camp (Parish Hall)
DESCRIPTION:
URL:https://stjameshydepark.org/event/summer-camp-parish-hall/2024-07-12/
LOCATION:St. James’ Episcopal Church\, 4526 Albany Post Rd.\, Hyde Park\, NY\, 12538\, United States
CATEGORIES:New Deal
END:VEVENT
BEGIN:VEVENT
DTSTART;TZID=America/New_York:20240711T083000
DTEND;TZID=America/New_York:20240711T163000
DTSTAMP:20260424T091002
CREATED:20240216T182543Z
LAST-MODIFIED:20240709T135406Z
UID:10003556-1720686600-1720715400@stjameshydepark.org
SUMMARY:[New Deal] Summer Camp (Parish Hall)
DESCRIPTION:
URL:https://stjameshydepark.org/event/summer-camp-parish-hall/2024-07-11/
LOCATION:St. James’ Episcopal Church\, 4526 Albany Post Rd.\, Hyde Park\, NY\, 12538\, United States
CATEGORIES:New Deal
END:VEVENT
BEGIN:VEVENT
DTSTART;TZID=America/New_York:20240710T083000
DTEND;TZID=America/New_York:20240710T163000
DTSTAMP:20260424T091002
CREATED:20240216T182543Z
LAST-MODIFIED:20240709T135406Z
UID:10003555-1720600200-1720629000@stjameshydepark.org
SUMMARY:[New Deal] Summer Camp (Parish Hall)
DESCRIPTION:
URL:https://stjameshydepark.org/event/summer-camp-parish-hall/2024-07-10/
LOCATION:St. James’ Episcopal Church\, 4526 Albany Post Rd.\, Hyde Park\, NY\, 12538\, United States
CATEGORIES:New Deal
END:VEVENT
BEGIN:VEVENT
DTSTART;TZID=America/New_York:20240709T083000
DTEND;TZID=America/New_York:20240709T163000
DTSTAMP:20260424T091002
CREATED:20240216T182543Z
LAST-MODIFIED:20240709T135406Z
UID:10003554-1720513800-1720542600@stjameshydepark.org
SUMMARY:[New Deal] Summer Camp (Parish Hall)
DESCRIPTION:
URL:https://stjameshydepark.org/event/summer-camp-parish-hall/2024-07-09/
LOCATION:St. James’ Episcopal Church\, 4526 Albany Post Rd.\, Hyde Park\, NY\, 12538\, United States
CATEGORIES:New Deal
END:VEVENT
BEGIN:VEVENT
DTSTART;TZID=America/New_York:20240708T083000
DTEND;TZID=America/New_York:20240708T163000
DTSTAMP:20260424T091002
CREATED:20240216T182543Z
LAST-MODIFIED:20240709T135406Z
UID:10003553-1720427400-1720456200@stjameshydepark.org
SUMMARY:[New Deal] Summer Camp (Parish Hall)
DESCRIPTION:
URL:https://stjameshydepark.org/event/summer-camp-parish-hall/2024-07-08/
LOCATION:St. James’ Episcopal Church\, 4526 Albany Post Rd.\, Hyde Park\, NY\, 12538\, United States
CATEGORIES:New Deal
END:VEVENT
BEGIN:VEVENT
DTSTART;TZID=America/New_York:20240624T191500
DTEND;TZID=America/New_York:20240624T201500
DTSTAMP:20260424T091002
CREATED:20240216T170759Z
LAST-MODIFIED:20240305T134052Z
UID:10003500-1719256500-1719260100@stjameshydepark.org
SUMMARY:[New Deal] Book Club (Wilks Room)
DESCRIPTION:
URL:https://stjameshydepark.org/event/book-club-classrooms/2024-06-24/
LOCATION:St. James’ Episcopal Church\, 4526 Albany Post Rd.\, Hyde Park\, NY\, 12538\, United States
CATEGORIES:New Deal
END:VEVENT
BEGIN:VEVENT
DTSTART;TZID=America/New_York:20240525T100000
DTEND;TZID=America/New_York:20240525T140000
DTSTAMP:20260424T091002
CREATED:20240522T150443Z
LAST-MODIFIED:20240522T150443Z
UID:10003779-1716631200-1716645600@stjameshydepark.org
SUMMARY:[New Deal] "Chicago" Rehearsal (Parish Hall)
DESCRIPTION:
URL:https://stjameshydepark.org/event/new-deal-chicago-rehearsal-parish-hall/
LOCATION:St. James’ Episcopal Church\, 4526 Albany Post Rd.\, Hyde Park\, NY\, 12538\, United States
CATEGORIES:New Deal
END:VEVENT
BEGIN:VEVENT
DTSTART;TZID=America/New_York:20240520T191500
DTEND;TZID=America/New_York:20240520T201500
DTSTAMP:20260424T091002
CREATED:20240216T171540Z
LAST-MODIFIED:20240218T205643Z
UID:10003513-1716232500-1716236100@stjameshydepark.org
SUMMARY:[New Deal] Book Club (Classrooms)
DESCRIPTION:
URL:https://stjameshydepark.org/event/book-club-classrooms-2/
LOCATION:St. James’ Episcopal Church\, 4526 Albany Post Rd.\, Hyde Park\, NY\, 12538\, United States
CATEGORIES:New Deal
END:VEVENT
BEGIN:VEVENT
DTSTART;TZID=America/New_York:20240518T100000
DTEND;TZID=America/New_York:20240518T160000
DTSTAMP:20260424T091002
CREATED:20240314T144141Z
LAST-MODIFIED:20240423T173526Z
UID:10003622-1716026400-1716048000@stjameshydepark.org
SUMMARY:[New Deal] "Chicago" Rehearsal (Parish Hall)
DESCRIPTION:
URL:https://stjameshydepark.org/event/new-deal-chicago-parish-hall/2024-05-18/
LOCATION:St. James’ Episcopal Church\, 4526 Albany Post Rd.\, Hyde Park\, NY\, 12538\, United States
CATEGORIES:New Deal
END:VEVENT
BEGIN:VEVENT
DTSTART;TZID=America/New_York:20240514T180000
DTEND;TZID=America/New_York:20240514T200000
DTSTAMP:20260424T091002
CREATED:20240216T174259Z
LAST-MODIFIED:20240317T170047Z
UID:10003615-1715709600-1715716800@stjameshydepark.org
SUMMARY:[New Deal] "Chicago" Rehearsal (Classrooms)
DESCRIPTION:
URL:https://stjameshydepark.org/event/chicago-classrooms/2024-05-14/
LOCATION:St. James’ Episcopal Church\, 4526 Albany Post Rd.\, Hyde Park\, NY\, 12538\, United States
CATEGORIES:New Deal
END:VEVENT
BEGIN:VEVENT
DTSTART;TZID=America/New_York:20240508T190000
DTEND;TZID=America/New_York:20240508T200000
DTSTAMP:20260424T091002
CREATED:20240216T180456Z
LAST-MODIFIED:20240218T205501Z
UID:10003548-1715194800-1715198400@stjameshydepark.org
SUMMARY:[New Deal] Adult Tap (Parish Hall)
DESCRIPTION:
URL:https://stjameshydepark.org/event/adult-tap-parish-hall-2/2024-05-08/
LOCATION:St. James’ Episcopal Church\, 4526 Albany Post Rd.\, Hyde Park\, NY\, 12538\, United States
CATEGORIES:New Deal
END:VEVENT
BEGIN:VEVENT
DTSTART;TZID=America/New_York:20240507T180000
DTEND;TZID=America/New_York:20240507T200000
DTSTAMP:20260424T091002
CREATED:20240216T174259Z
LAST-MODIFIED:20240317T170047Z
UID:10003614-1715104800-1715112000@stjameshydepark.org
SUMMARY:[New Deal] "Chicago" Rehearsal (Classrooms)
DESCRIPTION:
URL:https://stjameshydepark.org/event/chicago-classrooms/2024-05-07/
LOCATION:St. James’ Episcopal Church\, 4526 Albany Post Rd.\, Hyde Park\, NY\, 12538\, United States
CATEGORIES:New Deal
END:VEVENT
BEGIN:VEVENT
DTSTART;TZID=America/New_York:20240501T190000
DTEND;TZID=America/New_York:20240501T200000
DTSTAMP:20260424T091002
CREATED:20240216T180456Z
LAST-MODIFIED:20240218T205501Z
UID:10003547-1714590000-1714593600@stjameshydepark.org
SUMMARY:[New Deal] Adult Tap (Parish Hall)
DESCRIPTION:
URL:https://stjameshydepark.org/event/adult-tap-parish-hall-2/2024-05-01/
LOCATION:St. James’ Episcopal Church\, 4526 Albany Post Rd.\, Hyde Park\, NY\, 12538\, United States
CATEGORIES:New Deal
END:VEVENT
BEGIN:VEVENT
DTSTART;TZID=America/New_York:20240430T180000
DTEND;TZID=America/New_York:20240430T200000
DTSTAMP:20260424T091002
CREATED:20240216T174259Z
LAST-MODIFIED:20240317T170047Z
UID:10003613-1714500000-1714507200@stjameshydepark.org
SUMMARY:[New Deal] "Chicago" Rehearsal (Classrooms)
DESCRIPTION:
URL:https://stjameshydepark.org/event/chicago-classrooms/2024-04-30/
LOCATION:St. James’ Episcopal Church\, 4526 Albany Post Rd.\, Hyde Park\, NY\, 12538\, United States
CATEGORIES:New Deal
END:VEVENT
BEGIN:VEVENT
DTSTART;TZID=America/New_York:20240427T100000
DTEND;TZID=America/New_York:20240427T140000
DTSTAMP:20260424T091002
CREATED:20240317T171136Z
LAST-MODIFIED:20240317T171153Z
UID:10003620-1714212000-1714226400@stjameshydepark.org
SUMMARY:[New Deal] "Chicago" Rehearsal (Classrooms)
DESCRIPTION:
URL:https://stjameshydepark.org/event/new-deal-chicago-classrooms-apr-27/
LOCATION:St. James’ Episcopal Church\, 4526 Albany Post Rd.\, Hyde Park\, NY\, 12538\, United States
CATEGORIES:New Deal
END:VEVENT
BEGIN:VEVENT
DTSTART;TZID=America/New_York:20240425T190000
DTEND;TZID=America/New_York:20240425T210000
DTSTAMP:20260424T091002
CREATED:20240425T130703Z
LAST-MODIFIED:20240425T130703Z
UID:10003771-1714071600-1714078800@stjameshydepark.org
SUMMARY:[New Deal] Shakespeare Auditions (Parish Hall)
DESCRIPTION:
URL:https://stjameshydepark.org/event/new-deal-shakespeare-auditions-parish-hall/
LOCATION:St. James’ Episcopal Church\, 4526 Albany Post Rd.\, Hyde Park\, NY\, 12538\, United States
CATEGORIES:New Deal
END:VEVENT
BEGIN:VEVENT
DTSTART;TZID=America/New_York:20240424T190000
DTEND;TZID=America/New_York:20240424T200000
DTSTAMP:20260424T091002
CREATED:20240216T180456Z
LAST-MODIFIED:20240218T205501Z
UID:10003546-1713985200-1713988800@stjameshydepark.org
SUMMARY:[New Deal] Adult Tap (Parish Hall)
DESCRIPTION:
URL:https://stjameshydepark.org/event/adult-tap-parish-hall-2/2024-04-24/
LOCATION:St. James’ Episcopal Church\, 4526 Albany Post Rd.\, Hyde Park\, NY\, 12538\, United States
CATEGORIES:New Deal
END:VEVENT
BEGIN:VEVENT
DTSTART;TZID=America/New_York:20240423T180000
DTEND;TZID=America/New_York:20240423T200000
DTSTAMP:20260424T091002
CREATED:20240216T174259Z
LAST-MODIFIED:20240317T170047Z
UID:10003612-1713895200-1713902400@stjameshydepark.org
SUMMARY:[New Deal] "Chicago" Rehearsal (Classrooms)
DESCRIPTION:
URL:https://stjameshydepark.org/event/chicago-classrooms/2024-04-23/
LOCATION:St. James’ Episcopal Church\, 4526 Albany Post Rd.\, Hyde Park\, NY\, 12538\, United States
CATEGORIES:New Deal
END:VEVENT
END:VCALENDAR