BEGIN:VCALENDAR
VERSION:2.0
PRODID:-//St. James&#039; Episcopal Church - ECPv6.15.20//NONSGML v1.0//EN
CALSCALE:GREGORIAN
METHOD:PUBLISH
X-ORIGINAL-URL:https://stjameshydepark.org
X-WR-CALDESC:Events for St. James&#039; Episcopal Church
REFRESH-INTERVAL;VALUE=DURATION:PT1H
X-Robots-Tag:noindex
X-PUBLISHED-TTL:PT1H
BEGIN:VTIMEZONE
TZID:America/New_York
BEGIN:DAYLIGHT
TZOFFSETFROM:-0500
TZOFFSETTO:-0400
TZNAME:EDT
DTSTART:20240310T070000
END:DAYLIGHT
BEGIN:STANDARD
TZOFFSETFROM:-0400
TZOFFSETTO:-0500
TZNAME:EST
DTSTART:20241103T060000
END:STANDARD
BEGIN:DAYLIGHT
TZOFFSETFROM:-0500
TZOFFSETTO:-0400
TZNAME:EDT
DTSTART:20250309T070000
END:DAYLIGHT
BEGIN:STANDARD
TZOFFSETFROM:-0400
TZOFFSETTO:-0500
TZNAME:EST
DTSTART:20251102T060000
END:STANDARD
BEGIN:DAYLIGHT
TZOFFSETFROM:-0500
TZOFFSETTO:-0400
TZNAME:EDT
DTSTART:20260308T070000
END:DAYLIGHT
BEGIN:STANDARD
TZOFFSETFROM:-0400
TZOFFSETTO:-0500
TZNAME:EST
DTSTART:20261101T060000
END:STANDARD
END:VTIMEZONE
BEGIN:VEVENT
DTSTART;TZID=America/New_York:20250120T090000
DTEND;TZID=America/New_York:20250120T160000
DTSTAMP:20260425T090035
CREATED:20250107T182041Z
LAST-MODIFIED:20251113T143645Z
UID:10004812-1737363600-1737388800@stjameshydepark.org
SUMMARY:[New Deal] (Parish Hall)
DESCRIPTION:
URL:https://stjameshydepark.org/event/new-deal-parish-hall/2025-01-20/
LOCATION:St. James’ Episcopal Church\, 4526 Albany Post Rd.\, Hyde Park\, NY\, 12538\, United States
CATEGORIES:New Deal
END:VEVENT
BEGIN:VEVENT
DTSTART;TZID=America/New_York:20250125T130000
DTEND;TZID=America/New_York:20250125T160000
DTSTAMP:20260425T090035
CREATED:20241016T182732Z
LAST-MODIFIED:20250107T175040Z
UID:10004215-1737810000-1737820800@stjameshydepark.org
SUMMARY:[New Deal] Book Club + Movie (Parish Hall)
DESCRIPTION:
URL:https://stjameshydepark.org/event/new-deal-book-club-movie-parish-hall/
LOCATION:St. James’ Episcopal Church\, 4526 Albany Post Rd.\, Hyde Park\, NY\, 12538\, United States
CATEGORIES:New Deal
END:VEVENT
BEGIN:VEVENT
DTSTART;TZID=America/New_York:20250215T170000
DTEND;TZID=America/New_York:20250215T210000
DTSTAMP:20260425T090035
CREATED:20241113T152139Z
LAST-MODIFIED:20250115T134034Z
UID:10004243-1739638800-1739653200@stjameshydepark.org
SUMMARY:[New Deal] Valentine's Day Cabaret (Parish Hall)
DESCRIPTION:
URL:https://stjameshydepark.org/event/new-deal-valentines-day-cabaret-parish-hall/
LOCATION:St. James’ Episcopal Church\, 4526 Albany Post Rd.\, Hyde Park\, NY\, 12538\, United States
CATEGORIES:New Deal
END:VEVENT
BEGIN:VEVENT
DTSTART;TZID=America/New_York:20250217T090000
DTEND;TZID=America/New_York:20250217T160000
DTSTAMP:20260425T090035
CREATED:20250107T182041Z
LAST-MODIFIED:20251113T143645Z
UID:10004813-1739782800-1739808000@stjameshydepark.org
SUMMARY:[New Deal] (Parish Hall)
DESCRIPTION:
URL:https://stjameshydepark.org/event/new-deal-parish-hall/2025-02-17/
LOCATION:St. James’ Episcopal Church\, 4526 Albany Post Rd.\, Hyde Park\, NY\, 12538\, United States
CATEGORIES:New Deal
END:VEVENT
BEGIN:VEVENT
DTSTART;TZID=America/New_York:20250321T173000
DTEND;TZID=America/New_York:20250321T210000
DTSTAMP:20260425T090035
CREATED:20250107T182041Z
LAST-MODIFIED:20251113T143645Z
UID:10004814-1742578200-1742590800@stjameshydepark.org
SUMMARY:[New Deal] (Parish Hall)
DESCRIPTION:
URL:https://stjameshydepark.org/event/new-deal-parish-hall/2025-03-21/
LOCATION:St. James’ Episcopal Church\, 4526 Albany Post Rd.\, Hyde Park\, NY\, 12538\, United States
CATEGORIES:New Deal
END:VEVENT
BEGIN:VEVENT
DTSTART;TZID=America/New_York:20250411T170000
DTEND;TZID=America/New_York:20250411T210000
DTSTAMP:20260425T090035
CREATED:20250306T134143Z
LAST-MODIFIED:20250306T134248Z
UID:10006425-1744390800-1744405200@stjameshydepark.org
SUMMARY:[New Deal] Cabaret (Parish Hall)
DESCRIPTION:
URL:https://stjameshydepark.org/event/new-deal-cabaret-parish-hall/2025-04-11/
LOCATION:St. James’ Episcopal Church\, 4526 Albany Post Rd.\, Hyde Park\, NY\, 12538\, United States
CATEGORIES:New Deal
END:VEVENT
BEGIN:VEVENT
DTSTART;TZID=America/New_York:20250412T170000
DTEND;TZID=America/New_York:20250412T210000
DTSTAMP:20260425T090035
CREATED:20250306T134143Z
LAST-MODIFIED:20250306T134248Z
UID:10006426-1744477200-1744491600@stjameshydepark.org
SUMMARY:[New Deal] Cabaret (Parish Hall)
DESCRIPTION:
URL:https://stjameshydepark.org/event/new-deal-cabaret-parish-hall/2025-04-12/
LOCATION:St. James’ Episcopal Church\, 4526 Albany Post Rd.\, Hyde Park\, NY\, 12538\, United States
CATEGORIES:New Deal
END:VEVENT
BEGIN:VEVENT
DTSTART;TZID=America/New_York:20250414T090000
DTEND;TZID=America/New_York:20250414T160000
DTSTAMP:20260425T090035
CREATED:20250107T182210Z
LAST-MODIFIED:20250107T183528Z
UID:10004821-1744621200-1744646400@stjameshydepark.org
SUMMARY:[New Deal] Spring Break (Parish Hall)
DESCRIPTION:
URL:https://stjameshydepark.org/event/new-deal-spring-break-parish-hall/2025-04-14/
LOCATION:St. James’ Episcopal Church\, 4526 Albany Post Rd.\, Hyde Park\, NY\, 12538\, United States
CATEGORIES:New Deal
END:VEVENT
BEGIN:VEVENT
DTSTART;TZID=America/New_York:20250415T090000
DTEND;TZID=America/New_York:20250415T160000
DTSTAMP:20260425T090035
CREATED:20250107T182210Z
LAST-MODIFIED:20250107T183528Z
UID:10004822-1744707600-1744732800@stjameshydepark.org
SUMMARY:[New Deal] Spring Break (Parish Hall)
DESCRIPTION:
URL:https://stjameshydepark.org/event/new-deal-spring-break-parish-hall/2025-04-15/
LOCATION:St. James’ Episcopal Church\, 4526 Albany Post Rd.\, Hyde Park\, NY\, 12538\, United States
CATEGORIES:New Deal
END:VEVENT
BEGIN:VEVENT
DTSTART;TZID=America/New_York:20250416T090000
DTEND;TZID=America/New_York:20250416T160000
DTSTAMP:20260425T090035
CREATED:20250107T182210Z
LAST-MODIFIED:20250107T183528Z
UID:10004823-1744794000-1744819200@stjameshydepark.org
SUMMARY:[New Deal] Spring Break (Parish Hall)
DESCRIPTION:
URL:https://stjameshydepark.org/event/new-deal-spring-break-parish-hall/2025-04-16/
LOCATION:St. James’ Episcopal Church\, 4526 Albany Post Rd.\, Hyde Park\, NY\, 12538\, United States
CATEGORIES:New Deal
END:VEVENT
BEGIN:VEVENT
DTSTART;TZID=America/New_York:20250417T090000
DTEND;TZID=America/New_York:20250417T160000
DTSTAMP:20260425T090035
CREATED:20250107T182210Z
LAST-MODIFIED:20250107T183528Z
UID:10004824-1744880400-1744905600@stjameshydepark.org
SUMMARY:[New Deal] Spring Break (Parish Hall)
DESCRIPTION:
URL:https://stjameshydepark.org/event/new-deal-spring-break-parish-hall/2025-04-17/
LOCATION:St. James’ Episcopal Church\, 4526 Albany Post Rd.\, Hyde Park\, NY\, 12538\, United States
CATEGORIES:New Deal
END:VEVENT
BEGIN:VEVENT
DTSTART;TZID=America/New_York:20250418T090000
DTEND;TZID=America/New_York:20250418T160000
DTSTAMP:20260425T090035
CREATED:20250107T182210Z
LAST-MODIFIED:20250107T183528Z
UID:10004825-1744966800-1744992000@stjameshydepark.org
SUMMARY:[New Deal] Spring Break (Parish Hall)
DESCRIPTION:
URL:https://stjameshydepark.org/event/new-deal-spring-break-parish-hall/2025-04-18/
LOCATION:St. James’ Episcopal Church\, 4526 Albany Post Rd.\, Hyde Park\, NY\, 12538\, United States
CATEGORIES:New Deal
END:VEVENT
BEGIN:VEVENT
DTSTART;TZID=America/New_York:20250510T183000
DTEND;TZID=America/New_York:20250510T213000
DTSTAMP:20260425T090035
CREATED:20250107T182041Z
LAST-MODIFIED:20251113T143645Z
UID:10004816-1746901800-1746912600@stjameshydepark.org
SUMMARY:[New Deal] (Parish Hall)
DESCRIPTION:
URL:https://stjameshydepark.org/event/new-deal-parish-hall/2025-05-10/
LOCATION:St. James’ Episcopal Church\, 4526 Albany Post Rd.\, Hyde Park\, NY\, 12538\, United States
CATEGORIES:New Deal
END:VEVENT
BEGIN:VEVENT
DTSTART;TZID=America/New_York:20250516T173000
DTEND;TZID=America/New_York:20250516T203000
DTSTAMP:20260425T090035
CREATED:20250107T182041Z
LAST-MODIFIED:20251113T143645Z
UID:10004817-1747416600-1747427400@stjameshydepark.org
SUMMARY:[New Deal] (Parish Hall)
DESCRIPTION:
URL:https://stjameshydepark.org/event/new-deal-parish-hall/2025-05-16/
LOCATION:St. James’ Episcopal Church\, 4526 Albany Post Rd.\, Hyde Park\, NY\, 12538\, United States
CATEGORIES:New Deal
END:VEVENT
BEGIN:VEVENT
DTSTART;TZID=America/New_York:20250707T083000
DTEND;TZID=America/New_York:20250707T163000
DTSTAMP:20260425T090035
CREATED:20250107T182430Z
LAST-MODIFIED:20250108T132853Z
UID:10005191-1751877000-1751905800@stjameshydepark.org
SUMMARY:[New Deal] Musical Theatre Camp (Parish Hall)
DESCRIPTION:
URL:https://stjameshydepark.org/event/new-deal-musical-theatre-camp-parish-hall/2025-07-07/
LOCATION:St. James’ Episcopal Church\, 4526 Albany Post Rd.\, Hyde Park\, NY\, 12538\, United States
CATEGORIES:New Deal
END:VEVENT
BEGIN:VEVENT
DTSTART;TZID=America/New_York:20250708T083000
DTEND;TZID=America/New_York:20250708T163000
DTSTAMP:20260425T090035
CREATED:20250107T182430Z
LAST-MODIFIED:20250108T132853Z
UID:10005192-1751963400-1751992200@stjameshydepark.org
SUMMARY:[New Deal] Musical Theatre Camp (Parish Hall)
DESCRIPTION:
URL:https://stjameshydepark.org/event/new-deal-musical-theatre-camp-parish-hall/2025-07-08/
LOCATION:St. James’ Episcopal Church\, 4526 Albany Post Rd.\, Hyde Park\, NY\, 12538\, United States
CATEGORIES:New Deal
END:VEVENT
BEGIN:VEVENT
DTSTART;TZID=America/New_York:20250709T083000
DTEND;TZID=America/New_York:20250709T163000
DTSTAMP:20260425T090035
CREATED:20250107T182430Z
LAST-MODIFIED:20250108T132853Z
UID:10005193-1752049800-1752078600@stjameshydepark.org
SUMMARY:[New Deal] Musical Theatre Camp (Parish Hall)
DESCRIPTION:
URL:https://stjameshydepark.org/event/new-deal-musical-theatre-camp-parish-hall/2025-07-09/
LOCATION:St. James’ Episcopal Church\, 4526 Albany Post Rd.\, Hyde Park\, NY\, 12538\, United States
CATEGORIES:New Deal
END:VEVENT
BEGIN:VEVENT
DTSTART;TZID=America/New_York:20250710T083000
DTEND;TZID=America/New_York:20250710T163000
DTSTAMP:20260425T090035
CREATED:20250107T182430Z
LAST-MODIFIED:20250108T132853Z
UID:10005194-1752136200-1752165000@stjameshydepark.org
SUMMARY:[New Deal] Musical Theatre Camp (Parish Hall)
DESCRIPTION:
URL:https://stjameshydepark.org/event/new-deal-musical-theatre-camp-parish-hall/2025-07-10/
LOCATION:St. James’ Episcopal Church\, 4526 Albany Post Rd.\, Hyde Park\, NY\, 12538\, United States
CATEGORIES:New Deal
END:VEVENT
BEGIN:VEVENT
DTSTART;TZID=America/New_York:20250711T083000
DTEND;TZID=America/New_York:20250711T163000
DTSTAMP:20260425T090035
CREATED:20250107T182430Z
LAST-MODIFIED:20250108T132853Z
UID:10005195-1752222600-1752251400@stjameshydepark.org
SUMMARY:[New Deal] Musical Theatre Camp (Parish Hall)
DESCRIPTION:
URL:https://stjameshydepark.org/event/new-deal-musical-theatre-camp-parish-hall/2025-07-11/
LOCATION:St. James’ Episcopal Church\, 4526 Albany Post Rd.\, Hyde Park\, NY\, 12538\, United States
CATEGORIES:New Deal
END:VEVENT
BEGIN:VEVENT
DTSTART;TZID=America/New_York:20250714T083000
DTEND;TZID=America/New_York:20250714T163000
DTSTAMP:20260425T090035
CREATED:20250107T182430Z
LAST-MODIFIED:20250108T132853Z
UID:10005197-1752481800-1752510600@stjameshydepark.org
SUMMARY:[New Deal] Musical Theatre Camp (Parish Hall)
DESCRIPTION:
URL:https://stjameshydepark.org/event/new-deal-musical-theatre-camp-parish-hall/2025-07-14/
LOCATION:St. James’ Episcopal Church\, 4526 Albany Post Rd.\, Hyde Park\, NY\, 12538\, United States
CATEGORIES:New Deal
END:VEVENT
BEGIN:VEVENT
DTSTART;TZID=America/New_York:20250715T083000
DTEND;TZID=America/New_York:20250715T163000
DTSTAMP:20260425T090035
CREATED:20250107T182430Z
LAST-MODIFIED:20250108T132853Z
UID:10005198-1752568200-1752597000@stjameshydepark.org
SUMMARY:[New Deal] Musical Theatre Camp (Parish Hall)
DESCRIPTION:
URL:https://stjameshydepark.org/event/new-deal-musical-theatre-camp-parish-hall/2025-07-15/
LOCATION:St. James’ Episcopal Church\, 4526 Albany Post Rd.\, Hyde Park\, NY\, 12538\, United States
CATEGORIES:New Deal
END:VEVENT
BEGIN:VEVENT
DTSTART;TZID=America/New_York:20250716T083000
DTEND;TZID=America/New_York:20250716T163000
DTSTAMP:20260425T090035
CREATED:20250107T182430Z
LAST-MODIFIED:20250108T132853Z
UID:10005199-1752654600-1752683400@stjameshydepark.org
SUMMARY:[New Deal] Musical Theatre Camp (Parish Hall)
DESCRIPTION:
URL:https://stjameshydepark.org/event/new-deal-musical-theatre-camp-parish-hall/2025-07-16/
LOCATION:St. James’ Episcopal Church\, 4526 Albany Post Rd.\, Hyde Park\, NY\, 12538\, United States
CATEGORIES:New Deal
END:VEVENT
BEGIN:VEVENT
DTSTART;TZID=America/New_York:20250717T083000
DTEND;TZID=America/New_York:20250717T163000
DTSTAMP:20260425T090035
CREATED:20250107T182430Z
LAST-MODIFIED:20250108T132853Z
UID:10005200-1752741000-1752769800@stjameshydepark.org
SUMMARY:[New Deal] Musical Theatre Camp (Parish Hall)
DESCRIPTION:
URL:https://stjameshydepark.org/event/new-deal-musical-theatre-camp-parish-hall/2025-07-17/
LOCATION:St. James’ Episcopal Church\, 4526 Albany Post Rd.\, Hyde Park\, NY\, 12538\, United States
CATEGORIES:New Deal
END:VEVENT
BEGIN:VEVENT
DTSTART;TZID=America/New_York:20250718T083000
DTEND;TZID=America/New_York:20250718T163000
DTSTAMP:20260425T090035
CREATED:20250107T182430Z
LAST-MODIFIED:20250108T132853Z
UID:10005201-1752827400-1752856200@stjameshydepark.org
SUMMARY:[New Deal] Musical Theatre Camp (Parish Hall)
DESCRIPTION:
URL:https://stjameshydepark.org/event/new-deal-musical-theatre-camp-parish-hall/2025-07-18/
LOCATION:St. James’ Episcopal Church\, 4526 Albany Post Rd.\, Hyde Park\, NY\, 12538\, United States
CATEGORIES:New Deal
END:VEVENT
BEGIN:VEVENT
DTSTART;TZID=America/New_York:20250804T083000
DTEND;TZID=America/New_York:20250804T163000
DTSTAMP:20260425T090035
CREATED:20250107T182622Z
LAST-MODIFIED:20250108T132805Z
UID:10005567-1754296200-1754325000@stjameshydepark.org
SUMMARY:[New Deal] Musical Theatre Camp (Parish Hall)
DESCRIPTION:
URL:https://stjameshydepark.org/event/new-deal-musical-theatre-camp-parish-hall-2/2025-08-04/
LOCATION:St. James’ Episcopal Church\, 4526 Albany Post Rd.\, Hyde Park\, NY\, 12538\, United States
CATEGORIES:New Deal
END:VEVENT
BEGIN:VEVENT
DTSTART;TZID=America/New_York:20250805T083000
DTEND;TZID=America/New_York:20250805T163000
DTSTAMP:20260425T090035
CREATED:20250107T182622Z
LAST-MODIFIED:20250108T132805Z
UID:10005568-1754382600-1754411400@stjameshydepark.org
SUMMARY:[New Deal] Musical Theatre Camp (Parish Hall)
DESCRIPTION:
URL:https://stjameshydepark.org/event/new-deal-musical-theatre-camp-parish-hall-2/2025-08-05/
LOCATION:St. James’ Episcopal Church\, 4526 Albany Post Rd.\, Hyde Park\, NY\, 12538\, United States
CATEGORIES:New Deal
END:VEVENT
BEGIN:VEVENT
DTSTART;TZID=America/New_York:20250806T083000
DTEND;TZID=America/New_York:20250806T163000
DTSTAMP:20260425T090035
CREATED:20250107T182622Z
LAST-MODIFIED:20250108T132805Z
UID:10005569-1754469000-1754497800@stjameshydepark.org
SUMMARY:[New Deal] Musical Theatre Camp (Parish Hall)
DESCRIPTION:
URL:https://stjameshydepark.org/event/new-deal-musical-theatre-camp-parish-hall-2/2025-08-06/
LOCATION:St. James’ Episcopal Church\, 4526 Albany Post Rd.\, Hyde Park\, NY\, 12538\, United States
CATEGORIES:New Deal
END:VEVENT
BEGIN:VEVENT
DTSTART;TZID=America/New_York:20250807T083000
DTEND;TZID=America/New_York:20250807T163000
DTSTAMP:20260425T090035
CREATED:20250107T182622Z
LAST-MODIFIED:20250108T132805Z
UID:10005570-1754555400-1754584200@stjameshydepark.org
SUMMARY:[New Deal] Musical Theatre Camp (Parish Hall)
DESCRIPTION:
URL:https://stjameshydepark.org/event/new-deal-musical-theatre-camp-parish-hall-2/2025-08-07/
LOCATION:St. James’ Episcopal Church\, 4526 Albany Post Rd.\, Hyde Park\, NY\, 12538\, United States
CATEGORIES:New Deal
END:VEVENT
BEGIN:VEVENT
DTSTART;TZID=America/New_York:20250808T083000
DTEND;TZID=America/New_York:20250808T163000
DTSTAMP:20260425T090035
CREATED:20250107T182622Z
LAST-MODIFIED:20250108T132805Z
UID:10005571-1754641800-1754670600@stjameshydepark.org
SUMMARY:[New Deal] Musical Theatre Camp (Parish Hall)
DESCRIPTION:
URL:https://stjameshydepark.org/event/new-deal-musical-theatre-camp-parish-hall-2/2025-08-08/
LOCATION:St. James’ Episcopal Church\, 4526 Albany Post Rd.\, Hyde Park\, NY\, 12538\, United States
CATEGORIES:New Deal
END:VEVENT
BEGIN:VEVENT
DTSTART;TZID=America/New_York:20250811T083000
DTEND;TZID=America/New_York:20250811T163000
DTSTAMP:20260425T090035
CREATED:20250107T182622Z
LAST-MODIFIED:20250108T132805Z
UID:10005573-1754901000-1754929800@stjameshydepark.org
SUMMARY:[New Deal] Musical Theatre Camp (Parish Hall)
DESCRIPTION:
URL:https://stjameshydepark.org/event/new-deal-musical-theatre-camp-parish-hall-2/2025-08-11/
LOCATION:St. James’ Episcopal Church\, 4526 Albany Post Rd.\, Hyde Park\, NY\, 12538\, United States
CATEGORIES:New Deal
END:VEVENT
END:VCALENDAR