BEGIN:VCALENDAR
VERSION:2.0
PRODID:-//St. James&#039; Episcopal Church - ECPv6.15.20//NONSGML v1.0//EN
CALSCALE:GREGORIAN
METHOD:PUBLISH
X-ORIGINAL-URL:https://stjameshydepark.org
X-WR-CALDESC:Events for St. James&#039; Episcopal Church
REFRESH-INTERVAL;VALUE=DURATION:PT1H
X-Robots-Tag:noindex
X-PUBLISHED-TTL:PT1H
BEGIN:VTIMEZONE
TZID:America/New_York
BEGIN:DAYLIGHT
TZOFFSETFROM:-0500
TZOFFSETTO:-0400
TZNAME:EDT
DTSTART:20240310T070000
END:DAYLIGHT
BEGIN:STANDARD
TZOFFSETFROM:-0400
TZOFFSETTO:-0500
TZNAME:EST
DTSTART:20241103T060000
END:STANDARD
BEGIN:DAYLIGHT
TZOFFSETFROM:-0500
TZOFFSETTO:-0400
TZNAME:EDT
DTSTART:20250309T070000
END:DAYLIGHT
BEGIN:STANDARD
TZOFFSETFROM:-0400
TZOFFSETTO:-0500
TZNAME:EST
DTSTART:20251102T060000
END:STANDARD
BEGIN:DAYLIGHT
TZOFFSETFROM:-0500
TZOFFSETTO:-0400
TZNAME:EDT
DTSTART:20260308T070000
END:DAYLIGHT
BEGIN:STANDARD
TZOFFSETFROM:-0400
TZOFFSETTO:-0500
TZNAME:EST
DTSTART:20261101T060000
END:STANDARD
END:VTIMEZONE
BEGIN:VEVENT
DTSTART;TZID=America/New_York:20250620T173000
DTEND;TZID=America/New_York:20250620T190000
DTSTAMP:20260424T075107
CREATED:20250522T131733Z
LAST-MODIFIED:20250617T154721Z
UID:10006563-1750440600-1750446000@stjameshydepark.org
SUMMARY:Youth Confirmation Class (hosted by St. Paul's\, Pleasant Valley in June))
DESCRIPTION:This monthly series for youth age 11-15 explores the basics of our Christian faith as expressed in The Episcopal Church. Candidates who complete the course will be ready for Confirmation—a rite where we express a mature commitment to Christ\, and receive strength from the Holy Spirit by prayer and the laying on of hands by a bishop. Youth who are already confirmed are welcome to join us and share their faith! \nYouth from four churches are participating: St. James’ in Hyde Park\, St. Paul’s in Pleasant Valley\, St. Margaret’s in Staatsburg\, and St. Paul’s in Poughkeepsie. Instructors are the Rev. Heather K. Sisk (St. Paul’s\, Pleasant Valley) and the Rev. Meredith Kadet Sanderson (St. James’ Hyde Park). We’re using the J2A (Journey to Adulthood) curriculum.\n \nFriday nights 5:30 – 7 pm\nPizza\, conversation\, activities\, and prayer \nWe will be alternating between St. Paul’s\, Pleasant Valley\, St. James\, Hyde Park\, and St. Paul’s\, Poughkeepsie (and we are willing to go to other churches if kids would like to host us at their home church)… \nSchedule for first part of 2025\nDecember 20th (meets in Pleasant Valley\, St. Paul’s Church\, 808 Traver Road)\nJanuary 24th (meets in Hyde Park)\nFebruary 28 (meets in Poughkeepsie\, St. Paul’s Church\, 161 Mansion Street)\nMarch 28th (meets in Pleasant Valley\, St. Paul’s Church\, 808 Traver Road)\n(NO APRIL)\n(NO MAY)\nJune 20th (meets in Pleasant Valley\, St. Paul’s Church\, 808 Traver Road)\nEnjoy the summer! 
URL:https://stjameshydepark.org/event/youth-confirmation-class-june-2025/
LOCATION:St. James’ Episcopal Church\, 4526 Albany Post Rd.\, Hyde Park\, NY\, 12538\, United States
CATEGORIES:Christian Formation,Kids & Youth
END:VEVENT
END:VCALENDAR