BEGIN:VCALENDAR
VERSION:2.0
PRODID:-//St. James&#039; Episcopal Church - ECPv6.15.20//NONSGML v1.0//EN
CALSCALE:GREGORIAN
METHOD:PUBLISH
X-ORIGINAL-URL:https://stjameshydepark.org
X-WR-CALDESC:Events for St. James&#039; Episcopal Church
REFRESH-INTERVAL;VALUE=DURATION:PT1H
X-Robots-Tag:noindex
X-PUBLISHED-TTL:PT1H
BEGIN:VTIMEZONE
TZID:America/New_York
BEGIN:DAYLIGHT
TZOFFSETFROM:-0500
TZOFFSETTO:-0400
TZNAME:EDT
DTSTART:20230312T070000
END:DAYLIGHT
BEGIN:STANDARD
TZOFFSETFROM:-0400
TZOFFSETTO:-0500
TZNAME:EST
DTSTART:20231105T060000
END:STANDARD
BEGIN:DAYLIGHT
TZOFFSETFROM:-0500
TZOFFSETTO:-0400
TZNAME:EDT
DTSTART:20240310T070000
END:DAYLIGHT
BEGIN:STANDARD
TZOFFSETFROM:-0400
TZOFFSETTO:-0500
TZNAME:EST
DTSTART:20241103T060000
END:STANDARD
BEGIN:DAYLIGHT
TZOFFSETFROM:-0500
TZOFFSETTO:-0400
TZNAME:EDT
DTSTART:20250309T070000
END:DAYLIGHT
BEGIN:STANDARD
TZOFFSETFROM:-0400
TZOFFSETTO:-0500
TZNAME:EST
DTSTART:20251102T060000
END:STANDARD
BEGIN:DAYLIGHT
TZOFFSETFROM:-0500
TZOFFSETTO:-0400
TZNAME:EDT
DTSTART:20260308T070000
END:DAYLIGHT
BEGIN:STANDARD
TZOFFSETFROM:-0400
TZOFFSETTO:-0500
TZNAME:EST
DTSTART:20261101T060000
END:STANDARD
BEGIN:DAYLIGHT
TZOFFSETFROM:-0500
TZOFFSETTO:-0400
TZNAME:EDT
DTSTART:20270314T070000
END:DAYLIGHT
BEGIN:STANDARD
TZOFFSETFROM:-0400
TZOFFSETTO:-0500
TZNAME:EST
DTSTART:20271107T060000
END:STANDARD
END:VTIMEZONE
BEGIN:VEVENT
DTSTART;TZID=America/New_York:20260201T113000
DTEND;TZID=America/New_York:20260201T130000
DTSTAMP:20260424T014522
CREATED:20251216T190021Z
LAST-MODIFIED:20260129T153553Z
UID:10007232-1769945400-1769950800@stjameshydepark.org
SUMMARY:2026 Annual Meeting (Parish Hall) followed by brief Vestry Meeting
DESCRIPTION:St. James’ 2026 Annual Meeting will take place on Sunday\, February 1\, 2026 (rescheduled from January 25 due to snow)\, in the Parish Hall following the 10:00 am Holy Eucharist. \nSchedule\n\n10:00 am – Polls open; Holy Eucharist\n11:15 am – All-Church photo\n11:30 am – Annual Meeting in the Parish Hall\n\nElections at the Annual Meeting\nElections will be held at this Annual Meeting to fill the following terms of office: \n\nWarden\, two-year term (Russell Urban-Mead standing for election)\nThree Vestry members\, three-year terms (Regina Dahlgren\, Joanne Lown\, and Anne McGrath standing for election)\nTwo Vestry members\, one-year terms — vacancies created as a result of Russell Urban-Mead being nominated for Warden and Deb Belding stepping down after the second year of a three-year term (Jeff Crutcher and Kathleen Ferreira standing for election)\n\nYou can read candidates’ personal statements in the Nominating Committee Report. \nPolls will be open beginning at 10:00 am. \nAnnual Meeting Materials\nThe 2026 Annual Meeting Packet includes the 2025 annual reports for our leaders and ministries and the 2026 Operating Budget. Printed copies will be available at the Annual Meeting. \nSt. James’ Medals\nThe St. James’ Medal is awarded at the Annual Meeting. Those who have received the medal in years past are encouraged to wear it on Annual Meeting day.
URL:https://stjameshydepark.org/event/annual-meeting-2026/
LOCATION:St. James’ Episcopal Church\, 4526 Albany Post Rd.\, Hyde Park\, NY\, 12538\, United States
CATEGORIES:Governance
ATTACH;FMTTYPE=image/png:https://stjameshydepark.org/wp-content/uploads/2026/01/Annual-Meeting-2026.png
END:VEVENT
BEGIN:VEVENT
DTSTART;TZID=America/New_York:20260121T190000
DTEND;TZID=America/New_York:20260121T210000
DTSTAMP:20260424T014522
CREATED:20250110T161004Z
LAST-MODIFIED:20251106T213047Z
UID:10006298-1769022000-1769029200@stjameshydepark.org
SUMMARY:Vestry Meeting (Wilks Room)
DESCRIPTION:The Vestry meets on the 4th Wednesday of the month at 7 pm in the Wilks Room (exceptions noted). 2025 meeting dates are:  \nJanuary 22 \nSunday\, January 26—Annual Meeting (following 9 am worship) \nFebruary 26 \nMarch 26 \nApril 30th (5th Wednesday) \nMay 28 \nJune 25 \nJuly 23 \nNo meeting in August \nSeptember 24 \nOctober 22 \nNovember 19 \nDecember 17th (3rd Wednesday) \nJanuary 21\, 2026 (3rd Wednesday) \nJanuary 26\, 2026—Annual Meeting
URL:https://stjameshydepark.org/event/vestry-meetings-2025/2026-01-21/
LOCATION:St. James’ Episcopal Church\, 4526 Albany Post Rd.\, Hyde Park\, NY\, 12538\, United States
CATEGORIES:Governance
END:VEVENT
BEGIN:VEVENT
DTSTART;TZID=America/New_York:20251217T190000
DTEND;TZID=America/New_York:20251217T210000
DTSTAMP:20260424T014522
CREATED:20250110T161004Z
LAST-MODIFIED:20251106T213047Z
UID:10006297-1765998000-1766005200@stjameshydepark.org
SUMMARY:Vestry Meeting (Wilks Room)
DESCRIPTION:The Vestry meets on the 4th Wednesday of the month at 7 pm in the Wilks Room (exceptions noted). 2025 meeting dates are:  \nJanuary 22 \nSunday\, January 26—Annual Meeting (following 9 am worship) \nFebruary 26 \nMarch 26 \nApril 30th (5th Wednesday) \nMay 28 \nJune 25 \nJuly 23 \nNo meeting in August \nSeptember 24 \nOctober 22 \nNovember 19 \nDecember 17th (3rd Wednesday) \nJanuary 21\, 2026 (3rd Wednesday) \nJanuary 26\, 2026—Annual Meeting
URL:https://stjameshydepark.org/event/vestry-meetings-2025/2025-12-17/
LOCATION:St. James’ Episcopal Church\, 4526 Albany Post Rd.\, Hyde Park\, NY\, 12538\, United States
CATEGORIES:Governance
END:VEVENT
BEGIN:VEVENT
DTSTART;TZID=America/New_York:20251119T190000
DTEND;TZID=America/New_York:20251119T210000
DTSTAMP:20260424T014522
CREATED:20250110T161004Z
LAST-MODIFIED:20251106T213047Z
UID:10007138-1763578800-1763586000@stjameshydepark.org
SUMMARY:Vestry Meeting (Wilks Room)
DESCRIPTION:The Vestry meets on the 4th Wednesday of the month at 7 pm in the Wilks Room (exceptions noted). 2025 meeting dates are:  \nJanuary 22 \nSunday\, January 26—Annual Meeting (following 9 am worship) \nFebruary 26 \nMarch 26 \nApril 30th (5th Wednesday) \nMay 28 \nJune 25 \nJuly 23 \nNo meeting in August \nSeptember 24 \nOctober 22 \nNovember 19 \nDecember 17th (3rd Wednesday) \nJanuary 21\, 2026 (3rd Wednesday) \nJanuary 26\, 2026—Annual Meeting
URL:https://stjameshydepark.org/event/vestry-meetings-2025/2025-11-19/
LOCATION:St. James’ Episcopal Church\, 4526 Albany Post Rd.\, Hyde Park\, NY\, 12538\, United States
CATEGORIES:Governance
END:VEVENT
BEGIN:VEVENT
DTSTART;TZID=America/New_York:20251022T190000
DTEND;TZID=America/New_York:20251022T210000
DTSTAMP:20260424T014522
CREATED:20250110T161004Z
LAST-MODIFIED:20251106T213047Z
UID:10006245-1761159600-1761166800@stjameshydepark.org
SUMMARY:Vestry Meeting (Wilks Room)
DESCRIPTION:The Vestry meets on the 4th Wednesday of the month at 7 pm in the Wilks Room (exceptions noted). 2025 meeting dates are:  \nJanuary 22 \nSunday\, January 26—Annual Meeting (following 9 am worship) \nFebruary 26 \nMarch 26 \nApril 30th (5th Wednesday) \nMay 28 \nJune 25 \nJuly 23 \nNo meeting in August \nSeptember 24 \nOctober 22 \nNovember 19 \nDecember 17th (3rd Wednesday) \nJanuary 21\, 2026 (3rd Wednesday) \nJanuary 26\, 2026—Annual Meeting
URL:https://stjameshydepark.org/event/vestry-meetings-2025/2025-10-22/
LOCATION:St. James’ Episcopal Church\, 4526 Albany Post Rd.\, Hyde Park\, NY\, 12538\, United States
CATEGORIES:Governance
END:VEVENT
BEGIN:VEVENT
DTSTART;TZID=America/New_York:20251018T160000
DTEND;TZID=America/New_York:20251018T180000
DTSTAMP:20260424T014522
CREATED:20250107T212102Z
LAST-MODIFIED:20251107T134209Z
UID:10007149-1760803200-1760810400@stjameshydepark.org
SUMMARY:Finance Committee Meeting (Wilks Room)
DESCRIPTION:
URL:https://stjameshydepark.org/event/finance-committee-2025/2025-10-18/
LOCATION:St. James’ Episcopal Church\, 4526 Albany Post Rd.\, Hyde Park\, NY\, 12538\, United States
CATEGORIES:Governance
END:VEVENT
BEGIN:VEVENT
DTSTART;TZID=America/New_York:20250924T190000
DTEND;TZID=America/New_York:20250924T210000
DTSTAMP:20260424T014522
CREATED:20250110T161004Z
LAST-MODIFIED:20251106T213047Z
UID:10006244-1758740400-1758747600@stjameshydepark.org
SUMMARY:Vestry Meeting (Wilks Room)
DESCRIPTION:The Vestry meets on the 4th Wednesday of the month at 7 pm in the Wilks Room (exceptions noted). 2025 meeting dates are:  \nJanuary 22 \nSunday\, January 26—Annual Meeting (following 9 am worship) \nFebruary 26 \nMarch 26 \nApril 30th (5th Wednesday) \nMay 28 \nJune 25 \nJuly 23 \nNo meeting in August \nSeptember 24 \nOctober 22 \nNovember 19 \nDecember 17th (3rd Wednesday) \nJanuary 21\, 2026 (3rd Wednesday) \nJanuary 26\, 2026—Annual Meeting
URL:https://stjameshydepark.org/event/vestry-meetings-2025/2025-09-24/
LOCATION:St. James’ Episcopal Church\, 4526 Albany Post Rd.\, Hyde Park\, NY\, 12538\, United States
CATEGORIES:Governance
END:VEVENT
BEGIN:VEVENT
DTSTART;TZID=America/New_York:20250920T160000
DTEND;TZID=America/New_York:20250920T180000
DTSTAMP:20260424T014522
CREATED:20250107T212102Z
LAST-MODIFIED:20251107T134209Z
UID:10007148-1758384000-1758391200@stjameshydepark.org
SUMMARY:Finance Committee Meeting (Wilks Room)
DESCRIPTION:
URL:https://stjameshydepark.org/event/finance-committee-2025/2025-09-20/
LOCATION:St. James’ Episcopal Church\, 4526 Albany Post Rd.\, Hyde Park\, NY\, 12538\, United States
CATEGORIES:Governance
END:VEVENT
BEGIN:VEVENT
DTSTART;TZID=America/New_York:20250816T160000
DTEND;TZID=America/New_York:20250816T180000
DTSTAMP:20260424T014522
CREATED:20250107T212102Z
LAST-MODIFIED:20251107T134209Z
UID:10007147-1755360000-1755367200@stjameshydepark.org
SUMMARY:Finance Committee Meeting (Wilks Room)
DESCRIPTION:
URL:https://stjameshydepark.org/event/finance-committee-2025/2025-08-16/
LOCATION:St. James’ Episcopal Church\, 4526 Albany Post Rd.\, Hyde Park\, NY\, 12538\, United States
CATEGORIES:Governance
END:VEVENT
BEGIN:VEVENT
DTSTART;TZID=America/New_York:20250723T190000
DTEND;TZID=America/New_York:20250723T210000
DTSTAMP:20260424T014522
CREATED:20250110T161004Z
LAST-MODIFIED:20251106T213047Z
UID:10006242-1753297200-1753304400@stjameshydepark.org
SUMMARY:Vestry Meeting (Wilks Room)
DESCRIPTION:The Vestry meets on the 4th Wednesday of the month at 7 pm in the Wilks Room (exceptions noted). 2025 meeting dates are:  \nJanuary 22 \nSunday\, January 26—Annual Meeting (following 9 am worship) \nFebruary 26 \nMarch 26 \nApril 30th (5th Wednesday) \nMay 28 \nJune 25 \nJuly 23 \nNo meeting in August \nSeptember 24 \nOctober 22 \nNovember 19 \nDecember 17th (3rd Wednesday) \nJanuary 21\, 2026 (3rd Wednesday) \nJanuary 26\, 2026—Annual Meeting
URL:https://stjameshydepark.org/event/vestry-meetings-2025/2025-07-23/
LOCATION:St. James’ Episcopal Church\, 4526 Albany Post Rd.\, Hyde Park\, NY\, 12538\, United States
CATEGORIES:Governance
END:VEVENT
BEGIN:VEVENT
DTSTART;TZID=America/New_York:20250719T160000
DTEND;TZID=America/New_York:20250719T180000
DTSTAMP:20260424T014522
CREATED:20250107T212102Z
LAST-MODIFIED:20251107T134209Z
UID:10007146-1752940800-1752948000@stjameshydepark.org
SUMMARY:Finance Committee Meeting (Wilks Room)
DESCRIPTION:
URL:https://stjameshydepark.org/event/finance-committee-2025/2025-07-19/
LOCATION:St. James’ Episcopal Church\, 4526 Albany Post Rd.\, Hyde Park\, NY\, 12538\, United States
CATEGORIES:Governance
END:VEVENT
BEGIN:VEVENT
DTSTART;TZID=America/New_York:20250625T190000
DTEND;TZID=America/New_York:20250625T210000
DTSTAMP:20260424T014522
CREATED:20250110T161004Z
LAST-MODIFIED:20251106T213047Z
UID:10006241-1750878000-1750885200@stjameshydepark.org
SUMMARY:Vestry Meeting (Wilks Room)
DESCRIPTION:The Vestry meets on the 4th Wednesday of the month at 7 pm in the Wilks Room (exceptions noted). 2025 meeting dates are:  \nJanuary 22 \nSunday\, January 26—Annual Meeting (following 9 am worship) \nFebruary 26 \nMarch 26 \nApril 30th (5th Wednesday) \nMay 28 \nJune 25 \nJuly 23 \nNo meeting in August \nSeptember 24 \nOctober 22 \nNovember 19 \nDecember 17th (3rd Wednesday) \nJanuary 21\, 2026 (3rd Wednesday) \nJanuary 26\, 2026—Annual Meeting
URL:https://stjameshydepark.org/event/vestry-meetings-2025/2025-06-25/
LOCATION:St. James’ Episcopal Church\, 4526 Albany Post Rd.\, Hyde Park\, NY\, 12538\, United States
CATEGORIES:Governance
END:VEVENT
BEGIN:VEVENT
DTSTART;TZID=America/New_York:20250621T160000
DTEND;TZID=America/New_York:20250621T180000
DTSTAMP:20260424T014522
CREATED:20250107T212102Z
LAST-MODIFIED:20251107T134209Z
UID:10007145-1750521600-1750528800@stjameshydepark.org
SUMMARY:Finance Committee Meeting (Wilks Room)
DESCRIPTION:
URL:https://stjameshydepark.org/event/finance-committee-2025/2025-06-21/
LOCATION:St. James’ Episcopal Church\, 4526 Albany Post Rd.\, Hyde Park\, NY\, 12538\, United States
CATEGORIES:Governance
END:VEVENT
BEGIN:VEVENT
DTSTART;TZID=America/New_York:20250528T190000
DTEND;TZID=America/New_York:20250528T210000
DTSTAMP:20260424T014522
CREATED:20250110T161004Z
LAST-MODIFIED:20251106T213047Z
UID:10006240-1748458800-1748466000@stjameshydepark.org
SUMMARY:Vestry Meeting (Wilks Room)
DESCRIPTION:The Vestry meets on the 4th Wednesday of the month at 7 pm in the Wilks Room (exceptions noted). 2025 meeting dates are:  \nJanuary 22 \nSunday\, January 26—Annual Meeting (following 9 am worship) \nFebruary 26 \nMarch 26 \nApril 30th (5th Wednesday) \nMay 28 \nJune 25 \nJuly 23 \nNo meeting in August \nSeptember 24 \nOctober 22 \nNovember 19 \nDecember 17th (3rd Wednesday) \nJanuary 21\, 2026 (3rd Wednesday) \nJanuary 26\, 2026—Annual Meeting
URL:https://stjameshydepark.org/event/vestry-meetings-2025/2025-05-28/
LOCATION:St. James’ Episcopal Church\, 4526 Albany Post Rd.\, Hyde Park\, NY\, 12538\, United States
CATEGORIES:Governance
END:VEVENT
BEGIN:VEVENT
DTSTART;TZID=America/New_York:20250517T160000
DTEND;TZID=America/New_York:20250517T180000
DTSTAMP:20260424T014522
CREATED:20250107T212102Z
LAST-MODIFIED:20251107T134209Z
UID:10007144-1747497600-1747504800@stjameshydepark.org
SUMMARY:Finance Committee Meeting (Wilks Room)
DESCRIPTION:
URL:https://stjameshydepark.org/event/finance-committee-2025/2025-05-17/
LOCATION:St. James’ Episcopal Church\, 4526 Albany Post Rd.\, Hyde Park\, NY\, 12538\, United States
CATEGORIES:Governance
END:VEVENT
BEGIN:VEVENT
DTSTART;TZID=America/New_York:20250430T190000
DTEND;TZID=America/New_York:20250430T210000
DTSTAMP:20260424T014522
CREATED:20250110T161004Z
LAST-MODIFIED:20251106T213047Z
UID:10006296-1746039600-1746046800@stjameshydepark.org
SUMMARY:Vestry Meeting (Wilks Room)
DESCRIPTION:The Vestry meets on the 4th Wednesday of the month at 7 pm in the Wilks Room (exceptions noted). 2025 meeting dates are:  \nJanuary 22 \nSunday\, January 26—Annual Meeting (following 9 am worship) \nFebruary 26 \nMarch 26 \nApril 30th (5th Wednesday) \nMay 28 \nJune 25 \nJuly 23 \nNo meeting in August \nSeptember 24 \nOctober 22 \nNovember 19 \nDecember 17th (3rd Wednesday) \nJanuary 21\, 2026 (3rd Wednesday) \nJanuary 26\, 2026—Annual Meeting
URL:https://stjameshydepark.org/event/vestry-meetings-2025/2025-04-30/
LOCATION:St. James’ Episcopal Church\, 4526 Albany Post Rd.\, Hyde Park\, NY\, 12538\, United States
CATEGORIES:Governance
END:VEVENT
BEGIN:VEVENT
DTSTART;TZID=America/New_York:20250419T160000
DTEND;TZID=America/New_York:20250419T180000
DTSTAMP:20260424T014522
CREATED:20250107T212102Z
LAST-MODIFIED:20251107T134209Z
UID:10007143-1745078400-1745085600@stjameshydepark.org
SUMMARY:Finance Committee Meeting (Wilks Room)
DESCRIPTION:
URL:https://stjameshydepark.org/event/finance-committee-2025/2025-04-19/
LOCATION:St. James’ Episcopal Church\, 4526 Albany Post Rd.\, Hyde Park\, NY\, 12538\, United States
CATEGORIES:Governance
END:VEVENT
BEGIN:VEVENT
DTSTART;TZID=America/New_York:20250326T190000
DTEND;TZID=America/New_York:20250326T210000
DTSTAMP:20260424T014522
CREATED:20250110T161004Z
LAST-MODIFIED:20251106T213047Z
UID:10006238-1743015600-1743022800@stjameshydepark.org
SUMMARY:Vestry Meeting (Wilks Room)
DESCRIPTION:The Vestry meets on the 4th Wednesday of the month at 7 pm in the Wilks Room (exceptions noted). 2025 meeting dates are:  \nJanuary 22 \nSunday\, January 26—Annual Meeting (following 9 am worship) \nFebruary 26 \nMarch 26 \nApril 30th (5th Wednesday) \nMay 28 \nJune 25 \nJuly 23 \nNo meeting in August \nSeptember 24 \nOctober 22 \nNovember 19 \nDecember 17th (3rd Wednesday) \nJanuary 21\, 2026 (3rd Wednesday) \nJanuary 26\, 2026—Annual Meeting
URL:https://stjameshydepark.org/event/vestry-meetings-2025/2025-03-26/
LOCATION:St. James’ Episcopal Church\, 4526 Albany Post Rd.\, Hyde Park\, NY\, 12538\, United States
CATEGORIES:Governance
END:VEVENT
BEGIN:VEVENT
DTSTART;TZID=America/New_York:20250318T183000
DTEND;TZID=America/New_York:20250318T200000
DTSTAMP:20260424T014522
CREATED:20250314T201819Z
LAST-MODIFIED:20250314T201819Z
UID:10006433-1742322600-1742328000@stjameshydepark.org
SUMMARY:Stewardship Committee Meeting (Wilks Room)
DESCRIPTION:
URL:https://stjameshydepark.org/event/stewardship-committee-2025-03/
LOCATION:St. James’ Episcopal Church\, 4526 Albany Post Rd.\, Hyde Park\, NY\, 12538\, United States
CATEGORIES:Governance
END:VEVENT
BEGIN:VEVENT
DTSTART;TZID=America/New_York:20250315T160000
DTEND;TZID=America/New_York:20250315T180000
DTSTAMP:20260424T014522
CREATED:20250107T212102Z
LAST-MODIFIED:20251107T134209Z
UID:10007070-1742054400-1742061600@stjameshydepark.org
SUMMARY:Finance Committee Meeting (Wilks Room)
DESCRIPTION:
URL:https://stjameshydepark.org/event/finance-committee-2025/2025-03-15/
LOCATION:St. James’ Episcopal Church\, 4526 Albany Post Rd.\, Hyde Park\, NY\, 12538\, United States
CATEGORIES:Governance
END:VEVENT
BEGIN:VEVENT
DTSTART;TZID=America/New_York:20250226T190000
DTEND;TZID=America/New_York:20250226T210000
DTSTAMP:20260424T014522
CREATED:20250110T161004Z
LAST-MODIFIED:20251106T213047Z
UID:10006237-1740596400-1740603600@stjameshydepark.org
SUMMARY:Vestry Meeting (Wilks Room)
DESCRIPTION:The Vestry meets on the 4th Wednesday of the month at 7 pm in the Wilks Room (exceptions noted). 2025 meeting dates are:  \nJanuary 22 \nSunday\, January 26—Annual Meeting (following 9 am worship) \nFebruary 26 \nMarch 26 \nApril 30th (5th Wednesday) \nMay 28 \nJune 25 \nJuly 23 \nNo meeting in August \nSeptember 24 \nOctober 22 \nNovember 19 \nDecember 17th (3rd Wednesday) \nJanuary 21\, 2026 (3rd Wednesday) \nJanuary 26\, 2026—Annual Meeting
URL:https://stjameshydepark.org/event/vestry-meetings-2025/2025-02-26/
LOCATION:St. James’ Episcopal Church\, 4526 Albany Post Rd.\, Hyde Park\, NY\, 12538\, United States
CATEGORIES:Governance
END:VEVENT
BEGIN:VEVENT
DTSTART;TZID=America/New_York:20250215T160000
DTEND;TZID=America/New_York:20250215T180000
DTSTAMP:20260424T014522
CREATED:20250107T212102Z
LAST-MODIFIED:20251107T134209Z
UID:10007069-1739635200-1739642400@stjameshydepark.org
SUMMARY:Finance Committee Meeting (Wilks Room)
DESCRIPTION:
URL:https://stjameshydepark.org/event/finance-committee-2025/2025-02-15/
LOCATION:St. James’ Episcopal Church\, 4526 Albany Post Rd.\, Hyde Park\, NY\, 12538\, United States
CATEGORIES:Governance
END:VEVENT
BEGIN:VEVENT
DTSTART;TZID=America/New_York:20250126T090000
DTEND;TZID=America/New_York:20250126T120000
DTSTAMP:20260424T014522
CREATED:20240117T164600Z
LAST-MODIFIED:20250124T185550Z
UID:10003352-1737882000-1737892800@stjameshydepark.org
SUMMARY:2025 Annual Meeting
DESCRIPTION:St. James’ 2025 Annual Meeting will take place Sunday\, January 26th\, in the Parish Hall following a single combined service of Holy Eucharist at 9:00 a.m. The service (in the church) will be available by live-stream; the Annual Meeting will not be available online. \nAs a member of St. James’\, our annual meeting is your opportunity to elect leaders to our Vestry\, to recognize all the people who contribute to our well-being as a church\, and to take stock of the state of our community of faith\, from formation to finances—so please do plan to attend. Your voice and your presence matter! \nSchedule: \n9:00 a.m. Polls open; Holy Eucharist (this is the only worship service for Sunday\, 1/26) \n10:00 a.m. All-Church photo (in front of the red doors\, weather permitting!) \n10:15 a.m. Annual Meeting in the Parish Hall\, with activities for youth K-12 upstairs \nElections at the Annual Meeting: \nElections shall be held at this Annual Meeting to fill the following expiring terms of office: \nWarden\, 2-year term (Mike Glancey standing for election to a second term)\nVestry member\, 3-year term (Lillian Peralta standing for a election to a second term)\nVestry member\, 3-year term (Justin Bohlmann outgoing; Mike Fenwick standing for election)\nVestry member\, 3-year term (Deirdre Mae Micker outgoing; Ron Lane standing for election)\nVestry member\, 1-year term (Melinda Harris resigned leaving a one-year vacancy; Anne McGrath standing for election) \nYou can read candidates’ personal statements in the Nominating Committee Report. \nPolls will be open at 9:00 a.m. \nAnnual Meeting Materials \n\n2025 Parish Operating Budget & Narrative Summary\nThe 2025 Annual Meeting Packet\, which includes the 2024 annual reports and 2025 Operating Budget (printed copies will be distributed at the Annual Meeting)\n\nYouth at the Annual Meeting \nOur Sunday School teachers will host a hangout for kids and youth age K-12 in the Parish House during the Annual Meeting. \nSt. James’ Medals \nThe St. James’ Medal is awarded at the Annual Meeting. Those who have been awarded the St. James’ medal in years past are encouraged to wear your medal on Annual Meeting day. \nThe deadline for 2024 annual reports is Tuesday\, January 21st. Please submit written reports to the office: stjames.hydepark@gmail.com.
URL:https://stjameshydepark.org/event/2025-annual-meeting/
LOCATION:St. James’ Episcopal Church\, 4526 Albany Post Rd.\, Hyde Park\, NY\, 12538\, United States
CATEGORIES:Governance
ATTACH;FMTTYPE=image/png:https://stjameshydepark.org/wp-content/uploads/2025/01/Annual-Meeting-2025.png
END:VEVENT
BEGIN:VEVENT
DTSTART;TZID=America/New_York:20250118T160000
DTEND;TZID=America/New_York:20250118T180000
DTSTAMP:20260424T014522
CREATED:20250107T212102Z
LAST-MODIFIED:20251107T134209Z
UID:10007142-1737216000-1737223200@stjameshydepark.org
SUMMARY:Finance Committee Meeting (Wilks Room)
DESCRIPTION:
URL:https://stjameshydepark.org/event/finance-committee-2025/2025-01-18/
LOCATION:St. James’ Episcopal Church\, 4526 Albany Post Rd.\, Hyde Park\, NY\, 12538\, United States
CATEGORIES:Governance
END:VEVENT
BEGIN:VEVENT
DTSTART;TZID=America/New_York:20250115T183000
DTEND;TZID=America/New_York:20250115T200000
DTSTAMP:20260424T014522
CREATED:20250107T212626Z
LAST-MODIFIED:20250107T212626Z
UID:10006217-1736965800-1736971200@stjameshydepark.org
SUMMARY:Stewardship Team Meeting (Wilks Room)
DESCRIPTION:
URL:https://stjameshydepark.org/event/stewardship-2025/
LOCATION:St. James’ Episcopal Church\, 4526 Albany Post Rd.\, Hyde Park\, NY\, 12538\, United States
CATEGORIES:Governance
END:VEVENT
BEGIN:VEVENT
DTSTART;TZID=America/New_York:20250115T160000
DTEND;TZID=America/New_York:20250115T180000
DTSTAMP:20260424T014522
CREATED:20250107T212102Z
LAST-MODIFIED:20251107T134209Z
UID:10006216-1736956800-1736964000@stjameshydepark.org
SUMMARY:Finance Committee Meeting (Wilks Room)
DESCRIPTION:
URL:https://stjameshydepark.org/event/finance-committee-2025/2025-01-15/
LOCATION:St. James’ Episcopal Church\, 4526 Albany Post Rd.\, Hyde Park\, NY\, 12538\, United States
CATEGORIES:Governance
END:VEVENT
BEGIN:VEVENT
DTSTART;TZID=America/New_York:20241029T183000
DTEND;TZID=America/New_York:20241029T200000
DTSTAMP:20260424T014522
CREATED:20241024T200922Z
LAST-MODIFIED:20241024T200922Z
UID:10004219-1730226600-1730232000@stjameshydepark.org
SUMMARY:Stewardship Team Meeting (Wilks Room)
DESCRIPTION:
URL:https://stjameshydepark.org/event/stewardship-team-meeting-wilks-room/
LOCATION:St. James’ Episcopal Church\, 4526 Albany Post Rd.\, Hyde Park\, NY\, 12538\, United States
CATEGORIES:Governance
END:VEVENT
BEGIN:VEVENT
DTSTART;TZID=America/New_York:20240801T183000
DTEND;TZID=America/New_York:20240801T203000
DTSTAMP:20260424T014522
CREATED:20240730T142654Z
LAST-MODIFIED:20240730T142654Z
UID:10003901-1722537000-1722544200@stjameshydepark.org
SUMMARY:Finance Committee Meeting (Wilks Room)
DESCRIPTION:
URL:https://stjameshydepark.org/event/finance-committee-meeting-wilks-room-3/
LOCATION:St. James’ Episcopal Church\, 4526 Albany Post Rd.\, Hyde Park\, NY\, 12538\, United States
CATEGORIES:Governance
END:VEVENT
BEGIN:VEVENT
DTSTART;TZID=America/New_York:20240801T174500
DTEND;TZID=America/New_York:20240801T190000
DTSTAMP:20260424T014522
CREATED:20240730T144032Z
LAST-MODIFIED:20240730T144032Z
UID:10003902-1722534300-1722538800@stjameshydepark.org
SUMMARY:Outreach Retreat Planning Session (Classroom)
DESCRIPTION:
URL:https://stjameshydepark.org/event/outreach-retreat-planning-session-classroom/
LOCATION:St. James’ Episcopal Church\, 4526 Albany Post Rd.\, Hyde Park\, NY\, 12538\, United States
CATEGORIES:Governance,Outreach
END:VEVENT
BEGIN:VEVENT
DTSTART;TZID=America/New_York:20240516T190000
DTEND;TZID=America/New_York:20240516T210000
DTSTAMP:20260424T014522
CREATED:20240515T185817Z
LAST-MODIFIED:20240515T185817Z
UID:10003777-1715886000-1715893200@stjameshydepark.org
SUMMARY:Vestry Working Group Meeting (Wilks Room)
DESCRIPTION:
URL:https://stjameshydepark.org/event/vestry-working-group-meeting-wilks-room-2/
LOCATION:HP Farmers Market
CATEGORIES:Governance
END:VEVENT
END:VCALENDAR