BEGIN:VCALENDAR
VERSION:2.0
PRODID:-//St. James&#039; Episcopal Church - ECPv6.15.20//NONSGML v1.0//EN
CALSCALE:GREGORIAN
METHOD:PUBLISH
X-WR-CALNAME:St. James&#039; Episcopal Church
X-ORIGINAL-URL:https://stjameshydepark.org
X-WR-CALDESC:Events for St. James&#039; Episcopal Church
REFRESH-INTERVAL;VALUE=DURATION:PT1H
X-Robots-Tag:noindex
X-PUBLISHED-TTL:PT1H
BEGIN:VTIMEZONE
TZID:America/New_York
BEGIN:DAYLIGHT
TZOFFSETFROM:-0500
TZOFFSETTO:-0400
TZNAME:EDT
DTSTART:20240310T070000
END:DAYLIGHT
BEGIN:STANDARD
TZOFFSETFROM:-0400
TZOFFSETTO:-0500
TZNAME:EST
DTSTART:20241103T060000
END:STANDARD
BEGIN:DAYLIGHT
TZOFFSETFROM:-0500
TZOFFSETTO:-0400
TZNAME:EDT
DTSTART:20250309T070000
END:DAYLIGHT
BEGIN:STANDARD
TZOFFSETFROM:-0400
TZOFFSETTO:-0500
TZNAME:EST
DTSTART:20251102T060000
END:STANDARD
BEGIN:DAYLIGHT
TZOFFSETFROM:-0500
TZOFFSETTO:-0400
TZNAME:EDT
DTSTART:20260308T070000
END:DAYLIGHT
BEGIN:STANDARD
TZOFFSETFROM:-0400
TZOFFSETTO:-0500
TZNAME:EST
DTSTART:20261101T060000
END:STANDARD
END:VTIMEZONE
BEGIN:VEVENT
DTSTART;TZID=America/New_York:20250920T160000
DTEND;TZID=America/New_York:20250920T180000
DTSTAMP:20260424T115136
CREATED:20250107T212102Z
LAST-MODIFIED:20251107T134209Z
UID:10007148-1758384000-1758391200@stjameshydepark.org
SUMMARY:Finance Committee Meeting (Wilks Room)
DESCRIPTION:
URL:https://stjameshydepark.org/event/finance-committee-2025/2025-09-20/
LOCATION:St. James’ Episcopal Church\, 4526 Albany Post Rd.\, Hyde Park\, NY\, 12538\, United States
CATEGORIES:Governance
END:VEVENT
BEGIN:VEVENT
DTSTART;TZID=America/New_York:20250924T190000
DTEND;TZID=America/New_York:20250924T210000
DTSTAMP:20260424T115136
CREATED:20250110T161004Z
LAST-MODIFIED:20251106T213047Z
UID:10006244-1758740400-1758747600@stjameshydepark.org
SUMMARY:Vestry Meeting (Wilks Room)
DESCRIPTION:The Vestry meets on the 4th Wednesday of the month at 7 pm in the Wilks Room (exceptions noted). 2025 meeting dates are:  \nJanuary 22 \nSunday\, January 26—Annual Meeting (following 9 am worship) \nFebruary 26 \nMarch 26 \nApril 30th (5th Wednesday) \nMay 28 \nJune 25 \nJuly 23 \nNo meeting in August \nSeptember 24 \nOctober 22 \nNovember 19 \nDecember 17th (3rd Wednesday) \nJanuary 21\, 2026 (3rd Wednesday) \nJanuary 26\, 2026—Annual Meeting
URL:https://stjameshydepark.org/event/vestry-meetings-2025/2025-09-24/
LOCATION:St. James’ Episcopal Church\, 4526 Albany Post Rd.\, Hyde Park\, NY\, 12538\, United States
CATEGORIES:Governance
END:VEVENT
END:VCALENDAR