BEGIN:VCALENDAR
VERSION:2.0
PRODID:-//St. James&#039; Episcopal Church - ECPv6.15.20//NONSGML v1.0//EN
CALSCALE:GREGORIAN
METHOD:PUBLISH
X-ORIGINAL-URL:https://stjameshydepark.org
X-WR-CALDESC:Events for St. James&#039; Episcopal Church
REFRESH-INTERVAL;VALUE=DURATION:PT1H
X-Robots-Tag:noindex
X-PUBLISHED-TTL:PT1H
BEGIN:VTIMEZONE
TZID:America/New_York
BEGIN:DAYLIGHT
TZOFFSETFROM:-0500
TZOFFSETTO:-0400
TZNAME:EDT
DTSTART:20210314T070000
END:DAYLIGHT
BEGIN:STANDARD
TZOFFSETFROM:-0400
TZOFFSETTO:-0500
TZNAME:EST
DTSTART:20211107T060000
END:STANDARD
BEGIN:DAYLIGHT
TZOFFSETFROM:-0500
TZOFFSETTO:-0400
TZNAME:EDT
DTSTART:20220313T070000
END:DAYLIGHT
BEGIN:STANDARD
TZOFFSETFROM:-0400
TZOFFSETTO:-0500
TZNAME:EST
DTSTART:20221106T060000
END:STANDARD
BEGIN:DAYLIGHT
TZOFFSETFROM:-0500
TZOFFSETTO:-0400
TZNAME:EDT
DTSTART:20230312T070000
END:DAYLIGHT
BEGIN:STANDARD
TZOFFSETFROM:-0400
TZOFFSETTO:-0500
TZNAME:EST
DTSTART:20231105T060000
END:STANDARD
BEGIN:DAYLIGHT
TZOFFSETFROM:-0500
TZOFFSETTO:-0400
TZNAME:EDT
DTSTART:20240310T070000
END:DAYLIGHT
BEGIN:STANDARD
TZOFFSETFROM:-0400
TZOFFSETTO:-0500
TZNAME:EST
DTSTART:20241103T060000
END:STANDARD
BEGIN:DAYLIGHT
TZOFFSETFROM:-0500
TZOFFSETTO:-0400
TZNAME:EDT
DTSTART:20250309T070000
END:DAYLIGHT
BEGIN:STANDARD
TZOFFSETFROM:-0400
TZOFFSETTO:-0500
TZNAME:EST
DTSTART:20251102T060000
END:STANDARD
BEGIN:DAYLIGHT
TZOFFSETFROM:-0500
TZOFFSETTO:-0400
TZNAME:EDT
DTSTART:20260308T070000
END:DAYLIGHT
BEGIN:STANDARD
TZOFFSETFROM:-0400
TZOFFSETTO:-0500
TZNAME:EST
DTSTART:20261101T060000
END:STANDARD
BEGIN:DAYLIGHT
TZOFFSETFROM:-0500
TZOFFSETTO:-0400
TZNAME:EDT
DTSTART:20270314T070000
END:DAYLIGHT
BEGIN:STANDARD
TZOFFSETFROM:-0400
TZOFFSETTO:-0500
TZNAME:EST
DTSTART:20271107T060000
END:STANDARD
END:VTIMEZONE
BEGIN:VEVENT
DTSTART;TZID=America/New_York:20260115T080000
DTEND;TZID=America/New_York:20260115T170000
DTSTAMP:20260424T132105
CREATED:20260115T190033Z
LAST-MODIFIED:20260115T190033Z
UID:10007653-1768464000-1768496400@stjameshydepark.org
SUMMARY:(Tentative) Celebration of Life (Chapel)
DESCRIPTION:
URL:https://stjameshydepark.org/event/tentative-celebration-of-life-chapel/
LOCATION:St. James’ Chapel\, 10 East Market Street\, Hyde Park\, NY\, 12567\, United States
CATEGORIES:Funerals
END:VEVENT
BEGIN:VEVENT
DTSTART;TZID=America/New_York:20251230T100000
DTEND;TZID=America/New_York:20251230T113000
DTSTAMP:20260424T132105
CREATED:20251229T124723Z
LAST-MODIFIED:20251229T125415Z
UID:10007436-1767088800-1767094200@stjameshydepark.org
SUMMARY:Richard K. Wager Burial Service
DESCRIPTION:Richard Kenneth Wager\, 86\, longtime publisher of the Poughkeepsie Journal and a prominent civic leader in the Mid-Hudson Valley\, died peacefully at home on December 22\, 2025\, with his family by his side. Read his full obituary here.  \nCalling hours will be from 4 to 7 PM\, Monday December 29th at Sweet’s Funeral Home\, Rte. 9\, Hyde Park. \nFuneral services will take place at 10 AM\, Tuesday December 30th at St. James’ Episcopal Church\, 4526 Albany Post Rd.\, Hyde Park. The Rev. Meredith Kadet Sanderson will officiate. The service will also be live-streamed on St. James’ YouTube channel. \nBurial with military honors will follow in St. James’ Churchyard.
URL:https://stjameshydepark.org/event/wager-burial-2025/
LOCATION:HP Farmers Market
CATEGORIES:Funerals
END:VEVENT
BEGIN:VEVENT
DTSTART;TZID=America/New_York:20250318T110000
DTEND;TZID=America/New_York:20250318T120000
DTSTAMP:20260424T132105
CREATED:20250314T201602Z
LAST-MODIFIED:20250314T201602Z
UID:10006432-1742295600-1742299200@stjameshydepark.org
SUMMARY:Burial Service: Philip S. Lamonica
DESCRIPTION:Philip “Phil” Salvatore LaMonica\, 66\, passed away peacefully\, surrounded by family\, on March 9\, 2025\, in Oneonta\, NY. He was born on April 1\, 1958\, in Poughkeepsie\, NY\, to the late Philip LaMonica and Gertrude Kallenback. A proud veteran of the U.S. National Guard\, Phil lived a life of dedication—to his family\, his community\, and his country. \nPhil was a loving and devoted father to his four children: Joseph LaMonica\, Tina LaMonica\, Jessica Bahl (Tyler)\, and Tami-Le Vergari (David). His greatest joy in life was being a grandfather\, and he is survived by his cherished grandchildren and his first great-grandchild\, who brought him immense happiness. \nHe was predeceased by his beloved wife\, Lucy LaMonica\, with whom he is now reunited\, along with his sister\, Carol Ann LaMonica. \nPhil lived by the simple but profound principle: “It’s nice to be nice.” Known for his kindness\, lighthearted spirit\, and strong work ethic\, he was the kind of friend everyone wished to have. There wasn’t much Phil couldn’t fix—literally and figuratively—and if something was broken\, he always had a solution\, usually involving duct tape and a little ingenuity. Whether it was a household project\, a car that needed tinkering\, or simply lending an ear to a friend\, Phil had a way of making things right. \nFor over 30 years\, he was a dedicated employee of the Town of Hyde Park Highway Department\, where he took pride in his work and the friendships he built. Weekends often found him helping others\, tackling projects around the house\, or enjoying his favorite sports. He was a proud and loyal fan of the New York Yankees\, Boston Celtics\, and Miami Dolphins\, never missing a game. \nAbove all\, Phil’s greatest legacy is the love\, generosity\, and unwavering support he gave to those around him. His warmth and laughter will be deeply missed\, but the impact he made on the lives of his family and friends will never fade. \nCalling hours will be held at Burnett & White Funeral Homes in Rhinebeck on Monday\, March 17\, 2025 from 4 to 7PM. \nA memorial service will take place at St. James’ Episcopal Church\, Hyde Park\, NY\, on Tuesday\, March 18\, 2025 at 11AM\, officiated by The Rev. Meredith Kadet Sanderson. \nArrangements are under the direction of Burnett & White Funeral Homes\, 91 E. Market St.\, Rhinebeck\, NY.
URL:https://stjameshydepark.org/event/burial-service-philip-s-lamonica/
LOCATION:St. James’ Episcopal Church\, 4526 Albany Post Rd.\, Hyde Park\, NY\, 12538\, United States
CATEGORIES:Funerals
END:VEVENT
BEGIN:VEVENT
DTSTART;TZID=America/New_York:20240914T103000
DTEND;TZID=America/New_York:20240914T133000
DTSTAMP:20260424T132105
CREATED:20240723T125135Z
LAST-MODIFIED:20240802T165250Z
UID:10003897-1726309800-1726320600@stjameshydepark.org
SUMMARY:Memorial Service for James Walter Oppenheimer\, followed by Reception (Church\, Parish Hall)
DESCRIPTION:Celebration of the Life of James Walter Oppenheimer \n14 September 2024  10:30 am\nSt. James Church\n4526 Albany Post Road (U.S. Route 9)\nHyde Park\, New York \nThe Celebration of the Life of James Walter Oppenheimer/ Memorial Service will include choral performances by a massed choir of members of Capella Festiva\, the Christ Church (Poughkeepsie) Choir\, Kairos\, and the St. James Church Choir. \nJim did not want people to dress in somber suits for his memorial; he would prefer that people wear Hawaiian shirts\, or at least colorful clothing. \nThe service will be followed by refreshments in the Parish Hall.
URL:https://stjameshydepark.org/event/oppenheimer-memorial-service/
LOCATION:St. James’ Episcopal Church\, 4526 Albany Post Rd.\, Hyde Park\, NY\, 12538\, United States
CATEGORIES:Funerals
END:VEVENT
BEGIN:VEVENT
DTSTART;TZID=America/New_York:20240504T143000
DTEND;TZID=America/New_York:20240504T150000
DTSTAMP:20260424T132105
CREATED:20240202T154617Z
LAST-MODIFIED:20240301T184903Z
UID:10003399-1714833000-1714834800@stjameshydepark.org
SUMMARY:Livingston Burial (Churchyard)
DESCRIPTION:
URL:https://stjameshydepark.org/event/livingston-burial-churchyard/
LOCATION:St. James’ Episcopal Church\, 4526 Albany Post Rd.\, Hyde Park\, NY\, 12538\, United States
CATEGORIES:Funerals
END:VEVENT
BEGIN:VEVENT
DTSTART;TZID=America/New_York:20231218T100000
DTEND;TZID=America/New_York:20231218T110000
DTSTAMP:20260424T132105
CREATED:20231003T123247Z
LAST-MODIFIED:20231209T120750Z
UID:10002671-1702893600-1702897200@stjameshydepark.org
SUMMARY:Burial (Soden)
DESCRIPTION:
URL:https://stjameshydepark.org/event/burial-soden/
LOCATION:St. James’ Episcopal Church\, 4526 Albany Post Rd.\, Hyde Park\, NY\, 12538\, United States
CATEGORIES:Funerals
END:VEVENT
BEGIN:VEVENT
DTSTART;TZID=America/New_York:20231118T150000
DTEND;TZID=America/New_York:20231118T170000
DTSTAMP:20260424T132105
CREATED:20231114T191058Z
LAST-MODIFIED:20231114T191058Z
UID:10002716-1700319600-1700326800@stjameshydepark.org
SUMMARY:Funeral (Van Wagner)
DESCRIPTION:
URL:https://stjameshydepark.org/event/funeral-van-wagner/
LOCATION:St. James’ Episcopal Church\, 4526 Albany Post Rd.\, Hyde Park\, NY\, 12538\, United States
CATEGORIES:Funerals
END:VEVENT
BEGIN:VEVENT
DTSTART;TZID=America/New_York:20230630T100000
DTEND;TZID=America/New_York:20230630T130000
DTSTAMP:20260424T132105
CREATED:20230627T141203Z
LAST-MODIFIED:20230627T141203Z
UID:10002122-1688119200-1688130000@stjameshydepark.org
SUMMARY:Funeral & Reception
DESCRIPTION:
URL:https://stjameshydepark.org/event/funeral-reception/
LOCATION:St. James’ Episcopal Church\, 4526 Albany Post Rd.\, Hyde Park\, NY\, 12538\, United States
CATEGORIES:Funerals
END:VEVENT
BEGIN:VEVENT
DTSTART;TZID=America/New_York:20221111T140000
DTEND;TZID=America/New_York:20221111T150000
DTSTAMP:20260424T132105
CREATED:20221028T132936Z
LAST-MODIFIED:20221028T132936Z
UID:10001672-1668175200-1668178800@stjameshydepark.org
SUMMARY:Funeral (Church)
DESCRIPTION:
URL:https://stjameshydepark.org/event/funeral-church/
LOCATION:St. James’ Episcopal Church\, 4526 Albany Post Rd.\, Hyde Park\, NY\, 12538\, United States
CATEGORIES:Funerals
END:VEVENT
BEGIN:VEVENT
DTSTART;TZID=America/New_York:20221110T170000
DTEND;TZID=America/New_York:20221110T183000
DTSTAMP:20260424T132105
CREATED:20221028T132836Z
LAST-MODIFIED:20221028T132836Z
UID:10001671-1668099600-1668105000@stjameshydepark.org
SUMMARY:Vigil (Church)
DESCRIPTION:
URL:https://stjameshydepark.org/event/vigil-church/
LOCATION:St. James’ Episcopal Church\, 4526 Albany Post Rd.\, Hyde Park\, NY\, 12538\, United States
CATEGORIES:Funerals
END:VEVENT
BEGIN:VEVENT
DTSTART;TZID=America/New_York:20220928T120000
DTEND;TZID=America/New_York:20220928T123000
DTSTAMP:20260424T132105
CREATED:20220831T175459Z
LAST-MODIFIED:20220831T175459Z
UID:10001462-1664366400-1664368200@stjameshydepark.org
SUMMARY:Burial - Van Buren
DESCRIPTION:
URL:https://stjameshydepark.org/event/burial-van-buren/
LOCATION:St. James’ Episcopal Church\, 4526 Albany Post Rd.\, Hyde Park\, NY\, 12538\, United States
CATEGORIES:Funerals
END:VEVENT
BEGIN:VEVENT
DTSTART;TZID=America/New_York:20220611T100000
DTEND;TZID=America/New_York:20220611T120000
DTSTAMP:20260424T132105
CREATED:20220518T151036Z
LAST-MODIFIED:20220603T163806Z
UID:10001507-1654941600-1654948800@stjameshydepark.org
SUMMARY:Katherine Graff Memorial Service
DESCRIPTION:
URL:https://stjameshydepark.org/event/katherine-graff-memorial-service/
LOCATION:St. James’ Episcopal Church\, 4526 Albany Post Rd.\, Hyde Park\, NY\, 12538\, United States
CATEGORIES:Funerals
END:VEVENT
BEGIN:VEVENT
DTSTART;TZID=America/New_York:20220610T110000
DTEND;TZID=America/New_York:20220610T120000
DTSTAMP:20260424T132105
CREATED:20220607T151220Z
LAST-MODIFIED:20220608T160723Z
UID:10001418-1654858800-1654862400@stjameshydepark.org
SUMMARY:Robert Lambregtse Funeral
DESCRIPTION:
URL:https://stjameshydepark.org/event/robert-lambregtse-funeral/
LOCATION:St. James’ Episcopal Church\, 4526 Albany Post Rd.\, Hyde Park\, NY\, 12538\, United States
CATEGORIES:Funerals
END:VEVENT
BEGIN:VEVENT
DTSTART;TZID=America/New_York:20220430T120000
DTEND;TZID=America/New_York:20220430T140000
DTSTAMP:20260424T132105
CREATED:20220330T125400Z
LAST-MODIFIED:20220603T163936Z
UID:10001413-1651320000-1651327200@stjameshydepark.org
SUMMARY:Funeral (Kline)
DESCRIPTION:
URL:https://stjameshydepark.org/event/funeral-kline/
LOCATION:St. James’ Episcopal Church\, 4526 Albany Post Rd.\, Hyde Park\, NY\, 12538\, United States
CATEGORIES:Funerals
END:VEVENT
END:VCALENDAR