BEGIN:VCALENDAR
VERSION:2.0
PRODID:-//St. James&#039; Episcopal Church - ECPv6.15.20//NONSGML v1.0//EN
CALSCALE:GREGORIAN
METHOD:PUBLISH
X-WR-CALNAME:St. James&#039; Episcopal Church
X-ORIGINAL-URL:https://stjameshydepark.org
X-WR-CALDESC:Events for St. James&#039; Episcopal Church
REFRESH-INTERVAL;VALUE=DURATION:PT1H
X-Robots-Tag:noindex
X-PUBLISHED-TTL:PT1H
BEGIN:VTIMEZONE
TZID:America/New_York
BEGIN:DAYLIGHT
TZOFFSETFROM:-0500
TZOFFSETTO:-0400
TZNAME:EDT
DTSTART:20240310T070000
END:DAYLIGHT
BEGIN:STANDARD
TZOFFSETFROM:-0400
TZOFFSETTO:-0500
TZNAME:EST
DTSTART:20241103T060000
END:STANDARD
BEGIN:DAYLIGHT
TZOFFSETFROM:-0500
TZOFFSETTO:-0400
TZNAME:EDT
DTSTART:20250309T070000
END:DAYLIGHT
BEGIN:STANDARD
TZOFFSETFROM:-0400
TZOFFSETTO:-0500
TZNAME:EST
DTSTART:20251102T060000
END:STANDARD
BEGIN:DAYLIGHT
TZOFFSETFROM:-0500
TZOFFSETTO:-0400
TZNAME:EDT
DTSTART:20260308T070000
END:DAYLIGHT
BEGIN:STANDARD
TZOFFSETFROM:-0400
TZOFFSETTO:-0500
TZNAME:EST
DTSTART:20261101T060000
END:STANDARD
END:VTIMEZONE
BEGIN:VEVENT
DTSTART;TZID=America/New_York:20251108T090000
DTEND;TZID=America/New_York:20251108T110000
DTSTAMP:20260424T000930
CREATED:20251107T014942Z
LAST-MODIFIED:20251107T014942Z
UID:10007141-1762592400-1762599600@stjameshydepark.org
SUMMARY:Fall Cleanup Work Party
DESCRIPTION:Join in a fall leaf cleanup Saturday\, November 8th starting at 9 am. \nGoal: Prepare our churchyard (cemetery) for the winter \n\nremove fallen sticks/branches\nrake/blow areas with heavy leaves\nspread leaves thinly to promote decomposition\n\nWhat to bring:\n✅ Tools of choice (blowers\, rakes\, tarps\, wheelbarrows)\n✅ Wear gloves and hearing protection as you wish \nMany hands make light work. We should be finished in less than two hours with generous turnout. It’s fun working in the churchyard with St. James’ friends. Saturday morning weather forecast is looking lovely! \n✨ Thank you for helping make our grounds beautiful!
URL:https://stjameshydepark.org/event/fall-cleanup-work-party/
LOCATION:St. James’ Episcopal Church\, 4526 Albany Post Rd.\, Hyde Park\, NY\, 12538\, United States
CATEGORIES:Fun
END:VEVENT
END:VCALENDAR