BEGIN:VCALENDAR
VERSION:2.0
PRODID:-//St. James&#039; Episcopal Church - ECPv6.15.20//NONSGML v1.0//EN
CALSCALE:GREGORIAN
METHOD:PUBLISH
X-ORIGINAL-URL:https://stjameshydepark.org
X-WR-CALDESC:Events for St. James&#039; Episcopal Church
REFRESH-INTERVAL;VALUE=DURATION:PT1H
X-Robots-Tag:noindex
X-PUBLISHED-TTL:PT1H
BEGIN:VTIMEZONE
TZID:America/New_York
BEGIN:DAYLIGHT
TZOFFSETFROM:-0500
TZOFFSETTO:-0400
TZNAME:EDT
DTSTART:20240310T070000
END:DAYLIGHT
BEGIN:STANDARD
TZOFFSETFROM:-0400
TZOFFSETTO:-0500
TZNAME:EST
DTSTART:20241103T060000
END:STANDARD
BEGIN:DAYLIGHT
TZOFFSETFROM:-0500
TZOFFSETTO:-0400
TZNAME:EDT
DTSTART:20250309T070000
END:DAYLIGHT
BEGIN:STANDARD
TZOFFSETFROM:-0400
TZOFFSETTO:-0500
TZNAME:EST
DTSTART:20251102T060000
END:STANDARD
BEGIN:DAYLIGHT
TZOFFSETFROM:-0500
TZOFFSETTO:-0400
TZNAME:EDT
DTSTART:20260308T070000
END:DAYLIGHT
BEGIN:STANDARD
TZOFFSETFROM:-0400
TZOFFSETTO:-0500
TZNAME:EST
DTSTART:20261101T060000
END:STANDARD
END:VTIMEZONE
BEGIN:VEVENT
DTSTART;TZID=America/New_York:20250714T180000
DTEND;TZID=America/New_York:20250714T200000
DTSTAMP:20260424T060337
CREATED:20250613T152815Z
LAST-MODIFIED:20250627T171655Z
UID:10006690-1752516000-1752523200@stjameshydepark.org
SUMMARY:Garden Committee ~ Gardening at the Church
DESCRIPTION:St. James’ Garden Committee members meet at the Church for garden maintenance at 6 pm on the second Monday of each month. All are welcome!
URL:https://stjameshydepark.org/event/garden-committee-church/2025-07-14/
LOCATION:St. James’ Episcopal Church\, 4526 Albany Post Rd.\, Hyde Park\, NY\, 12538\, United States
CATEGORIES:Fun
END:VEVENT
BEGIN:VEVENT
DTSTART;TZID=America/New_York:20250717T183000
DTEND;TZID=America/New_York:20250717T203000
DTSTAMP:20260424T060337
CREATED:20250613T150456Z
LAST-MODIFIED:20250613T150550Z
UID:10006603-1752777000-1752784200@stjameshydepark.org
SUMMARY:Summer Hangs @ St. James'
DESCRIPTION:On Thursday evenings from about 6:30 pm\, starting on June 26th\, come by to hang out on the church front lawn—no agenda\, just good company. \nYou might bring a chair or blanket\, a game\, or snack or drink to share. You could bring a book or a craft! The church will be open for prayer and air-conditioning (and the restroom).
URL:https://stjameshydepark.org/event/summer-hangs-2025/2025-07-17/
LOCATION:St. James’ Episcopal Church\, 4526 Albany Post Rd.\, Hyde Park\, NY\, 12538\, United States
CATEGORIES:Fun
ATTACH;FMTTYPE=image/png:https://stjameshydepark.org/wp-content/uploads/2025/06/Summer-Hangs.png
END:VEVENT
BEGIN:VEVENT
DTSTART;TZID=America/New_York:20250719T100000
DTEND;TZID=America/New_York:20250719T120000
DTSTAMP:20260424T060337
CREATED:20250613T152548Z
LAST-MODIFIED:20250613T152614Z
UID:10006663-1752919200-1752926400@stjameshydepark.org
SUMMARY:Garden Committee ~ Gardening at the Chapel
DESCRIPTION:St. James’ Garden Committee members meet at the Chapel for garden maintenance at 10 am on the third Saturday of each month. Breakfast treats are provided. All are welcome!
URL:https://stjameshydepark.org/event/garden-committee-chapel/2025-07-19/
LOCATION:St. James’ Chapel\, 10 East Market Street\, Hyde Park\, NY\, 12567\, United States
CATEGORIES:Fun
END:VEVENT
END:VCALENDAR