BEGIN:VCALENDAR
VERSION:2.0
PRODID:-//St. James&#039; Episcopal Church - ECPv6.15.20//NONSGML v1.0//EN
CALSCALE:GREGORIAN
METHOD:PUBLISH
X-WR-CALNAME:St. James&#039; Episcopal Church
X-ORIGINAL-URL:https://stjameshydepark.org
X-WR-CALDESC:Events for St. James&#039; Episcopal Church
REFRESH-INTERVAL;VALUE=DURATION:PT1H
X-Robots-Tag:noindex
X-PUBLISHED-TTL:PT1H
BEGIN:VTIMEZONE
TZID:America/New_York
BEGIN:DAYLIGHT
TZOFFSETFROM:-0500
TZOFFSETTO:-0400
TZNAME:EDT
DTSTART:20230312T070000
END:DAYLIGHT
BEGIN:STANDARD
TZOFFSETFROM:-0400
TZOFFSETTO:-0500
TZNAME:EST
DTSTART:20231105T060000
END:STANDARD
BEGIN:DAYLIGHT
TZOFFSETFROM:-0500
TZOFFSETTO:-0400
TZNAME:EDT
DTSTART:20240310T070000
END:DAYLIGHT
BEGIN:STANDARD
TZOFFSETFROM:-0400
TZOFFSETTO:-0500
TZNAME:EST
DTSTART:20241103T060000
END:STANDARD
BEGIN:DAYLIGHT
TZOFFSETFROM:-0500
TZOFFSETTO:-0400
TZNAME:EDT
DTSTART:20250309T070000
END:DAYLIGHT
BEGIN:STANDARD
TZOFFSETFROM:-0400
TZOFFSETTO:-0500
TZNAME:EST
DTSTART:20251102T060000
END:STANDARD
END:VTIMEZONE
BEGIN:VEVENT
DTSTART;TZID=America/New_York:20241020T110000
DTEND;TZID=America/New_York:20241020T123000
DTSTAMP:20260424T200754
CREATED:20241010T192033Z
LAST-MODIFIED:20241010T192141Z
UID:10004199-1729422000-1729427400@stjameshydepark.org
SUMMARY:Blessing of the Hyde Park Community Garden & Potluck Lunch
DESCRIPTION:Directly after the 10 am service on Sunday\, October 20th\, please join in the annual Blessing of the Hyde Park Community Garden\, with thanksgiving for this year’s harvest. The blessing is followed by a potluck lunch and cookout in the Garden.
URL:https://stjameshydepark.org/event/garden-blessing-2024/
LOCATION:St. James’ Episcopal Church\, 4526 Albany Post Rd.\, Hyde Park\, NY\, 12538\, United States
CATEGORIES:Community Garden,Fun,Worship
ATTACH;FMTTYPE=image/jpeg:https://stjameshydepark.org/wp-content/uploads/2024/10/Blessing-of-the-Garden-Potluck.jpg
END:VEVENT
BEGIN:VEVENT
DTSTART;TZID=America/New_York:20241021T180000
DTEND;TZID=America/New_York:20241021T193000
DTSTAMP:20260424T200754
CREATED:20241002T140937Z
LAST-MODIFIED:20241002T140937Z
UID:10004150-1729533600-1729539000@stjameshydepark.org
SUMMARY:Men's Gathering at Antonella's Restaurant
DESCRIPTION:All welcome! Join in Monday\, October 21st at 6 pm in the back room of Antonella’s Restaurant.
URL:https://stjameshydepark.org/event/mens-gathering-oct-2024/
LOCATION:Antonella’s Restaurant\, Hyde Park\, NY\, 4246 Albany Post Rd #1700\, Hyde Park\, NY\, 12538\, United States
CATEGORIES:Fun
END:VEVENT
BEGIN:VEVENT
DTSTART;TZID=America/New_York:20241025T183000
DTEND;TZID=America/New_York:20241025T210000
DTSTAMP:20260424T200754
CREATED:20240906T155655Z
LAST-MODIFIED:20240910T161807Z
UID:10003960-1729881000-1729890000@stjameshydepark.org
SUMMARY:2024 Historic Graveyard Tours
DESCRIPTION:One of Hyde Park’s favorite fall traditions is back! \n2024 Historic Graveyard Tours at St. James’ Episcopal Church \nTickets on sale now: https://www.simpletix.com/e/2024-st-james-historic-graveyard-tours-tickets-184934  \nAs your tour guide leads you by lantern light through our historic 200 year-old graveyard\, you will meet some of the more interesting “residents” who from time to time make an appearance. Now in our 14th season\, the Graveyard Tours change every year with new characters and new features\, but always in the same spirit of learning and fun. \nOne-hour tours start at 6:30\, 7:00\, 7:30\, and 8 pm on Fridays and Saturdays Oct 11-12\, 18-19\, and 25-26. Advance ticket purchase strongly recommended. \nFeatured apparitions this year… \n\nGladys Mills Phipps (1883-1970): Avid racehorse owner and breeder\nUnnamed Teacher at the Bard Infant School (c. 1834)\nAgnes Irene Noonan Wager (1916-1983): one of Dutchess County’s first real estate brokers\, and E. Kenneth Wager (1917-1988)\, WWII veteran and photoengraver\nWilliam T. White (1896-1918)\, who helped turn the tide of battle in France against the Germans in WWI\nArchibald Rogers (1852-1928): Engineer\, railroad builder\, and big game hunter
URL:https://stjameshydepark.org/event/graveyard-tours-2024/2024-10-25/
LOCATION:St. James’ Episcopal Church\, 4526 Albany Post Rd.\, Hyde Park\, NY\, 12538\, United States
CATEGORIES:Fun
ATTACH;FMTTYPE=image/jpeg:https://stjameshydepark.org/wp-content/uploads/2024/09/Graveyard-Tours.jpg
END:VEVENT
BEGIN:VEVENT
DTSTART;TZID=America/New_York:20241026T183000
DTEND;TZID=America/New_York:20241026T210000
DTSTAMP:20260424T200754
CREATED:20240906T155655Z
LAST-MODIFIED:20240910T161807Z
UID:10003961-1729967400-1729976400@stjameshydepark.org
SUMMARY:2024 Historic Graveyard Tours
DESCRIPTION:One of Hyde Park’s favorite fall traditions is back! \n2024 Historic Graveyard Tours at St. James’ Episcopal Church \nTickets on sale now: https://www.simpletix.com/e/2024-st-james-historic-graveyard-tours-tickets-184934  \nAs your tour guide leads you by lantern light through our historic 200 year-old graveyard\, you will meet some of the more interesting “residents” who from time to time make an appearance. Now in our 14th season\, the Graveyard Tours change every year with new characters and new features\, but always in the same spirit of learning and fun. \nOne-hour tours start at 6:30\, 7:00\, 7:30\, and 8 pm on Fridays and Saturdays Oct 11-12\, 18-19\, and 25-26. Advance ticket purchase strongly recommended. \nFeatured apparitions this year… \n\nGladys Mills Phipps (1883-1970): Avid racehorse owner and breeder\nUnnamed Teacher at the Bard Infant School (c. 1834)\nAgnes Irene Noonan Wager (1916-1983): one of Dutchess County’s first real estate brokers\, and E. Kenneth Wager (1917-1988)\, WWII veteran and photoengraver\nWilliam T. White (1896-1918)\, who helped turn the tide of battle in France against the Germans in WWI\nArchibald Rogers (1852-1928): Engineer\, railroad builder\, and big game hunter
URL:https://stjameshydepark.org/event/graveyard-tours-2024/2024-10-26/
LOCATION:St. James’ Episcopal Church\, 4526 Albany Post Rd.\, Hyde Park\, NY\, 12538\, United States
CATEGORIES:Fun
ATTACH;FMTTYPE=image/jpeg:https://stjameshydepark.org/wp-content/uploads/2024/09/Graveyard-Tours.jpg
END:VEVENT
END:VCALENDAR