BEGIN:VCALENDAR
VERSION:2.0
PRODID:-//St. James&#039; Episcopal Church - ECPv6.15.20//NONSGML v1.0//EN
CALSCALE:GREGORIAN
METHOD:PUBLISH
X-ORIGINAL-URL:https://stjameshydepark.org
X-WR-CALDESC:Events for St. James&#039; Episcopal Church
REFRESH-INTERVAL;VALUE=DURATION:PT1H
X-Robots-Tag:noindex
X-PUBLISHED-TTL:PT1H
BEGIN:VTIMEZONE
TZID:America/New_York
BEGIN:DAYLIGHT
TZOFFSETFROM:-0500
TZOFFSETTO:-0400
TZNAME:EDT
DTSTART:20230312T070000
END:DAYLIGHT
BEGIN:STANDARD
TZOFFSETFROM:-0400
TZOFFSETTO:-0500
TZNAME:EST
DTSTART:20231105T060000
END:STANDARD
BEGIN:DAYLIGHT
TZOFFSETFROM:-0500
TZOFFSETTO:-0400
TZNAME:EDT
DTSTART:20240310T070000
END:DAYLIGHT
BEGIN:STANDARD
TZOFFSETFROM:-0400
TZOFFSETTO:-0500
TZNAME:EST
DTSTART:20241103T060000
END:STANDARD
BEGIN:DAYLIGHT
TZOFFSETFROM:-0500
TZOFFSETTO:-0400
TZNAME:EDT
DTSTART:20250309T070000
END:DAYLIGHT
BEGIN:STANDARD
TZOFFSETFROM:-0400
TZOFFSETTO:-0500
TZNAME:EST
DTSTART:20251102T060000
END:STANDARD
END:VTIMEZONE
BEGIN:VEVENT
DTSTART;TZID=America/New_York:20240422T180000
DTEND;TZID=America/New_York:20240422T193000
DTSTAMP:20260425T111843
CREATED:20240322T123601Z
LAST-MODIFIED:20240322T123601Z
UID:10003630-1713808800-1713814200@stjameshydepark.org
SUMMARY:Men's Gathering (Antonella's Restaurant)
DESCRIPTION:All welcome! Join in Monday\, April 22nd at 6 pm in the back room of Antonella’s Restaurant. Questions? Please see Joe Gasparini (call/text 845-475-4717) or Mike Glancey.
URL:https://stjameshydepark.org/event/mens-gathering-2024-apr/
LOCATION:Antonella’s Restaurant\, Hyde Park\, NY\, 4246 Albany Post Rd #1700\, Hyde Park\, NY\, 12538\, United States
CATEGORIES:Fun
END:VEVENT
BEGIN:VEVENT
DTSTART;TZID=America/New_York:20240429T140000
DTEND;TZID=America/New_York:20240429T160000
DTSTAMP:20260425T111843
CREATED:20240112T141137Z
LAST-MODIFIED:20241009T191510Z
UID:10002913-1714399200-1714406400@stjameshydepark.org
SUMMARY:Knitters and Crafters Group (Wilks Room)
DESCRIPTION:A New Group! A community of crafters begins on Mondays starting February 5\, from 2- 4 pm (drop-in). \nAll are welcome: knitters\, crocheters\, embroiderers\, crocheters\, conversationalists and miscellaneous other activities. No particular talent required. Meet in the Wilks Room at St. James Parish Hall.
URL:https://stjameshydepark.org/event/knitters-crafters/2024-04-29/
LOCATION:St. James’ Episcopal Church\, 4526 Albany Post Rd.\, Hyde Park\, NY\, 12538\, United States
CATEGORIES:Fun
END:VEVENT
BEGIN:VEVENT
DTSTART;TZID=America/New_York:20240506T140000
DTEND;TZID=America/New_York:20240506T160000
DTSTAMP:20260425T111843
CREATED:20240112T141137Z
LAST-MODIFIED:20241009T191510Z
UID:10002914-1715004000-1715011200@stjameshydepark.org
SUMMARY:Knitters and Crafters Group (Wilks Room)
DESCRIPTION:A New Group! A community of crafters begins on Mondays starting February 5\, from 2- 4 pm (drop-in). \nAll are welcome: knitters\, crocheters\, embroiderers\, crocheters\, conversationalists and miscellaneous other activities. No particular talent required. Meet in the Wilks Room at St. James Parish Hall.
URL:https://stjameshydepark.org/event/knitters-crafters/2024-05-06/
LOCATION:St. James’ Episcopal Church\, 4526 Albany Post Rd.\, Hyde Park\, NY\, 12538\, United States
CATEGORIES:Fun
END:VEVENT
BEGIN:VEVENT
DTSTART;TZID=America/New_York:20240511T120000
DTEND;TZID=America/New_York:20240511T163000
DTSTAMP:20260425T111843
CREATED:20240206T143554Z
LAST-MODIFIED:20240403T171550Z
UID:10003455-1715428800-1715445000@stjameshydepark.org
SUMMARY:Mother's Day Tea (Parish Hall\, Kitchen)
DESCRIPTION:St. James’ Episcopal Church presents “A Mother’s Day Tea Party” with four-course luncheon and light entertainment.  \nTwo seatings on Saturday\, May 11th: noon and 3:00 p.m. $25 per person.  \nCelebrate with your mother\, sister\, daughter\, or best friend in a special way at a special place.  \nReservations are required; please call Dyan in the Church Office at 845-229-2820.
URL:https://stjameshydepark.org/event/mothers-day-tea-parish-hall-kitchen/
LOCATION:St. James’ Episcopal Church\, 4526 Albany Post Rd.\, Hyde Park\, NY\, 12538\, United States
CATEGORIES:Fun,Outreach
ATTACH;FMTTYPE=image/png:https://stjameshydepark.org/wp-content/uploads/2024/02/Mothers-Day-Tea-Party.png
END:VEVENT
BEGIN:VEVENT
DTSTART;TZID=America/New_York:20240513T140000
DTEND;TZID=America/New_York:20240513T160000
DTSTAMP:20260425T111843
CREATED:20240112T141137Z
LAST-MODIFIED:20241009T191510Z
UID:10002915-1715608800-1715616000@stjameshydepark.org
SUMMARY:Knitters and Crafters Group (Wilks Room)
DESCRIPTION:A New Group! A community of crafters begins on Mondays starting February 5\, from 2- 4 pm (drop-in). \nAll are welcome: knitters\, crocheters\, embroiderers\, crocheters\, conversationalists and miscellaneous other activities. No particular talent required. Meet in the Wilks Room at St. James Parish Hall.
URL:https://stjameshydepark.org/event/knitters-crafters/2024-05-13/
LOCATION:St. James’ Episcopal Church\, 4526 Albany Post Rd.\, Hyde Park\, NY\, 12538\, United States
CATEGORIES:Fun
END:VEVENT
BEGIN:VEVENT
DTSTART;TZID=America/New_York:20240520T140000
DTEND;TZID=America/New_York:20240520T160000
DTSTAMP:20260425T111843
CREATED:20240112T141137Z
LAST-MODIFIED:20241009T191510Z
UID:10002916-1716213600-1716220800@stjameshydepark.org
SUMMARY:Knitters and Crafters Group (Wilks Room)
DESCRIPTION:A New Group! A community of crafters begins on Mondays starting February 5\, from 2- 4 pm (drop-in). \nAll are welcome: knitters\, crocheters\, embroiderers\, crocheters\, conversationalists and miscellaneous other activities. No particular talent required. Meet in the Wilks Room at St. James Parish Hall.
URL:https://stjameshydepark.org/event/knitters-crafters/2024-05-20/
LOCATION:St. James’ Episcopal Church\, 4526 Albany Post Rd.\, Hyde Park\, NY\, 12538\, United States
CATEGORIES:Fun
END:VEVENT
BEGIN:VEVENT
DTSTART;TZID=America/New_York:20240520T180000
DTEND;TZID=America/New_York:20240520T193000
DTSTAMP:20260425T111843
CREATED:20240515T185933Z
LAST-MODIFIED:20240515T185933Z
UID:10003778-1716228000-1716233400@stjameshydepark.org
SUMMARY:Men's Gathering (Antonella's Restaurant)
DESCRIPTION:All welcome! Join in Monday\, May 20th at 6 pm in the back room of Antonella’s Restaurant. Questions? Please see Joe Gasparini (call/text 845-475-4717) or Mike Glancey.
URL:https://stjameshydepark.org/event/mens-gathering-2024-may/
LOCATION:Antonella’s Restaurant\, Hyde Park\, NY\, 4246 Albany Post Rd #1700\, Hyde Park\, NY\, 12538\, United States
CATEGORIES:Fun
END:VEVENT
BEGIN:VEVENT
DTSTART;TZID=America/New_York:20240526T100000
DTEND;TZID=America/New_York:20240526T130000
DTSTAMP:20260425T111843
CREATED:20240521T140811Z
LAST-MODIFIED:20240521T141925Z
UID:10002748-1716717600-1716728400@stjameshydepark.org
SUMMARY:Outdoor Church with Guest Preacher the Very Rev. Gary C. Hall and Parish Picnic
DESCRIPTION:On Memorial Day weekend\, we’ll have a special Sunday worship service. \nWeather permitting\, church will be outdoors\, with hymns accompanied by guitar\, sax\, and bass. \nWe’ll be worshipping together with our sister church\, St. Margaret’s in Staatsburg\, and we’ll have a special guest preacher—the Very Rev. Gary C. Hall\, former dean of the Washington National Cathedral. \nSunday School for our kiddos will be outside\, too! We’ll have fun planning some prayers for our Youth Sunday service in June. \nAfter church we’ll enjoy a parish picnic and games on the lawn. \nIf you can\, please bring: \n\nA comfortable lawn chair (some chairs will be provided)\nA dish to share at the picnic\nA favorite outdoor game to play\n\nAnd if you can’t\, please come anyway!
URL:https://stjameshydepark.org/event/2024-parish-picnic/
LOCATION:St. James’ Episcopal Church\, 4526 Albany Post Rd.\, Hyde Park\, NY\, 12538\, United States
CATEGORIES:Fun,Worship
END:VEVENT
BEGIN:VEVENT
DTSTART;TZID=America/New_York:20240603T140000
DTEND;TZID=America/New_York:20240603T160000
DTSTAMP:20260425T111843
CREATED:20240112T141137Z
LAST-MODIFIED:20241009T191510Z
UID:10002918-1717423200-1717430400@stjameshydepark.org
SUMMARY:Knitters and Crafters Group (Wilks Room)
DESCRIPTION:A New Group! A community of crafters begins on Mondays starting February 5\, from 2- 4 pm (drop-in). \nAll are welcome: knitters\, crocheters\, embroiderers\, crocheters\, conversationalists and miscellaneous other activities. No particular talent required. Meet in the Wilks Room at St. James Parish Hall.
URL:https://stjameshydepark.org/event/knitters-crafters/2024-06-03/
LOCATION:St. James’ Episcopal Church\, 4526 Albany Post Rd.\, Hyde Park\, NY\, 12538\, United States
CATEGORIES:Fun
END:VEVENT
BEGIN:VEVENT
DTSTART;TZID=America/New_York:20240608T110000
DTEND;TZID=America/New_York:20240608T130000
DTSTAMP:20260425T111843
CREATED:20240608T021052Z
LAST-MODIFIED:20240608T021052Z
UID:10003798-1717844400-1717851600@stjameshydepark.org
SUMMARY:Dutchess Episcopalians at Poughkeepsie Pride
DESCRIPTION:Dutchess Episcopalians will march together at Poughkeepsie Pride this year\, plus we’ll have a table at Waryas Park\, where the parade ends! Lineup is at Cannon and Market Streets beginning at 11 am. Stepoff is at noon. \nPlease contact Mtr. Meredith (315-569-3767) to RSVP!
URL:https://stjameshydepark.org/event/pride-2024/
LOCATION:Market Street and Cannon Street\, 35 Market Street\, Poughkeepsie\, NY\, 12601\, United States
CATEGORIES:Fun,Outreach
ATTACH;FMTTYPE=image/png:https://stjameshydepark.org/wp-content/uploads/2024/02/Rainbow-Welcome.png
END:VEVENT
BEGIN:VEVENT
DTSTART;TZID=America/New_York:20240608T173000
DTEND;TZID=America/New_York:20240608T210000
DTSTAMP:20260425T111843
CREATED:20240608T013558Z
LAST-MODIFIED:20240609T014020Z
UID:10003795-1717867800-1717880400@stjameshydepark.org
SUMMARY:St. James @ Kingston Stockade Soccer!
DESCRIPTION:Come join the St. James’ cheering section for our Kingston Stockade Division 4 soccer team!\nEnjoy a fun evening with St. James’ friends the next three Saturdays at 6 pm at the Marist stadium. What could be better on a summer evening than friendly conversation\, kids running around\, food trucks\, and an occasional goal to celebrate! \nMany St. James’ members & friends have enjoyed attending these games recently. Most of us bring folding chairs so we can sit together on the west side of the field near the Stockade team’s energetic cheering leaders\, and a few prefer the stadium seats. \nTickets are $10/adults and $5/children ages 3-12. We have found that arriving around 5:30 provides a head start on the food truck lines. You are welcome to bring water bottles and snacks. There are three more season games in 2024:  June 8\, 15\, and 22. Details on games at stockadefc.com. No RSVP needed\, but if you’d like to coordinate\, text or call Russell Urban-Mead at 914-456-1095.
URL:https://stjameshydepark.org/event/st-james-kingston-stockade-soccer/2024-06-08/
LOCATION:NY
CATEGORIES:Fun
END:VEVENT
BEGIN:VEVENT
DTSTART;TZID=America/New_York:20240610T140000
DTEND;TZID=America/New_York:20240610T160000
DTSTAMP:20260425T111843
CREATED:20240112T141137Z
LAST-MODIFIED:20241009T191510Z
UID:10002919-1718028000-1718035200@stjameshydepark.org
SUMMARY:Knitters and Crafters Group (Wilks Room)
DESCRIPTION:A New Group! A community of crafters begins on Mondays starting February 5\, from 2- 4 pm (drop-in). \nAll are welcome: knitters\, crocheters\, embroiderers\, crocheters\, conversationalists and miscellaneous other activities. No particular talent required. Meet in the Wilks Room at St. James Parish Hall.
URL:https://stjameshydepark.org/event/knitters-crafters/2024-06-10/
LOCATION:St. James’ Episcopal Church\, 4526 Albany Post Rd.\, Hyde Park\, NY\, 12538\, United States
CATEGORIES:Fun
END:VEVENT
BEGIN:VEVENT
DTSTART;TZID=America/New_York:20240615T173000
DTEND;TZID=America/New_York:20240615T210000
DTSTAMP:20260425T111843
CREATED:20240608T013558Z
LAST-MODIFIED:20240609T014020Z
UID:10003796-1718472600-1718485200@stjameshydepark.org
SUMMARY:St. James @ Kingston Stockade Soccer!
DESCRIPTION:Come join the St. James’ cheering section for our Kingston Stockade Division 4 soccer team!\nEnjoy a fun evening with St. James’ friends the next three Saturdays at 6 pm at the Marist stadium. What could be better on a summer evening than friendly conversation\, kids running around\, food trucks\, and an occasional goal to celebrate! \nMany St. James’ members & friends have enjoyed attending these games recently. Most of us bring folding chairs so we can sit together on the west side of the field near the Stockade team’s energetic cheering leaders\, and a few prefer the stadium seats. \nTickets are $10/adults and $5/children ages 3-12. We have found that arriving around 5:30 provides a head start on the food truck lines. You are welcome to bring water bottles and snacks. There are three more season games in 2024:  June 8\, 15\, and 22. Details on games at stockadefc.com. No RSVP needed\, but if you’d like to coordinate\, text or call Russell Urban-Mead at 914-456-1095.
URL:https://stjameshydepark.org/event/st-james-kingston-stockade-soccer/2024-06-15/
LOCATION:NY
CATEGORIES:Fun
END:VEVENT
BEGIN:VEVENT
DTSTART;TZID=America/New_York:20240617T140000
DTEND;TZID=America/New_York:20240617T160000
DTSTAMP:20260425T111843
CREATED:20240112T141137Z
LAST-MODIFIED:20241009T191510Z
UID:10002920-1718632800-1718640000@stjameshydepark.org
SUMMARY:Knitters and Crafters Group (Wilks Room)
DESCRIPTION:A New Group! A community of crafters begins on Mondays starting February 5\, from 2- 4 pm (drop-in). \nAll are welcome: knitters\, crocheters\, embroiderers\, crocheters\, conversationalists and miscellaneous other activities. No particular talent required. Meet in the Wilks Room at St. James Parish Hall.
URL:https://stjameshydepark.org/event/knitters-crafters/2024-06-17/
LOCATION:St. James’ Episcopal Church\, 4526 Albany Post Rd.\, Hyde Park\, NY\, 12538\, United States
CATEGORIES:Fun
END:VEVENT
BEGIN:VEVENT
DTSTART;TZID=America/New_York:20240617T180000
DTEND;TZID=America/New_York:20240617T193000
DTSTAMP:20260425T111843
CREATED:20240605T163302Z
LAST-MODIFIED:20240605T163302Z
UID:10003791-1718647200-1718652600@stjameshydepark.org
SUMMARY:Men's Gathering (Antonella's Restaurant)
DESCRIPTION:All welcome! Join in Monday\, June 17th at 6 pm in the back room of Antonella’s Restaurant. Questions? Please see Joe Gasparini (call/text 845-475-4717) or Mike Glancey.
URL:https://stjameshydepark.org/event/mens-gathering-antonellas-restaurant/
LOCATION:Antonella’s Restaurant\, Hyde Park\, NY\, 4246 Albany Post Rd #1700\, Hyde Park\, NY\, 12538\, United States
CATEGORIES:Fun
END:VEVENT
BEGIN:VEVENT
DTSTART;TZID=America/New_York:20240622T173000
DTEND;TZID=America/New_York:20240622T210000
DTSTAMP:20260425T111843
CREATED:20240608T013558Z
LAST-MODIFIED:20240609T014020Z
UID:10003797-1719077400-1719090000@stjameshydepark.org
SUMMARY:St. James @ Kingston Stockade Soccer!
DESCRIPTION:Come join the St. James’ cheering section for our Kingston Stockade Division 4 soccer team!\nEnjoy a fun evening with St. James’ friends the next three Saturdays at 6 pm at the Marist stadium. What could be better on a summer evening than friendly conversation\, kids running around\, food trucks\, and an occasional goal to celebrate! \nMany St. James’ members & friends have enjoyed attending these games recently. Most of us bring folding chairs so we can sit together on the west side of the field near the Stockade team’s energetic cheering leaders\, and a few prefer the stadium seats. \nTickets are $10/adults and $5/children ages 3-12. We have found that arriving around 5:30 provides a head start on the food truck lines. You are welcome to bring water bottles and snacks. There are three more season games in 2024:  June 8\, 15\, and 22. Details on games at stockadefc.com. No RSVP needed\, but if you’d like to coordinate\, text or call Russell Urban-Mead at 914-456-1095.
URL:https://stjameshydepark.org/event/st-james-kingston-stockade-soccer/2024-06-22/
LOCATION:NY
CATEGORIES:Fun
END:VEVENT
BEGIN:VEVENT
DTSTART;TZID=America/New_York:20240624T140000
DTEND;TZID=America/New_York:20240624T160000
DTSTAMP:20260425T111843
CREATED:20240112T141137Z
LAST-MODIFIED:20241009T191510Z
UID:10002921-1719237600-1719244800@stjameshydepark.org
SUMMARY:Knitters and Crafters Group (Wilks Room)
DESCRIPTION:A New Group! A community of crafters begins on Mondays starting February 5\, from 2- 4 pm (drop-in). \nAll are welcome: knitters\, crocheters\, embroiderers\, crocheters\, conversationalists and miscellaneous other activities. No particular talent required. Meet in the Wilks Room at St. James Parish Hall.
URL:https://stjameshydepark.org/event/knitters-crafters/2024-06-24/
LOCATION:St. James’ Episcopal Church\, 4526 Albany Post Rd.\, Hyde Park\, NY\, 12538\, United States
CATEGORIES:Fun
END:VEVENT
BEGIN:VEVENT
DTSTART;TZID=America/New_York:20240701T140000
DTEND;TZID=America/New_York:20240701T160000
DTSTAMP:20260425T111843
CREATED:20240112T141137Z
LAST-MODIFIED:20241009T191510Z
UID:10002922-1719842400-1719849600@stjameshydepark.org
SUMMARY:Knitters and Crafters Group (Wilks Room)
DESCRIPTION:A New Group! A community of crafters begins on Mondays starting February 5\, from 2- 4 pm (drop-in). \nAll are welcome: knitters\, crocheters\, embroiderers\, crocheters\, conversationalists and miscellaneous other activities. No particular talent required. Meet in the Wilks Room at St. James Parish Hall.
URL:https://stjameshydepark.org/event/knitters-crafters/2024-07-01/
LOCATION:St. James’ Episcopal Church\, 4526 Albany Post Rd.\, Hyde Park\, NY\, 12538\, United States
CATEGORIES:Fun
END:VEVENT
BEGIN:VEVENT
DTSTART;TZID=America/New_York:20240708T140000
DTEND;TZID=America/New_York:20240708T160000
DTSTAMP:20260425T111843
CREATED:20240112T141137Z
LAST-MODIFIED:20241009T191510Z
UID:10002923-1720447200-1720454400@stjameshydepark.org
SUMMARY:Knitters and Crafters Group (Wilks Room)
DESCRIPTION:A New Group! A community of crafters begins on Mondays starting February 5\, from 2- 4 pm (drop-in). \nAll are welcome: knitters\, crocheters\, embroiderers\, crocheters\, conversationalists and miscellaneous other activities. No particular talent required. Meet in the Wilks Room at St. James Parish Hall.
URL:https://stjameshydepark.org/event/knitters-crafters/2024-07-08/
LOCATION:St. James’ Episcopal Church\, 4526 Albany Post Rd.\, Hyde Park\, NY\, 12538\, United States
CATEGORIES:Fun
END:VEVENT
BEGIN:VEVENT
DTSTART;TZID=America/New_York:20240715T140000
DTEND;TZID=America/New_York:20240715T160000
DTSTAMP:20260425T111843
CREATED:20240112T141137Z
LAST-MODIFIED:20241009T191510Z
UID:10002924-1721052000-1721059200@stjameshydepark.org
SUMMARY:Knitters and Crafters Group (Wilks Room)
DESCRIPTION:A New Group! A community of crafters begins on Mondays starting February 5\, from 2- 4 pm (drop-in). \nAll are welcome: knitters\, crocheters\, embroiderers\, crocheters\, conversationalists and miscellaneous other activities. No particular talent required. Meet in the Wilks Room at St. James Parish Hall.
URL:https://stjameshydepark.org/event/knitters-crafters/2024-07-15/
LOCATION:St. James’ Episcopal Church\, 4526 Albany Post Rd.\, Hyde Park\, NY\, 12538\, United States
CATEGORIES:Fun
END:VEVENT
BEGIN:VEVENT
DTSTART;TZID=America/New_York:20240716T190000
DTEND;TZID=America/New_York:20240716T210000
DTSTAMP:20260425T111843
CREATED:20240610T011301Z
LAST-MODIFIED:20240716T210001Z
UID:10003800-1721156400-1721163600@stjameshydepark.org
SUMMARY:~ CANCELLED ~ Free Concert: Rhinebeck Legion Band
DESCRIPTION:TONIGHT’S OUTDOOR CONCERT AT ST. JAMES’ IS CANCELED.\nDue to the extreme heat and threat of severe thunderstorms\, the Tuesday July 16th Rhinebeck Legion Band outdoor concert at St. James’ Episcopal Church is canceled.\n\n~~~~~~~~~~~~~~~~~~~~~~~~~~~~~~~~~~~~~~~~~~~~~~\nJoin St. James’ Episcopal Church for a free concert with the Rhinebeck Legion Band! \nTuesday\, July 16th at 7 pm. Please bring your own seating. We’ll be on the lawn just south of the Parish House\, or in the Parish Hall in case of rain.
URL:https://stjameshydepark.org/event/free-concert-rhinebeck-legion-band-south-lawn-or-parish-hall-in-case-of-rain/
LOCATION:St. James’ Episcopal Church\, 4526 Albany Post Rd.\, Hyde Park\, NY\, 12538\, United States
CATEGORIES:Fun
END:VEVENT
BEGIN:VEVENT
DTSTART;TZID=America/New_York:20240720T110000
DTEND;TZID=America/New_York:20240720T130000
DTSTAMP:20260425T111843
CREATED:20240705T161321Z
LAST-MODIFIED:20240705T161321Z
UID:10003829-1721473200-1721480400@stjameshydepark.org
SUMMARY:For Kids: Art in the Hyde Park Community Garden!
DESCRIPTION:FREE and FUN art-making event at the Hyde Park Community Garden. Space is limited to 15 kids.  Please call or text Deb Belding to reserve your spot: (845) 240-3194. \nThe Hyde Park Community Garden\, a ministry of St. James’ Church\, is located on the north lawn of the churchyard.
URL:https://stjameshydepark.org/event/for-kids-art-in-the-hyde-park-community-garden/
LOCATION:St. James’ Episcopal Church\, 4526 Albany Post Rd.\, Hyde Park\, NY\, 12538\, United States
CATEGORIES:Community Garden,Fun,Kids & Youth
END:VEVENT
BEGIN:VEVENT
DTSTART;TZID=America/New_York:20240722T140000
DTEND;TZID=America/New_York:20240722T160000
DTSTAMP:20260425T111843
CREATED:20240112T141137Z
LAST-MODIFIED:20241009T191510Z
UID:10002925-1721656800-1721664000@stjameshydepark.org
SUMMARY:Knitters and Crafters Group (Wilks Room)
DESCRIPTION:A New Group! A community of crafters begins on Mondays starting February 5\, from 2- 4 pm (drop-in). \nAll are welcome: knitters\, crocheters\, embroiderers\, crocheters\, conversationalists and miscellaneous other activities. No particular talent required. Meet in the Wilks Room at St. James Parish Hall.
URL:https://stjameshydepark.org/event/knitters-crafters/2024-07-22/
LOCATION:St. James’ Episcopal Church\, 4526 Albany Post Rd.\, Hyde Park\, NY\, 12538\, United States
CATEGORIES:Fun
END:VEVENT
BEGIN:VEVENT
DTSTART;TZID=America/New_York:20240729T140000
DTEND;TZID=America/New_York:20240729T160000
DTSTAMP:20260425T111843
CREATED:20240112T141137Z
LAST-MODIFIED:20241009T191510Z
UID:10002926-1722261600-1722268800@stjameshydepark.org
SUMMARY:Knitters and Crafters Group (Wilks Room)
DESCRIPTION:A New Group! A community of crafters begins on Mondays starting February 5\, from 2- 4 pm (drop-in). \nAll are welcome: knitters\, crocheters\, embroiderers\, crocheters\, conversationalists and miscellaneous other activities. No particular talent required. Meet in the Wilks Room at St. James Parish Hall.
URL:https://stjameshydepark.org/event/knitters-crafters/2024-07-29/
LOCATION:St. James’ Episcopal Church\, 4526 Albany Post Rd.\, Hyde Park\, NY\, 12538\, United States
CATEGORIES:Fun
END:VEVENT
BEGIN:VEVENT
DTSTART;TZID=America/New_York:20240805T140000
DTEND;TZID=America/New_York:20240805T160000
DTSTAMP:20260425T111843
CREATED:20240112T141137Z
LAST-MODIFIED:20241009T191510Z
UID:10002927-1722866400-1722873600@stjameshydepark.org
SUMMARY:Knitters and Crafters Group (Wilks Room)
DESCRIPTION:A New Group! A community of crafters begins on Mondays starting February 5\, from 2- 4 pm (drop-in). \nAll are welcome: knitters\, crocheters\, embroiderers\, crocheters\, conversationalists and miscellaneous other activities. No particular talent required. Meet in the Wilks Room at St. James Parish Hall.
URL:https://stjameshydepark.org/event/knitters-crafters/2024-08-05/
LOCATION:St. James’ Episcopal Church\, 4526 Albany Post Rd.\, Hyde Park\, NY\, 12538\, United States
CATEGORIES:Fun
END:VEVENT
BEGIN:VEVENT
DTSTART;TZID=America/New_York:20240812T140000
DTEND;TZID=America/New_York:20240812T160000
DTSTAMP:20260425T111843
CREATED:20240112T141137Z
LAST-MODIFIED:20241009T191510Z
UID:10002928-1723471200-1723478400@stjameshydepark.org
SUMMARY:Knitters and Crafters Group (Wilks Room)
DESCRIPTION:A New Group! A community of crafters begins on Mondays starting February 5\, from 2- 4 pm (drop-in). \nAll are welcome: knitters\, crocheters\, embroiderers\, crocheters\, conversationalists and miscellaneous other activities. No particular talent required. Meet in the Wilks Room at St. James Parish Hall.
URL:https://stjameshydepark.org/event/knitters-crafters/2024-08-12/
LOCATION:St. James’ Episcopal Church\, 4526 Albany Post Rd.\, Hyde Park\, NY\, 12538\, United States
CATEGORIES:Fun
END:VEVENT
BEGIN:VEVENT
DTSTART;TZID=America/New_York:20240819T140000
DTEND;TZID=America/New_York:20240819T160000
DTSTAMP:20260425T111843
CREATED:20240112T141137Z
LAST-MODIFIED:20241009T191510Z
UID:10002929-1724076000-1724083200@stjameshydepark.org
SUMMARY:Knitters and Crafters Group (Wilks Room)
DESCRIPTION:A New Group! A community of crafters begins on Mondays starting February 5\, from 2- 4 pm (drop-in). \nAll are welcome: knitters\, crocheters\, embroiderers\, crocheters\, conversationalists and miscellaneous other activities. No particular talent required. Meet in the Wilks Room at St. James Parish Hall.
URL:https://stjameshydepark.org/event/knitters-crafters/2024-08-19/
LOCATION:St. James’ Episcopal Church\, 4526 Albany Post Rd.\, Hyde Park\, NY\, 12538\, United States
CATEGORIES:Fun
END:VEVENT
BEGIN:VEVENT
DTSTART;TZID=America/New_York:20240826T140000
DTEND;TZID=America/New_York:20240826T160000
DTSTAMP:20260425T111843
CREATED:20240112T141137Z
LAST-MODIFIED:20241009T191510Z
UID:10002930-1724680800-1724688000@stjameshydepark.org
SUMMARY:Knitters and Crafters Group (Wilks Room)
DESCRIPTION:A New Group! A community of crafters begins on Mondays starting February 5\, from 2- 4 pm (drop-in). \nAll are welcome: knitters\, crocheters\, embroiderers\, crocheters\, conversationalists and miscellaneous other activities. No particular talent required. Meet in the Wilks Room at St. James Parish Hall.
URL:https://stjameshydepark.org/event/knitters-crafters/2024-08-26/
LOCATION:St. James’ Episcopal Church\, 4526 Albany Post Rd.\, Hyde Park\, NY\, 12538\, United States
CATEGORIES:Fun
END:VEVENT
BEGIN:VEVENT
DTSTART;TZID=America/New_York:20240908T100000
DTEND;TZID=America/New_York:20240908T113000
DTSTAMP:20260425T111844
CREATED:20240829T145042Z
LAST-MODIFIED:20240829T145042Z
UID:10003939-1725789600-1725795000@stjameshydepark.org
SUMMARY:Blessing of the Backpacks
DESCRIPTION:On Sunday\, September 8th (Sunday after Labor Day)\, we’re inviting students and educators of every age to bring your backpack\, bag\, or briefcase to church for a special blessing at our 10 am service!
URL:https://stjameshydepark.org/event/blessing-of-the-backpacks/
LOCATION:St. James’ Episcopal Church\, 4526 Albany Post Rd.\, Hyde Park\, NY\, 12538\, United States
CATEGORIES:Fun,Kids & Youth,Worship
ATTACH;FMTTYPE=image/png:https://stjameshydepark.org/wp-content/uploads/2024/08/Backpack-Blessing-2024.png
END:VEVENT
BEGIN:VEVENT
DTSTART;TZID=America/New_York:20240909T140000
DTEND;TZID=America/New_York:20240909T160000
DTSTAMP:20260425T111844
CREATED:20240112T141137Z
LAST-MODIFIED:20241009T191510Z
UID:10002932-1725890400-1725897600@stjameshydepark.org
SUMMARY:Knitters and Crafters Group (Wilks Room)
DESCRIPTION:A New Group! A community of crafters begins on Mondays starting February 5\, from 2- 4 pm (drop-in). \nAll are welcome: knitters\, crocheters\, embroiderers\, crocheters\, conversationalists and miscellaneous other activities. No particular talent required. Meet in the Wilks Room at St. James Parish Hall.
URL:https://stjameshydepark.org/event/knitters-crafters/2024-09-09/
LOCATION:St. James’ Episcopal Church\, 4526 Albany Post Rd.\, Hyde Park\, NY\, 12538\, United States
CATEGORIES:Fun
END:VEVENT
END:VCALENDAR