BEGIN:VCALENDAR
VERSION:2.0
PRODID:-//St. James&#039; Episcopal Church - ECPv6.15.20//NONSGML v1.0//EN
CALSCALE:GREGORIAN
METHOD:PUBLISH
X-WR-CALNAME:St. James&#039; Episcopal Church
X-ORIGINAL-URL:https://stjameshydepark.org
X-WR-CALDESC:Events for St. James&#039; Episcopal Church
REFRESH-INTERVAL;VALUE=DURATION:PT1H
X-Robots-Tag:noindex
X-PUBLISHED-TTL:PT1H
BEGIN:VTIMEZONE
TZID:America/New_York
BEGIN:DAYLIGHT
TZOFFSETFROM:-0500
TZOFFSETTO:-0400
TZNAME:EDT
DTSTART:20250309T070000
END:DAYLIGHT
BEGIN:STANDARD
TZOFFSETFROM:-0400
TZOFFSETTO:-0500
TZNAME:EST
DTSTART:20251102T060000
END:STANDARD
BEGIN:DAYLIGHT
TZOFFSETFROM:-0500
TZOFFSETTO:-0400
TZNAME:EDT
DTSTART:20260308T070000
END:DAYLIGHT
BEGIN:STANDARD
TZOFFSETFROM:-0400
TZOFFSETTO:-0500
TZNAME:EST
DTSTART:20261101T060000
END:STANDARD
BEGIN:DAYLIGHT
TZOFFSETFROM:-0500
TZOFFSETTO:-0400
TZNAME:EDT
DTSTART:20270314T070000
END:DAYLIGHT
BEGIN:STANDARD
TZOFFSETFROM:-0400
TZOFFSETTO:-0500
TZNAME:EST
DTSTART:20271107T060000
END:STANDARD
END:VTIMEZONE
BEGIN:VEVENT
DTSTART;TZID=America/New_York:20260706T130000
DTEND;TZID=America/New_York:20260706T150000
DTSTAMP:20260423T194747
CREATED:20260113T175431Z
LAST-MODIFIED:20260123T215934Z
UID:10007466-1783342800-1783350000@stjameshydepark.org
SUMMARY:Knit + Craft + Chat (Wilks Room)
DESCRIPTION:A community of crafters and conversationalists meets Mondays from 1-3 pm (drop-in)—at St. James’ Episcopal Church in the Wilks Room of our Parish House. We are a friendly group: knitters\, embroiderers\, crocheters\, conversationalists and miscellaneous other activities. All are welcome; no previous skill is required.
URL:https://stjameshydepark.org/event/knit-craft-chat-2026/2026-07-06/
LOCATION:St. James’ Episcopal Church\, 4526 Albany Post Rd.\, Hyde Park\, NY\, 12538\, United States
CATEGORIES:Fun
ATTACH;FMTTYPE=image/png:https://stjameshydepark.org/wp-content/uploads/2024/09/Knit-Craft-Chat.png
END:VEVENT
BEGIN:VEVENT
DTSTART;TZID=America/New_York:20260713T130000
DTEND;TZID=America/New_York:20260713T150000
DTSTAMP:20260423T194747
CREATED:20260113T175431Z
LAST-MODIFIED:20260123T215934Z
UID:10007467-1783947600-1783954800@stjameshydepark.org
SUMMARY:Knit + Craft + Chat (Wilks Room)
DESCRIPTION:A community of crafters and conversationalists meets Mondays from 1-3 pm (drop-in)—at St. James’ Episcopal Church in the Wilks Room of our Parish House. We are a friendly group: knitters\, embroiderers\, crocheters\, conversationalists and miscellaneous other activities. All are welcome; no previous skill is required.
URL:https://stjameshydepark.org/event/knit-craft-chat-2026/2026-07-13/
LOCATION:St. James’ Episcopal Church\, 4526 Albany Post Rd.\, Hyde Park\, NY\, 12538\, United States
CATEGORIES:Fun
ATTACH;FMTTYPE=image/png:https://stjameshydepark.org/wp-content/uploads/2024/09/Knit-Craft-Chat.png
END:VEVENT
BEGIN:VEVENT
DTSTART;TZID=America/New_York:20260720T130000
DTEND;TZID=America/New_York:20260720T150000
DTSTAMP:20260423T194747
CREATED:20260113T175431Z
LAST-MODIFIED:20260123T215934Z
UID:10007468-1784552400-1784559600@stjameshydepark.org
SUMMARY:Knit + Craft + Chat (Wilks Room)
DESCRIPTION:A community of crafters and conversationalists meets Mondays from 1-3 pm (drop-in)—at St. James’ Episcopal Church in the Wilks Room of our Parish House. We are a friendly group: knitters\, embroiderers\, crocheters\, conversationalists and miscellaneous other activities. All are welcome; no previous skill is required.
URL:https://stjameshydepark.org/event/knit-craft-chat-2026/2026-07-20/
LOCATION:St. James’ Episcopal Church\, 4526 Albany Post Rd.\, Hyde Park\, NY\, 12538\, United States
CATEGORIES:Fun
ATTACH;FMTTYPE=image/png:https://stjameshydepark.org/wp-content/uploads/2024/09/Knit-Craft-Chat.png
END:VEVENT
BEGIN:VEVENT
DTSTART;TZID=America/New_York:20260727T130000
DTEND;TZID=America/New_York:20260727T150000
DTSTAMP:20260423T194747
CREATED:20260113T175431Z
LAST-MODIFIED:20260123T215934Z
UID:10007469-1785157200-1785164400@stjameshydepark.org
SUMMARY:Knit + Craft + Chat (Wilks Room)
DESCRIPTION:A community of crafters and conversationalists meets Mondays from 1-3 pm (drop-in)—at St. James’ Episcopal Church in the Wilks Room of our Parish House. We are a friendly group: knitters\, embroiderers\, crocheters\, conversationalists and miscellaneous other activities. All are welcome; no previous skill is required.
URL:https://stjameshydepark.org/event/knit-craft-chat-2026/2026-07-27/
LOCATION:St. James’ Episcopal Church\, 4526 Albany Post Rd.\, Hyde Park\, NY\, 12538\, United States
CATEGORIES:Fun
ATTACH;FMTTYPE=image/png:https://stjameshydepark.org/wp-content/uploads/2024/09/Knit-Craft-Chat.png
END:VEVENT
BEGIN:VEVENT
DTSTART;TZID=America/New_York:20260803T130000
DTEND;TZID=America/New_York:20260803T150000
DTSTAMP:20260423T194747
CREATED:20260113T175431Z
LAST-MODIFIED:20260123T215934Z
UID:10007470-1785762000-1785769200@stjameshydepark.org
SUMMARY:Knit + Craft + Chat (Wilks Room)
DESCRIPTION:A community of crafters and conversationalists meets Mondays from 1-3 pm (drop-in)—at St. James’ Episcopal Church in the Wilks Room of our Parish House. We are a friendly group: knitters\, embroiderers\, crocheters\, conversationalists and miscellaneous other activities. All are welcome; no previous skill is required.
URL:https://stjameshydepark.org/event/knit-craft-chat-2026/2026-08-03/
LOCATION:St. James’ Episcopal Church\, 4526 Albany Post Rd.\, Hyde Park\, NY\, 12538\, United States
CATEGORIES:Fun
ATTACH;FMTTYPE=image/png:https://stjameshydepark.org/wp-content/uploads/2024/09/Knit-Craft-Chat.png
END:VEVENT
BEGIN:VEVENT
DTSTART;TZID=America/New_York:20260810T130000
DTEND;TZID=America/New_York:20260810T150000
DTSTAMP:20260423T194747
CREATED:20260113T175431Z
LAST-MODIFIED:20260123T215934Z
UID:10007471-1786366800-1786374000@stjameshydepark.org
SUMMARY:Knit + Craft + Chat (Wilks Room)
DESCRIPTION:A community of crafters and conversationalists meets Mondays from 1-3 pm (drop-in)—at St. James’ Episcopal Church in the Wilks Room of our Parish House. We are a friendly group: knitters\, embroiderers\, crocheters\, conversationalists and miscellaneous other activities. All are welcome; no previous skill is required.
URL:https://stjameshydepark.org/event/knit-craft-chat-2026/2026-08-10/
LOCATION:St. James’ Episcopal Church\, 4526 Albany Post Rd.\, Hyde Park\, NY\, 12538\, United States
CATEGORIES:Fun
ATTACH;FMTTYPE=image/png:https://stjameshydepark.org/wp-content/uploads/2024/09/Knit-Craft-Chat.png
END:VEVENT
BEGIN:VEVENT
DTSTART;TZID=America/New_York:20260817T130000
DTEND;TZID=America/New_York:20260817T150000
DTSTAMP:20260423T194747
CREATED:20260113T175431Z
LAST-MODIFIED:20260123T215934Z
UID:10007472-1786971600-1786978800@stjameshydepark.org
SUMMARY:Knit + Craft + Chat (Wilks Room)
DESCRIPTION:A community of crafters and conversationalists meets Mondays from 1-3 pm (drop-in)—at St. James’ Episcopal Church in the Wilks Room of our Parish House. We are a friendly group: knitters\, embroiderers\, crocheters\, conversationalists and miscellaneous other activities. All are welcome; no previous skill is required.
URL:https://stjameshydepark.org/event/knit-craft-chat-2026/2026-08-17/
LOCATION:St. James’ Episcopal Church\, 4526 Albany Post Rd.\, Hyde Park\, NY\, 12538\, United States
CATEGORIES:Fun
ATTACH;FMTTYPE=image/png:https://stjameshydepark.org/wp-content/uploads/2024/09/Knit-Craft-Chat.png
END:VEVENT
BEGIN:VEVENT
DTSTART;TZID=America/New_York:20260824T130000
DTEND;TZID=America/New_York:20260824T150000
DTSTAMP:20260423T194747
CREATED:20260113T175431Z
LAST-MODIFIED:20260123T215934Z
UID:10007473-1787576400-1787583600@stjameshydepark.org
SUMMARY:Knit + Craft + Chat (Wilks Room)
DESCRIPTION:A community of crafters and conversationalists meets Mondays from 1-3 pm (drop-in)—at St. James’ Episcopal Church in the Wilks Room of our Parish House. We are a friendly group: knitters\, embroiderers\, crocheters\, conversationalists and miscellaneous other activities. All are welcome; no previous skill is required.
URL:https://stjameshydepark.org/event/knit-craft-chat-2026/2026-08-24/
LOCATION:St. James’ Episcopal Church\, 4526 Albany Post Rd.\, Hyde Park\, NY\, 12538\, United States
CATEGORIES:Fun
ATTACH;FMTTYPE=image/png:https://stjameshydepark.org/wp-content/uploads/2024/09/Knit-Craft-Chat.png
END:VEVENT
BEGIN:VEVENT
DTSTART;TZID=America/New_York:20260831T130000
DTEND;TZID=America/New_York:20260831T150000
DTSTAMP:20260423T194747
CREATED:20260113T175431Z
LAST-MODIFIED:20260123T215934Z
UID:10007474-1788181200-1788188400@stjameshydepark.org
SUMMARY:Knit + Craft + Chat (Wilks Room)
DESCRIPTION:A community of crafters and conversationalists meets Mondays from 1-3 pm (drop-in)—at St. James’ Episcopal Church in the Wilks Room of our Parish House. We are a friendly group: knitters\, embroiderers\, crocheters\, conversationalists and miscellaneous other activities. All are welcome; no previous skill is required.
URL:https://stjameshydepark.org/event/knit-craft-chat-2026/2026-08-31/
LOCATION:St. James’ Episcopal Church\, 4526 Albany Post Rd.\, Hyde Park\, NY\, 12538\, United States
CATEGORIES:Fun
ATTACH;FMTTYPE=image/png:https://stjameshydepark.org/wp-content/uploads/2024/09/Knit-Craft-Chat.png
END:VEVENT
BEGIN:VEVENT
DTSTART;TZID=America/New_York:20260907T130000
DTEND;TZID=America/New_York:20260907T150000
DTSTAMP:20260423T194747
CREATED:20260113T175431Z
LAST-MODIFIED:20260123T215934Z
UID:10007475-1788786000-1788793200@stjameshydepark.org
SUMMARY:Knit + Craft + Chat (Wilks Room)
DESCRIPTION:A community of crafters and conversationalists meets Mondays from 1-3 pm (drop-in)—at St. James’ Episcopal Church in the Wilks Room of our Parish House. We are a friendly group: knitters\, embroiderers\, crocheters\, conversationalists and miscellaneous other activities. All are welcome; no previous skill is required.
URL:https://stjameshydepark.org/event/knit-craft-chat-2026/2026-09-07/
LOCATION:St. James’ Episcopal Church\, 4526 Albany Post Rd.\, Hyde Park\, NY\, 12538\, United States
CATEGORIES:Fun
ATTACH;FMTTYPE=image/png:https://stjameshydepark.org/wp-content/uploads/2024/09/Knit-Craft-Chat.png
END:VEVENT
BEGIN:VEVENT
DTSTART;TZID=America/New_York:20260914T130000
DTEND;TZID=America/New_York:20260914T150000
DTSTAMP:20260423T194747
CREATED:20260113T175431Z
LAST-MODIFIED:20260123T215934Z
UID:10007476-1789390800-1789398000@stjameshydepark.org
SUMMARY:Knit + Craft + Chat (Wilks Room)
DESCRIPTION:A community of crafters and conversationalists meets Mondays from 1-3 pm (drop-in)—at St. James’ Episcopal Church in the Wilks Room of our Parish House. We are a friendly group: knitters\, embroiderers\, crocheters\, conversationalists and miscellaneous other activities. All are welcome; no previous skill is required.
URL:https://stjameshydepark.org/event/knit-craft-chat-2026/2026-09-14/
LOCATION:St. James’ Episcopal Church\, 4526 Albany Post Rd.\, Hyde Park\, NY\, 12538\, United States
CATEGORIES:Fun
ATTACH;FMTTYPE=image/png:https://stjameshydepark.org/wp-content/uploads/2024/09/Knit-Craft-Chat.png
END:VEVENT
BEGIN:VEVENT
DTSTART;TZID=America/New_York:20260921T130000
DTEND;TZID=America/New_York:20260921T150000
DTSTAMP:20260423T194747
CREATED:20260113T175431Z
LAST-MODIFIED:20260123T215934Z
UID:10007477-1789995600-1790002800@stjameshydepark.org
SUMMARY:Knit + Craft + Chat (Wilks Room)
DESCRIPTION:A community of crafters and conversationalists meets Mondays from 1-3 pm (drop-in)—at St. James’ Episcopal Church in the Wilks Room of our Parish House. We are a friendly group: knitters\, embroiderers\, crocheters\, conversationalists and miscellaneous other activities. All are welcome; no previous skill is required.
URL:https://stjameshydepark.org/event/knit-craft-chat-2026/2026-09-21/
LOCATION:St. James’ Episcopal Church\, 4526 Albany Post Rd.\, Hyde Park\, NY\, 12538\, United States
CATEGORIES:Fun
ATTACH;FMTTYPE=image/png:https://stjameshydepark.org/wp-content/uploads/2024/09/Knit-Craft-Chat.png
END:VEVENT
BEGIN:VEVENT
DTSTART;TZID=America/New_York:20260928T130000
DTEND;TZID=America/New_York:20260928T150000
DTSTAMP:20260423T194747
CREATED:20260113T175431Z
LAST-MODIFIED:20260123T215934Z
UID:10007478-1790600400-1790607600@stjameshydepark.org
SUMMARY:Knit + Craft + Chat (Wilks Room)
DESCRIPTION:A community of crafters and conversationalists meets Mondays from 1-3 pm (drop-in)—at St. James’ Episcopal Church in the Wilks Room of our Parish House. We are a friendly group: knitters\, embroiderers\, crocheters\, conversationalists and miscellaneous other activities. All are welcome; no previous skill is required.
URL:https://stjameshydepark.org/event/knit-craft-chat-2026/2026-09-28/
LOCATION:St. James’ Episcopal Church\, 4526 Albany Post Rd.\, Hyde Park\, NY\, 12538\, United States
CATEGORIES:Fun
ATTACH;FMTTYPE=image/png:https://stjameshydepark.org/wp-content/uploads/2024/09/Knit-Craft-Chat.png
END:VEVENT
BEGIN:VEVENT
DTSTART;TZID=America/New_York:20261005T130000
DTEND;TZID=America/New_York:20261005T150000
DTSTAMP:20260423T194747
CREATED:20260113T175431Z
LAST-MODIFIED:20260123T215934Z
UID:10007479-1791205200-1791212400@stjameshydepark.org
SUMMARY:Knit + Craft + Chat (Wilks Room)
DESCRIPTION:A community of crafters and conversationalists meets Mondays from 1-3 pm (drop-in)—at St. James’ Episcopal Church in the Wilks Room of our Parish House. We are a friendly group: knitters\, embroiderers\, crocheters\, conversationalists and miscellaneous other activities. All are welcome; no previous skill is required.
URL:https://stjameshydepark.org/event/knit-craft-chat-2026/2026-10-05/
LOCATION:St. James’ Episcopal Church\, 4526 Albany Post Rd.\, Hyde Park\, NY\, 12538\, United States
CATEGORIES:Fun
ATTACH;FMTTYPE=image/png:https://stjameshydepark.org/wp-content/uploads/2024/09/Knit-Craft-Chat.png
END:VEVENT
BEGIN:VEVENT
DTSTART;TZID=America/New_York:20261012T130000
DTEND;TZID=America/New_York:20261012T150000
DTSTAMP:20260423T194747
CREATED:20260113T175431Z
LAST-MODIFIED:20260123T215934Z
UID:10007480-1791810000-1791817200@stjameshydepark.org
SUMMARY:Knit + Craft + Chat (Wilks Room)
DESCRIPTION:A community of crafters and conversationalists meets Mondays from 1-3 pm (drop-in)—at St. James’ Episcopal Church in the Wilks Room of our Parish House. We are a friendly group: knitters\, embroiderers\, crocheters\, conversationalists and miscellaneous other activities. All are welcome; no previous skill is required.
URL:https://stjameshydepark.org/event/knit-craft-chat-2026/2026-10-12/
LOCATION:St. James’ Episcopal Church\, 4526 Albany Post Rd.\, Hyde Park\, NY\, 12538\, United States
CATEGORIES:Fun
ATTACH;FMTTYPE=image/png:https://stjameshydepark.org/wp-content/uploads/2024/09/Knit-Craft-Chat.png
END:VEVENT
BEGIN:VEVENT
DTSTART;TZID=America/New_York:20261019T130000
DTEND;TZID=America/New_York:20261019T150000
DTSTAMP:20260423T194747
CREATED:20260113T175431Z
LAST-MODIFIED:20260123T215934Z
UID:10007481-1792414800-1792422000@stjameshydepark.org
SUMMARY:Knit + Craft + Chat (Wilks Room)
DESCRIPTION:A community of crafters and conversationalists meets Mondays from 1-3 pm (drop-in)—at St. James’ Episcopal Church in the Wilks Room of our Parish House. We are a friendly group: knitters\, embroiderers\, crocheters\, conversationalists and miscellaneous other activities. All are welcome; no previous skill is required.
URL:https://stjameshydepark.org/event/knit-craft-chat-2026/2026-10-19/
LOCATION:St. James’ Episcopal Church\, 4526 Albany Post Rd.\, Hyde Park\, NY\, 12538\, United States
CATEGORIES:Fun
ATTACH;FMTTYPE=image/png:https://stjameshydepark.org/wp-content/uploads/2024/09/Knit-Craft-Chat.png
END:VEVENT
BEGIN:VEVENT
DTSTART;TZID=America/New_York:20261026T130000
DTEND;TZID=America/New_York:20261026T150000
DTSTAMP:20260423T194747
CREATED:20260113T175431Z
LAST-MODIFIED:20260123T215934Z
UID:10007482-1793019600-1793026800@stjameshydepark.org
SUMMARY:Knit + Craft + Chat (Wilks Room)
DESCRIPTION:A community of crafters and conversationalists meets Mondays from 1-3 pm (drop-in)—at St. James’ Episcopal Church in the Wilks Room of our Parish House. We are a friendly group: knitters\, embroiderers\, crocheters\, conversationalists and miscellaneous other activities. All are welcome; no previous skill is required.
URL:https://stjameshydepark.org/event/knit-craft-chat-2026/2026-10-26/
LOCATION:St. James’ Episcopal Church\, 4526 Albany Post Rd.\, Hyde Park\, NY\, 12538\, United States
CATEGORIES:Fun
ATTACH;FMTTYPE=image/png:https://stjameshydepark.org/wp-content/uploads/2024/09/Knit-Craft-Chat.png
END:VEVENT
BEGIN:VEVENT
DTSTART;TZID=America/New_York:20261102T130000
DTEND;TZID=America/New_York:20261102T150000
DTSTAMP:20260423T194747
CREATED:20260113T175431Z
LAST-MODIFIED:20260123T215934Z
UID:10007483-1793624400-1793631600@stjameshydepark.org
SUMMARY:Knit + Craft + Chat (Wilks Room)
DESCRIPTION:A community of crafters and conversationalists meets Mondays from 1-3 pm (drop-in)—at St. James’ Episcopal Church in the Wilks Room of our Parish House. We are a friendly group: knitters\, embroiderers\, crocheters\, conversationalists and miscellaneous other activities. All are welcome; no previous skill is required.
URL:https://stjameshydepark.org/event/knit-craft-chat-2026/2026-11-02/
LOCATION:St. James’ Episcopal Church\, 4526 Albany Post Rd.\, Hyde Park\, NY\, 12538\, United States
CATEGORIES:Fun
ATTACH;FMTTYPE=image/png:https://stjameshydepark.org/wp-content/uploads/2024/09/Knit-Craft-Chat.png
END:VEVENT
BEGIN:VEVENT
DTSTART;TZID=America/New_York:20261109T130000
DTEND;TZID=America/New_York:20261109T150000
DTSTAMP:20260423T194747
CREATED:20260113T175431Z
LAST-MODIFIED:20260123T215934Z
UID:10007484-1794229200-1794236400@stjameshydepark.org
SUMMARY:Knit + Craft + Chat (Wilks Room)
DESCRIPTION:A community of crafters and conversationalists meets Mondays from 1-3 pm (drop-in)—at St. James’ Episcopal Church in the Wilks Room of our Parish House. We are a friendly group: knitters\, embroiderers\, crocheters\, conversationalists and miscellaneous other activities. All are welcome; no previous skill is required.
URL:https://stjameshydepark.org/event/knit-craft-chat-2026/2026-11-09/
LOCATION:St. James’ Episcopal Church\, 4526 Albany Post Rd.\, Hyde Park\, NY\, 12538\, United States
CATEGORIES:Fun
ATTACH;FMTTYPE=image/png:https://stjameshydepark.org/wp-content/uploads/2024/09/Knit-Craft-Chat.png
END:VEVENT
BEGIN:VEVENT
DTSTART;TZID=America/New_York:20261116T130000
DTEND;TZID=America/New_York:20261116T150000
DTSTAMP:20260423T194747
CREATED:20260113T175431Z
LAST-MODIFIED:20260123T215934Z
UID:10007485-1794834000-1794841200@stjameshydepark.org
SUMMARY:Knit + Craft + Chat (Wilks Room)
DESCRIPTION:A community of crafters and conversationalists meets Mondays from 1-3 pm (drop-in)—at St. James’ Episcopal Church in the Wilks Room of our Parish House. We are a friendly group: knitters\, embroiderers\, crocheters\, conversationalists and miscellaneous other activities. All are welcome; no previous skill is required.
URL:https://stjameshydepark.org/event/knit-craft-chat-2026/2026-11-16/
LOCATION:St. James’ Episcopal Church\, 4526 Albany Post Rd.\, Hyde Park\, NY\, 12538\, United States
CATEGORIES:Fun
ATTACH;FMTTYPE=image/png:https://stjameshydepark.org/wp-content/uploads/2024/09/Knit-Craft-Chat.png
END:VEVENT
BEGIN:VEVENT
DTSTART;TZID=America/New_York:20261123T130000
DTEND;TZID=America/New_York:20261123T150000
DTSTAMP:20260423T194747
CREATED:20260113T175431Z
LAST-MODIFIED:20260123T215934Z
UID:10007486-1795438800-1795446000@stjameshydepark.org
SUMMARY:Knit + Craft + Chat (Wilks Room)
DESCRIPTION:A community of crafters and conversationalists meets Mondays from 1-3 pm (drop-in)—at St. James’ Episcopal Church in the Wilks Room of our Parish House. We are a friendly group: knitters\, embroiderers\, crocheters\, conversationalists and miscellaneous other activities. All are welcome; no previous skill is required.
URL:https://stjameshydepark.org/event/knit-craft-chat-2026/2026-11-23/
LOCATION:St. James’ Episcopal Church\, 4526 Albany Post Rd.\, Hyde Park\, NY\, 12538\, United States
CATEGORIES:Fun
ATTACH;FMTTYPE=image/png:https://stjameshydepark.org/wp-content/uploads/2024/09/Knit-Craft-Chat.png
END:VEVENT
BEGIN:VEVENT
DTSTART;TZID=America/New_York:20261130T130000
DTEND;TZID=America/New_York:20261130T150000
DTSTAMP:20260423T194747
CREATED:20260113T175431Z
LAST-MODIFIED:20260123T215934Z
UID:10007487-1796043600-1796050800@stjameshydepark.org
SUMMARY:Knit + Craft + Chat (Wilks Room)
DESCRIPTION:A community of crafters and conversationalists meets Mondays from 1-3 pm (drop-in)—at St. James’ Episcopal Church in the Wilks Room of our Parish House. We are a friendly group: knitters\, embroiderers\, crocheters\, conversationalists and miscellaneous other activities. All are welcome; no previous skill is required.
URL:https://stjameshydepark.org/event/knit-craft-chat-2026/2026-11-30/
LOCATION:St. James’ Episcopal Church\, 4526 Albany Post Rd.\, Hyde Park\, NY\, 12538\, United States
CATEGORIES:Fun
ATTACH;FMTTYPE=image/png:https://stjameshydepark.org/wp-content/uploads/2024/09/Knit-Craft-Chat.png
END:VEVENT
BEGIN:VEVENT
DTSTART;TZID=America/New_York:20261207T130000
DTEND;TZID=America/New_York:20261207T150000
DTSTAMP:20260423T194747
CREATED:20260113T175431Z
LAST-MODIFIED:20260123T215934Z
UID:10007488-1796648400-1796655600@stjameshydepark.org
SUMMARY:Knit + Craft + Chat (Wilks Room)
DESCRIPTION:A community of crafters and conversationalists meets Mondays from 1-3 pm (drop-in)—at St. James’ Episcopal Church in the Wilks Room of our Parish House. We are a friendly group: knitters\, embroiderers\, crocheters\, conversationalists and miscellaneous other activities. All are welcome; no previous skill is required.
URL:https://stjameshydepark.org/event/knit-craft-chat-2026/2026-12-07/
LOCATION:St. James’ Episcopal Church\, 4526 Albany Post Rd.\, Hyde Park\, NY\, 12538\, United States
CATEGORIES:Fun
ATTACH;FMTTYPE=image/png:https://stjameshydepark.org/wp-content/uploads/2024/09/Knit-Craft-Chat.png
END:VEVENT
BEGIN:VEVENT
DTSTART;TZID=America/New_York:20261214T130000
DTEND;TZID=America/New_York:20261214T150000
DTSTAMP:20260423T194747
CREATED:20260113T175431Z
LAST-MODIFIED:20260123T215934Z
UID:10007489-1797253200-1797260400@stjameshydepark.org
SUMMARY:Knit + Craft + Chat (Wilks Room)
DESCRIPTION:A community of crafters and conversationalists meets Mondays from 1-3 pm (drop-in)—at St. James’ Episcopal Church in the Wilks Room of our Parish House. We are a friendly group: knitters\, embroiderers\, crocheters\, conversationalists and miscellaneous other activities. All are welcome; no previous skill is required.
URL:https://stjameshydepark.org/event/knit-craft-chat-2026/2026-12-14/
LOCATION:St. James’ Episcopal Church\, 4526 Albany Post Rd.\, Hyde Park\, NY\, 12538\, United States
CATEGORIES:Fun
ATTACH;FMTTYPE=image/png:https://stjameshydepark.org/wp-content/uploads/2024/09/Knit-Craft-Chat.png
END:VEVENT
BEGIN:VEVENT
DTSTART;TZID=America/New_York:20261221T130000
DTEND;TZID=America/New_York:20261221T150000
DTSTAMP:20260423T194747
CREATED:20260113T175431Z
LAST-MODIFIED:20260123T215934Z
UID:10007490-1797858000-1797865200@stjameshydepark.org
SUMMARY:Knit + Craft + Chat (Wilks Room)
DESCRIPTION:A community of crafters and conversationalists meets Mondays from 1-3 pm (drop-in)—at St. James’ Episcopal Church in the Wilks Room of our Parish House. We are a friendly group: knitters\, embroiderers\, crocheters\, conversationalists and miscellaneous other activities. All are welcome; no previous skill is required.
URL:https://stjameshydepark.org/event/knit-craft-chat-2026/2026-12-21/
LOCATION:St. James’ Episcopal Church\, 4526 Albany Post Rd.\, Hyde Park\, NY\, 12538\, United States
CATEGORIES:Fun
ATTACH;FMTTYPE=image/png:https://stjameshydepark.org/wp-content/uploads/2024/09/Knit-Craft-Chat.png
END:VEVENT
BEGIN:VEVENT
DTSTART;TZID=America/New_York:20261228T130000
DTEND;TZID=America/New_York:20261228T150000
DTSTAMP:20260423T194747
CREATED:20260113T175431Z
LAST-MODIFIED:20260123T215934Z
UID:10007491-1798462800-1798470000@stjameshydepark.org
SUMMARY:Knit + Craft + Chat (Wilks Room)
DESCRIPTION:A community of crafters and conversationalists meets Mondays from 1-3 pm (drop-in)—at St. James’ Episcopal Church in the Wilks Room of our Parish House. We are a friendly group: knitters\, embroiderers\, crocheters\, conversationalists and miscellaneous other activities. All are welcome; no previous skill is required.
URL:https://stjameshydepark.org/event/knit-craft-chat-2026/2026-12-28/
LOCATION:St. James’ Episcopal Church\, 4526 Albany Post Rd.\, Hyde Park\, NY\, 12538\, United States
CATEGORIES:Fun
ATTACH;FMTTYPE=image/png:https://stjameshydepark.org/wp-content/uploads/2024/09/Knit-Craft-Chat.png
END:VEVENT
END:VCALENDAR