BEGIN:VCALENDAR
VERSION:2.0
PRODID:-//St. James&#039; Episcopal Church - ECPv6.15.20//NONSGML v1.0//EN
CALSCALE:GREGORIAN
METHOD:PUBLISH
X-WR-CALNAME:St. James&#039; Episcopal Church
X-ORIGINAL-URL:https://stjameshydepark.org
X-WR-CALDESC:Events for St. James&#039; Episcopal Church
REFRESH-INTERVAL;VALUE=DURATION:PT1H
X-Robots-Tag:noindex
X-PUBLISHED-TTL:PT1H
BEGIN:VTIMEZONE
TZID:America/New_York
BEGIN:DAYLIGHT
TZOFFSETFROM:-0500
TZOFFSETTO:-0400
TZNAME:EDT
DTSTART:20220313T070000
END:DAYLIGHT
BEGIN:STANDARD
TZOFFSETFROM:-0400
TZOFFSETTO:-0500
TZNAME:EST
DTSTART:20221106T060000
END:STANDARD
BEGIN:DAYLIGHT
TZOFFSETFROM:-0500
TZOFFSETTO:-0400
TZNAME:EDT
DTSTART:20230312T070000
END:DAYLIGHT
BEGIN:STANDARD
TZOFFSETFROM:-0400
TZOFFSETTO:-0500
TZNAME:EST
DTSTART:20231105T060000
END:STANDARD
BEGIN:DAYLIGHT
TZOFFSETFROM:-0500
TZOFFSETTO:-0400
TZNAME:EDT
DTSTART:20240310T070000
END:DAYLIGHT
BEGIN:STANDARD
TZOFFSETFROM:-0400
TZOFFSETTO:-0500
TZNAME:EST
DTSTART:20241103T060000
END:STANDARD
BEGIN:DAYLIGHT
TZOFFSETFROM:-0500
TZOFFSETTO:-0400
TZNAME:EDT
DTSTART:20250309T070000
END:DAYLIGHT
BEGIN:STANDARD
TZOFFSETFROM:-0400
TZOFFSETTO:-0500
TZNAME:EST
DTSTART:20251102T060000
END:STANDARD
END:VTIMEZONE
BEGIN:VEVENT
DTSTART;TZID=America/New_York:20240513T140000
DTEND;TZID=America/New_York:20240513T160000
DTSTAMP:20260424T065943
CREATED:20240112T141137Z
LAST-MODIFIED:20241009T191510Z
UID:10002915-1715608800-1715616000@stjameshydepark.org
SUMMARY:Knitters and Crafters Group (Wilks Room)
DESCRIPTION:A New Group! A community of crafters begins on Mondays starting February 5\, from 2- 4 pm (drop-in). \nAll are welcome: knitters\, crocheters\, embroiderers\, crocheters\, conversationalists and miscellaneous other activities. No particular talent required. Meet in the Wilks Room at St. James Parish Hall.
URL:https://stjameshydepark.org/event/knitters-crafters/2024-05-13/
LOCATION:St. James’ Episcopal Church\, 4526 Albany Post Rd.\, Hyde Park\, NY\, 12538\, United States
CATEGORIES:Fun
END:VEVENT
BEGIN:VEVENT
DTSTART;TZID=America/New_York:20240511T120000
DTEND;TZID=America/New_York:20240511T163000
DTSTAMP:20260424T065943
CREATED:20240206T143554Z
LAST-MODIFIED:20240403T171550Z
UID:10003455-1715428800-1715445000@stjameshydepark.org
SUMMARY:Mother's Day Tea (Parish Hall\, Kitchen)
DESCRIPTION:St. James’ Episcopal Church presents “A Mother’s Day Tea Party” with four-course luncheon and light entertainment.  \nTwo seatings on Saturday\, May 11th: noon and 3:00 p.m. $25 per person.  \nCelebrate with your mother\, sister\, daughter\, or best friend in a special way at a special place.  \nReservations are required; please call Dyan in the Church Office at 845-229-2820.
URL:https://stjameshydepark.org/event/mothers-day-tea-parish-hall-kitchen/
LOCATION:St. James’ Episcopal Church\, 4526 Albany Post Rd.\, Hyde Park\, NY\, 12538\, United States
CATEGORIES:Fun,Outreach
ATTACH;FMTTYPE=image/png:https://stjameshydepark.org/wp-content/uploads/2024/02/Mothers-Day-Tea-Party.png
END:VEVENT
BEGIN:VEVENT
DTSTART;TZID=America/New_York:20240506T140000
DTEND;TZID=America/New_York:20240506T160000
DTSTAMP:20260424T065943
CREATED:20240112T141137Z
LAST-MODIFIED:20241009T191510Z
UID:10002914-1715004000-1715011200@stjameshydepark.org
SUMMARY:Knitters and Crafters Group (Wilks Room)
DESCRIPTION:A New Group! A community of crafters begins on Mondays starting February 5\, from 2- 4 pm (drop-in). \nAll are welcome: knitters\, crocheters\, embroiderers\, crocheters\, conversationalists and miscellaneous other activities. No particular talent required. Meet in the Wilks Room at St. James Parish Hall.
URL:https://stjameshydepark.org/event/knitters-crafters/2024-05-06/
LOCATION:St. James’ Episcopal Church\, 4526 Albany Post Rd.\, Hyde Park\, NY\, 12538\, United States
CATEGORIES:Fun
END:VEVENT
BEGIN:VEVENT
DTSTART;TZID=America/New_York:20240429T140000
DTEND;TZID=America/New_York:20240429T160000
DTSTAMP:20260424T065943
CREATED:20240112T141137Z
LAST-MODIFIED:20241009T191510Z
UID:10002913-1714399200-1714406400@stjameshydepark.org
SUMMARY:Knitters and Crafters Group (Wilks Room)
DESCRIPTION:A New Group! A community of crafters begins on Mondays starting February 5\, from 2- 4 pm (drop-in). \nAll are welcome: knitters\, crocheters\, embroiderers\, crocheters\, conversationalists and miscellaneous other activities. No particular talent required. Meet in the Wilks Room at St. James Parish Hall.
URL:https://stjameshydepark.org/event/knitters-crafters/2024-04-29/
LOCATION:St. James’ Episcopal Church\, 4526 Albany Post Rd.\, Hyde Park\, NY\, 12538\, United States
CATEGORIES:Fun
END:VEVENT
BEGIN:VEVENT
DTSTART;TZID=America/New_York:20240422T180000
DTEND;TZID=America/New_York:20240422T193000
DTSTAMP:20260424T065943
CREATED:20240322T123601Z
LAST-MODIFIED:20240322T123601Z
UID:10003630-1713808800-1713814200@stjameshydepark.org
SUMMARY:Men's Gathering (Antonella's Restaurant)
DESCRIPTION:All welcome! Join in Monday\, April 22nd at 6 pm in the back room of Antonella’s Restaurant. Questions? Please see Joe Gasparini (call/text 845-475-4717) or Mike Glancey.
URL:https://stjameshydepark.org/event/mens-gathering-2024-apr/
LOCATION:Antonella’s Restaurant\, Hyde Park\, NY\, 4246 Albany Post Rd #1700\, Hyde Park\, NY\, 12538\, United States
CATEGORIES:Fun
END:VEVENT
BEGIN:VEVENT
DTSTART;TZID=America/New_York:20240422T140000
DTEND;TZID=America/New_York:20240422T160000
DTSTAMP:20260424T065943
CREATED:20240112T141137Z
LAST-MODIFIED:20241009T191510Z
UID:10002912-1713794400-1713801600@stjameshydepark.org
SUMMARY:Knitters and Crafters Group (Wilks Room)
DESCRIPTION:A New Group! A community of crafters begins on Mondays starting February 5\, from 2- 4 pm (drop-in). \nAll are welcome: knitters\, crocheters\, embroiderers\, crocheters\, conversationalists and miscellaneous other activities. No particular talent required. Meet in the Wilks Room at St. James Parish Hall.
URL:https://stjameshydepark.org/event/knitters-crafters/2024-04-22/
LOCATION:St. James’ Episcopal Church\, 4526 Albany Post Rd.\, Hyde Park\, NY\, 12538\, United States
CATEGORIES:Fun
END:VEVENT
BEGIN:VEVENT
DTSTART;TZID=America/New_York:20240415T140000
DTEND;TZID=America/New_York:20240415T160000
DTSTAMP:20260424T065943
CREATED:20240415T114824Z
LAST-MODIFIED:20240415T114834Z
UID:10002911-1713189600-1713196800@stjameshydepark.org
SUMMARY:Knitters and Crafters Group (Parish Hall)
DESCRIPTION:A New Group! A community of crafters begins on Mondays starting February 5\, from 2- 4 pm (drop-in). \nAll are welcome: knitters\, crocheters\, embroiderers\, crocheters\, conversationalists and miscellaneous other activities. No particular talent required. Meet in the Wilks Room at St. James Parish Hall.
URL:https://stjameshydepark.org/event/knitters-crafters-2/
LOCATION:St. James’ Episcopal Church\, 4526 Albany Post Rd.\, Hyde Park\, NY\, 12538\, United States
CATEGORIES:Fun
END:VEVENT
BEGIN:VEVENT
DTSTART;TZID=America/New_York:20240414T130000
DTEND;TZID=America/New_York:20240414T143000
DTSTAMP:20260424T065943
CREATED:20240218T204537Z
LAST-MODIFIED:20240218T204537Z
UID:10003583-1713099600-1713105000@stjameshydepark.org
SUMMARY:Sunday School Visit to the Dutchess SPCA!
DESCRIPTION:On Sunday\, April 14th at 1 pm\, the St. James’ Sunday School will take a tour of the Dutchess County SPCA! We’ll have pizza together after church before we head over to visit and meet the animals.
URL:https://stjameshydepark.org/event/sunday-school-visit-to-the-dutchess-spca/
LOCATION:St. James’ Episcopal Church\, 4526 Albany Post Rd.\, Hyde Park\, NY\, 12538\, United States
CATEGORIES:Fun,Kids & Youth
END:VEVENT
BEGIN:VEVENT
DTSTART;TZID=America/New_York:20240408T140000
DTEND;TZID=America/New_York:20240408T160000
DTSTAMP:20260424T065943
CREATED:20240112T141137Z
LAST-MODIFIED:20241009T191510Z
UID:10002910-1712584800-1712592000@stjameshydepark.org
SUMMARY:Knitters and Crafters Group (Wilks Room)
DESCRIPTION:A New Group! A community of crafters begins on Mondays starting February 5\, from 2- 4 pm (drop-in). \nAll are welcome: knitters\, crocheters\, embroiderers\, crocheters\, conversationalists and miscellaneous other activities. No particular talent required. Meet in the Wilks Room at St. James Parish Hall.
URL:https://stjameshydepark.org/event/knitters-crafters/2024-04-08/
LOCATION:St. James’ Episcopal Church\, 4526 Albany Post Rd.\, Hyde Park\, NY\, 12538\, United States
CATEGORIES:Fun
END:VEVENT
BEGIN:VEVENT
DTSTART;TZID=America/New_York:20240401T140000
DTEND;TZID=America/New_York:20240401T160000
DTSTAMP:20260424T065943
CREATED:20240112T141137Z
LAST-MODIFIED:20241009T191510Z
UID:10002909-1711980000-1711987200@stjameshydepark.org
SUMMARY:Knitters and Crafters Group (Wilks Room)
DESCRIPTION:A New Group! A community of crafters begins on Mondays starting February 5\, from 2- 4 pm (drop-in). \nAll are welcome: knitters\, crocheters\, embroiderers\, crocheters\, conversationalists and miscellaneous other activities. No particular talent required. Meet in the Wilks Room at St. James Parish Hall.
URL:https://stjameshydepark.org/event/knitters-crafters/2024-04-01/
LOCATION:St. James’ Episcopal Church\, 4526 Albany Post Rd.\, Hyde Park\, NY\, 12538\, United States
CATEGORIES:Fun
END:VEVENT
BEGIN:VEVENT
DTSTART;TZID=America/New_York:20240325T140000
DTEND;TZID=America/New_York:20240325T160000
DTSTAMP:20260424T065943
CREATED:20240112T141137Z
LAST-MODIFIED:20241009T191510Z
UID:10002908-1711375200-1711382400@stjameshydepark.org
SUMMARY:Knitters and Crafters Group (Wilks Room)
DESCRIPTION:A New Group! A community of crafters begins on Mondays starting February 5\, from 2- 4 pm (drop-in). \nAll are welcome: knitters\, crocheters\, embroiderers\, crocheters\, conversationalists and miscellaneous other activities. No particular talent required. Meet in the Wilks Room at St. James Parish Hall.
URL:https://stjameshydepark.org/event/knitters-crafters/2024-03-25/
LOCATION:St. James’ Episcopal Church\, 4526 Albany Post Rd.\, Hyde Park\, NY\, 12538\, United States
CATEGORIES:Fun
END:VEVENT
BEGIN:VEVENT
DTSTART;TZID=America/New_York:20240319T190000
DTEND;TZID=America/New_York:20240319T200000
DTSTAMP:20260424T065943
CREATED:20240315T143824Z
LAST-MODIFIED:20240315T143825Z
UID:10003382-1710874800-1710878400@stjameshydepark.org
SUMMARY:Hyde Park Historical Society Presents: Ralph Osterhoudt shares stories of his life (Chapel)
DESCRIPTION:Tuesday\, March 19th at 7 pm\, join the Hyde Park Historical Society in our historic Chapel for a special presentation from Hyde Park resident Ralph Osterhoudt. \nLearn a bit about \n\nRalph’s childhood in a big family on a small farm on South Cross Road\nWorking on the Hughes Farm (where the FDR High School is now)\nAttending Staatsburg School (now owned by the Taconic Park Commission)\nRiding his bicycle to sit at the WW II airplane observation post (on the hill not too far from the Hilltop Deli)\nWW II combat experiences\nAttending Electrician School at Biaritz\, France after the war
URL:https://stjameshydepark.org/event/hphs-osterhoudt/
LOCATION:St. James’ Chapel\, 10 East Market Street\, Hyde Park\, NY\, 12567\, United States
CATEGORIES:Fun,Outreach
END:VEVENT
BEGIN:VEVENT
DTSTART;TZID=America/New_York:20240318T180000
DTEND;TZID=America/New_York:20240318T193000
DTSTAMP:20260424T065943
CREATED:20240301T152608Z
LAST-MODIFIED:20240312T140610Z
UID:10003589-1710784800-1710790200@stjameshydepark.org
SUMMARY:Men's Gathering (Antonella's Restaurant)
DESCRIPTION:All welcome! Join in Monday\, March 18th at 6 pm in the back room of Antonella’s Restaurant. Questions? Please see Joe Gasparini (call/text 845-475-4717) or Mike Glancey.
URL:https://stjameshydepark.org/event/mens-gathering-2024-mar/
LOCATION:Antonella’s Restaurant\, Hyde Park\, NY\, 4246 Albany Post Rd #1700\, Hyde Park\, NY\, 12538\, United States
CATEGORIES:Fun
END:VEVENT
BEGIN:VEVENT
DTSTART;TZID=America/New_York:20240318T140000
DTEND;TZID=America/New_York:20240318T160000
DTSTAMP:20260424T065943
CREATED:20240112T141137Z
LAST-MODIFIED:20241009T191510Z
UID:10002907-1710770400-1710777600@stjameshydepark.org
SUMMARY:Knitters and Crafters Group (Wilks Room)
DESCRIPTION:A New Group! A community of crafters begins on Mondays starting February 5\, from 2- 4 pm (drop-in). \nAll are welcome: knitters\, crocheters\, embroiderers\, crocheters\, conversationalists and miscellaneous other activities. No particular talent required. Meet in the Wilks Room at St. James Parish Hall.
URL:https://stjameshydepark.org/event/knitters-crafters/2024-03-18/
LOCATION:St. James’ Episcopal Church\, 4526 Albany Post Rd.\, Hyde Park\, NY\, 12538\, United States
CATEGORIES:Fun
END:VEVENT
BEGIN:VEVENT
DTSTART;TZID=America/New_York:20240317T113000
DTEND;TZID=America/New_York:20240317T140000
DTSTAMP:20260424T065943
CREATED:20240315T130309Z
LAST-MODIFIED:20240315T130309Z
UID:10003601-1710675000-1710684000@stjameshydepark.org
SUMMARY:St. Patrick's Day Games (Parish Hall)
DESCRIPTION:Join us for an afternoon of St. Patrick’s Day Games in the Parish Hall this Sunday\, March 17th after the 10 am service.  \nSponsored by the Sunday School—all ages welcome!  \nWe’ll have all kinds of games like Bingo\,Uno\, Left-Right-Center\, card games\, board games… And you can bring a game of your own that you’d like to play!! \nIt’s all about spending time together and having fun!!!
URL:https://stjameshydepark.org/event/st-patricks-day-games-parish-hall/
LOCATION:St. James’ Episcopal Church\, 4526 Albany Post Rd.\, Hyde Park\, NY\, 12538\, United States
CATEGORIES:Fun,Kids & Youth
END:VEVENT
BEGIN:VEVENT
DTSTART;TZID=America/New_York:20240317T090000
DTEND;TZID=America/New_York:20240317T100000
DTSTAMP:20260424T065943
CREATED:20240117T152356Z
LAST-MODIFIED:20240118T114853Z
UID:10003338-1710666000-1710669600@stjameshydepark.org
SUMMARY:Lenten Breakfast (Parish Hall)
DESCRIPTION:Sundays in Lent are little feasts—let’s break our fasts together with our beloved Lenten Breakfasts! \nJoin us in the Parish Hall for a delicious hot breakfast and good company at 9 am on Sundays in Lent\, February 25th through March 17th. There will be no Coffee Hour after the 10 am service on these Sundays. \nThanks to the Vestry and other volunteers for sponsoring these breafkasts!
URL:https://stjameshydepark.org/event/lenten-breakfast-parish-hall-2/2024-03-17/
LOCATION:St. James’ Episcopal Church\, 4526 Albany Post Rd.\, Hyde Park\, NY\, 12538\, United States
CATEGORIES:Fun
ATTACH;FMTTYPE=image/png:https://stjameshydepark.org/wp-content/uploads/2024/01/Lenten-Breakfasts-2024.png
END:VEVENT
BEGIN:VEVENT
DTSTART;TZID=America/New_York:20240311T140000
DTEND;TZID=America/New_York:20240311T160000
DTSTAMP:20260424T065943
CREATED:20240112T141137Z
LAST-MODIFIED:20241009T191510Z
UID:10002906-1710165600-1710172800@stjameshydepark.org
SUMMARY:Knitters and Crafters Group (Wilks Room)
DESCRIPTION:A New Group! A community of crafters begins on Mondays starting February 5\, from 2- 4 pm (drop-in). \nAll are welcome: knitters\, crocheters\, embroiderers\, crocheters\, conversationalists and miscellaneous other activities. No particular talent required. Meet in the Wilks Room at St. James Parish Hall.
URL:https://stjameshydepark.org/event/knitters-crafters/2024-03-11/
LOCATION:St. James’ Episcopal Church\, 4526 Albany Post Rd.\, Hyde Park\, NY\, 12538\, United States
CATEGORIES:Fun
END:VEVENT
BEGIN:VEVENT
DTSTART;TZID=America/New_York:20240310T090000
DTEND;TZID=America/New_York:20240310T100000
DTSTAMP:20260424T065943
CREATED:20240117T152356Z
LAST-MODIFIED:20240118T114853Z
UID:10003337-1710061200-1710064800@stjameshydepark.org
SUMMARY:Lenten Breakfast (Parish Hall)
DESCRIPTION:Sundays in Lent are little feasts—let’s break our fasts together with our beloved Lenten Breakfasts! \nJoin us in the Parish Hall for a delicious hot breakfast and good company at 9 am on Sundays in Lent\, February 25th through March 17th. There will be no Coffee Hour after the 10 am service on these Sundays. \nThanks to the Vestry and other volunteers for sponsoring these breafkasts!
URL:https://stjameshydepark.org/event/lenten-breakfast-parish-hall-2/2024-03-10/
LOCATION:St. James’ Episcopal Church\, 4526 Albany Post Rd.\, Hyde Park\, NY\, 12538\, United States
CATEGORIES:Fun
ATTACH;FMTTYPE=image/png:https://stjameshydepark.org/wp-content/uploads/2024/01/Lenten-Breakfasts-2024.png
END:VEVENT
BEGIN:VEVENT
DTSTART;TZID=America/New_York:20240304T140000
DTEND;TZID=America/New_York:20240304T160000
DTSTAMP:20260424T065943
CREATED:20240112T141137Z
LAST-MODIFIED:20241009T191510Z
UID:10002905-1709560800-1709568000@stjameshydepark.org
SUMMARY:Knitters and Crafters Group (Wilks Room)
DESCRIPTION:A New Group! A community of crafters begins on Mondays starting February 5\, from 2- 4 pm (drop-in). \nAll are welcome: knitters\, crocheters\, embroiderers\, crocheters\, conversationalists and miscellaneous other activities. No particular talent required. Meet in the Wilks Room at St. James Parish Hall.
URL:https://stjameshydepark.org/event/knitters-crafters/2024-03-04/
LOCATION:St. James’ Episcopal Church\, 4526 Albany Post Rd.\, Hyde Park\, NY\, 12538\, United States
CATEGORIES:Fun
END:VEVENT
BEGIN:VEVENT
DTSTART;TZID=America/New_York:20240303T090000
DTEND;TZID=America/New_York:20240303T100000
DTSTAMP:20260424T065943
CREATED:20240117T152356Z
LAST-MODIFIED:20240118T114853Z
UID:10003336-1709456400-1709460000@stjameshydepark.org
SUMMARY:Lenten Breakfast (Parish Hall)
DESCRIPTION:Sundays in Lent are little feasts—let’s break our fasts together with our beloved Lenten Breakfasts! \nJoin us in the Parish Hall for a delicious hot breakfast and good company at 9 am on Sundays in Lent\, February 25th through March 17th. There will be no Coffee Hour after the 10 am service on these Sundays. \nThanks to the Vestry and other volunteers for sponsoring these breafkasts!
URL:https://stjameshydepark.org/event/lenten-breakfast-parish-hall-2/2024-03-03/
LOCATION:St. James’ Episcopal Church\, 4526 Albany Post Rd.\, Hyde Park\, NY\, 12538\, United States
CATEGORIES:Fun
ATTACH;FMTTYPE=image/png:https://stjameshydepark.org/wp-content/uploads/2024/01/Lenten-Breakfasts-2024.png
END:VEVENT
BEGIN:VEVENT
DTSTART;TZID=America/New_York:20240227T180000
DTEND;TZID=America/New_York:20240227T193000
DTSTAMP:20260424T065943
CREATED:20240207T191135Z
LAST-MODIFIED:20240207T191247Z
UID:10003463-1709056800-1709062200@stjameshydepark.org
SUMMARY:Men's Group Dinner (Antonella's Restaurant)
DESCRIPTION:Men’s Group is starting back up!\nAll welcome! Join in Tuesday\, February 28th at 6 pm in the back room of Antonella’s Restaurant. Questions? Please see Joe Gasparini (call/text 845-475-4717) or Mike Glancey.
URL:https://stjameshydepark.org/event/mens-group/
LOCATION:Antonella’s Restaurant\, Hyde Park\, NY\, 4246 Albany Post Rd #1700\, Hyde Park\, NY\, 12538\, United States
CATEGORIES:Fun
END:VEVENT
BEGIN:VEVENT
DTSTART;TZID=America/New_York:20240226T140000
DTEND;TZID=America/New_York:20240226T160000
DTSTAMP:20260424T065943
CREATED:20240112T141137Z
LAST-MODIFIED:20241009T191510Z
UID:10002904-1708956000-1708963200@stjameshydepark.org
SUMMARY:Knitters and Crafters Group (Wilks Room)
DESCRIPTION:A New Group! A community of crafters begins on Mondays starting February 5\, from 2- 4 pm (drop-in). \nAll are welcome: knitters\, crocheters\, embroiderers\, crocheters\, conversationalists and miscellaneous other activities. No particular talent required. Meet in the Wilks Room at St. James Parish Hall.
URL:https://stjameshydepark.org/event/knitters-crafters/2024-02-26/
LOCATION:St. James’ Episcopal Church\, 4526 Albany Post Rd.\, Hyde Park\, NY\, 12538\, United States
CATEGORIES:Fun
END:VEVENT
BEGIN:VEVENT
DTSTART;TZID=America/New_York:20240225T090000
DTEND;TZID=America/New_York:20240225T100000
DTSTAMP:20260424T065943
CREATED:20240117T152356Z
LAST-MODIFIED:20240118T114853Z
UID:10003335-1708851600-1708855200@stjameshydepark.org
SUMMARY:Lenten Breakfast (Parish Hall)
DESCRIPTION:Sundays in Lent are little feasts—let’s break our fasts together with our beloved Lenten Breakfasts! \nJoin us in the Parish Hall for a delicious hot breakfast and good company at 9 am on Sundays in Lent\, February 25th through March 17th. There will be no Coffee Hour after the 10 am service on these Sundays. \nThanks to the Vestry and other volunteers for sponsoring these breafkasts!
URL:https://stjameshydepark.org/event/lenten-breakfast-parish-hall-2/2024-02-25/
LOCATION:St. James’ Episcopal Church\, 4526 Albany Post Rd.\, Hyde Park\, NY\, 12538\, United States
CATEGORIES:Fun
ATTACH;FMTTYPE=image/png:https://stjameshydepark.org/wp-content/uploads/2024/01/Lenten-Breakfasts-2024.png
END:VEVENT
BEGIN:VEVENT
DTSTART;TZID=America/New_York:20240213T173000
DTEND;TZID=America/New_York:20240213T193000
DTSTAMP:20260424T065943
CREATED:20240117T153345Z
LAST-MODIFIED:20240205T012947Z
UID:10003340-1707845400-1707852600@stjameshydepark.org
SUMMARY:Shrove Tuesday Pancake Supper\, Nursery School Open House\, & Prayer Service with Burning of the Palms (Parish Hall and Church)
DESCRIPTION:Join St. James’ for our annual Shrove Tuesday Pancake Supper in the parish hall on February 13th at 5:30 p.m. \nFeaturing: \n\nPancakes\, and pancake-decorating for kids!\nMusic from St. James’ Fat Tuesday Pick-Up Band!\nHelp decorate our Alleluia banner\, then “bury” it until Easter!\nPrayer service with burning of last year’s Palm Sunday palms to make this year’s Ash Wednesday ashes!\nNursery School Open House!\nAnd more!\n\nCome\, eat\, dance\, and be merry! \nBring a friend!
URL:https://stjameshydepark.org/event/shrove-tues-2024/
LOCATION:St. James’ Episcopal Church\, 4526 Albany Post Rd.\, Hyde Park\, NY\, 12538\, United States
CATEGORIES:Fun,Kids & Youth,Lent,Nursery School,Outreach,Worship
ATTACH;FMTTYPE=image/png:https://stjameshydepark.org/wp-content/uploads/2024/01/Shrove-Tuesday-2024.png
END:VEVENT
BEGIN:VEVENT
DTSTART;TZID=America/New_York:20240212T140000
DTEND;TZID=America/New_York:20240212T160000
DTSTAMP:20260424T065943
CREATED:20240112T141137Z
LAST-MODIFIED:20241009T191510Z
UID:10002902-1707746400-1707753600@stjameshydepark.org
SUMMARY:Knitters and Crafters Group (Wilks Room)
DESCRIPTION:A New Group! A community of crafters begins on Mondays starting February 5\, from 2- 4 pm (drop-in). \nAll are welcome: knitters\, crocheters\, embroiderers\, crocheters\, conversationalists and miscellaneous other activities. No particular talent required. Meet in the Wilks Room at St. James Parish Hall.
URL:https://stjameshydepark.org/event/knitters-crafters/2024-02-12/
LOCATION:St. James’ Episcopal Church\, 4526 Albany Post Rd.\, Hyde Park\, NY\, 12538\, United States
CATEGORIES:Fun
END:VEVENT
BEGIN:VEVENT
DTSTART;TZID=America/New_York:20240210T110000
DTEND;TZID=America/New_York:20240210T133000
DTSTAMP:20260424T065943
CREATED:20240118T131851Z
LAST-MODIFIED:20240125T154925Z
UID:10003367-1707562800-1707571800@stjameshydepark.org
SUMMARY:Installation of Bishop Matthew Heyd (Cathedral of St. John the Divine)
DESCRIPTION:The Installation of the 17th Bishop of New York\nSaturday\, February 10th at 11:00am (please arrive by 10:30) \nJoin us at the Cathedral of St. John the Divine (1047 Amsterdam Avenue\, NYC) for the installation of the Rt. Rev. Matthew Heyd as our 17th Bishop. The service will celebrate the life of the Diocese of New York and the church’s mission to heal the world. Everyone is welcome and encouraged to attend. A reception will follow the service. \nYou can indicate that you plan to attend here: https://dioceseny.org/ednyevent/bishop-installation-2024/ \nA bus will depart Christ Church Poughkeepsie on Saturday morning (exact time TBD)\, arriving at the Cathedral by 10 am. If you would like a seat on the bus\, please sign here: https://forms.gle/J7VepTya4eSjoTc27 \nIf you need assistance with your RSVP or signing up for the bus\, please contact Dyan in the parish office.
URL:https://stjameshydepark.org/event/17th-bishop-installation/
LOCATION:Cathedral of St. John the Divine\, 1047 Amsterdam Ave\, New York\, NY\, 10025\, United States
CATEGORIES:Fun,Worship
ATTACH;FMTTYPE=image/png:https://stjameshydepark.org/wp-content/uploads/2024/01/Bishop-Heyd-Installation-updated.png
END:VEVENT
BEGIN:VEVENT
DTSTART;TZID=America/New_York:20240205T140000
DTEND;TZID=America/New_York:20240205T160000
DTSTAMP:20260424T065943
CREATED:20240112T141137Z
LAST-MODIFIED:20241009T191510Z
UID:10002901-1707141600-1707148800@stjameshydepark.org
SUMMARY:Knitters and Crafters Group (Wilks Room)
DESCRIPTION:A New Group! A community of crafters begins on Mondays starting February 5\, from 2- 4 pm (drop-in). \nAll are welcome: knitters\, crocheters\, embroiderers\, crocheters\, conversationalists and miscellaneous other activities. No particular talent required. Meet in the Wilks Room at St. James Parish Hall.
URL:https://stjameshydepark.org/event/knitters-crafters/2024-02-05/
LOCATION:St. James’ Episcopal Church\, 4526 Albany Post Rd.\, Hyde Park\, NY\, 12538\, United States
CATEGORIES:Fun
END:VEVENT
BEGIN:VEVENT
DTSTART;TZID=America/New_York:20240123T190000
DTEND;TZID=America/New_York:20240123T203000
DTSTAMP:20260424T065943
CREATED:20240111T202835Z
LAST-MODIFIED:20240117T151735Z
UID:10002896-1706036400-1706041800@stjameshydepark.org
SUMMARY:Episcopalians’ Night Out at the Movies!
DESCRIPTION:Join a big crew of Hudson Valley Episcopalians for a special showing of our Presiding Bishop Michael Curry’s new film A Case for Love. At the Poughkeepsie Regal Cinemas\, Tuesday 1/23 at 7 pm (carpooling from church available). Tickets are $20 (suggested donation) and limited availability—please contact the church office or see Mtr. Meredith ASAP to put your name on the list. \nView movie trailer: https://youtu.be/jLTxUBCbLiQ 
URL:https://stjameshydepark.org/event/case-for-love/
LOCATION:Regal Cinemas\, 2001 South Road\, Poughkeepsie\, NY\, 12601\, United States
CATEGORIES:Christian Formation,Fun
ATTACH;FMTTYPE=image/png:https://stjameshydepark.org/wp-content/uploads/2024/01/Episcopalians-Movie-Night.png
END:VEVENT
BEGIN:VEVENT
DTSTART;TZID=America/New_York:20240106T110000
DTEND;TZID=America/New_York:20240106T130000
DTSTAMP:20260424T065943
CREATED:20231208T134512Z
LAST-MODIFIED:20240104T180943Z
UID:10002725-1704538800-1704546000@stjameshydepark.org
SUMMARY:Celebration of New Ministry
DESCRIPTION:When a parish calls a priest\, there is a formal ceremony called an “installation” or “Celebration of New Ministry.” \nBishop Mary Glasspool will preside at Mother Meredith’s installation at St. James’ on the Feast of the Epiphany\, Saturday\, January 6th at 11 am. This is a joyful service—an opportunity for us all to celebrate our ministry together over the past 13 months as we look to the future with hope. We’ll invite clergy from the wider diocese and from other Hyde Park churches. \nIf you can’t make it in-person… \nPlease join us live on YouTube: https://www.youtube.com/channel/UCNWZHboXxsNRa339M1TEVaw/streams  \nDownload Worship Bulletin \nA festive potluck reception will follow in the Parish Hall. \nSt. James’ Medal recipients are encouraged to wear their medal to the service and reception.
URL:https://stjameshydepark.org/event/installation/
LOCATION:St. James’ Episcopal Church\, 4526 Albany Post Rd.\, Hyde Park\, NY\, 12538\, United States
CATEGORIES:Fun,Worship
ATTACH;FMTTYPE=image/png:https://stjameshydepark.org/wp-content/uploads/2023/12/Installation-1.png
END:VEVENT
BEGIN:VEVENT
DTSTART;TZID=America/New_York:20231217T180000
DTEND;TZID=America/New_York:20231217T200000
DTSTAMP:20260424T065943
CREATED:20231026T173102Z
LAST-MODIFIED:20231224T110713Z
UID:10002701-1702836000-1702843200@stjameshydepark.org
SUMMARY:Neighborhood Christmas Caroling (St. Margaret's)
DESCRIPTION:Meet at St. Margaret’s (corner of East Elm and Old Post in Staatsburg) for caroling in the village of Staatsburg. Afterward\, we’ll return to St. Margaret’s for a festive reception\, including cookies baked by our youth group!
URL:https://stjameshydepark.org/event/neighborhood-christmas-caroling-st-margarets/
LOCATION:St. Margaret’s Church\, E. Elm Ave.\, Staatsburg\, NY\, 12580\, United States
CATEGORIES:Christmas,Fun,Kids & Youth
END:VEVENT
END:VCALENDAR