BEGIN:VCALENDAR
VERSION:2.0
PRODID:-//St. James&#039; Episcopal Church - ECPv6.15.20//NONSGML v1.0//EN
CALSCALE:GREGORIAN
METHOD:PUBLISH
X-WR-CALNAME:St. James&#039; Episcopal Church
X-ORIGINAL-URL:https://stjameshydepark.org
X-WR-CALDESC:Events for St. James&#039; Episcopal Church
REFRESH-INTERVAL;VALUE=DURATION:PT1H
X-Robots-Tag:noindex
X-PUBLISHED-TTL:PT1H
BEGIN:VTIMEZONE
TZID:America/New_York
BEGIN:DAYLIGHT
TZOFFSETFROM:-0500
TZOFFSETTO:-0400
TZNAME:EDT
DTSTART:20240310T070000
END:DAYLIGHT
BEGIN:STANDARD
TZOFFSETFROM:-0400
TZOFFSETTO:-0500
TZNAME:EST
DTSTART:20241103T060000
END:STANDARD
BEGIN:DAYLIGHT
TZOFFSETFROM:-0500
TZOFFSETTO:-0400
TZNAME:EDT
DTSTART:20250309T070000
END:DAYLIGHT
BEGIN:STANDARD
TZOFFSETFROM:-0400
TZOFFSETTO:-0500
TZNAME:EST
DTSTART:20251102T060000
END:STANDARD
BEGIN:DAYLIGHT
TZOFFSETFROM:-0500
TZOFFSETTO:-0400
TZNAME:EDT
DTSTART:20260308T070000
END:DAYLIGHT
BEGIN:STANDARD
TZOFFSETFROM:-0400
TZOFFSETTO:-0500
TZNAME:EST
DTSTART:20261101T060000
END:STANDARD
END:VTIMEZONE
BEGIN:VEVENT
DTSTART;TZID=America/New_York:20250906T160000
DTEND;TZID=America/New_York:20250906T180000
DTSTAMP:20260424T000938
CREATED:20250606T163810Z
LAST-MODIFIED:20250606T163810Z
UID:10006591-1757174400-1757181600@stjameshydepark.org
SUMMARY:"Widow's Weeds\," a new play by Dyan Wapnick at the Stissing Center
DESCRIPTION:St. James’ office manager Dyan Wapnick has authored a new play which will premier at the Stissing Center for Arts & Culture in Pine Plains on Saturday\, September 6th at 4 pm. “Widow’s Weeds” tells the compelling true story of a Pine Plains Revolutionary War widow and her 1842 application to claim her husband’s pension. \nTickets are free and you can reserve your place at: https://www.eventbrite.com/e/widows-weeds-a-new-play-in-commemoration-of-our-nations-250th-birthday-tickets-1391668280289?aff=oddtdtcreator
URL:https://stjameshydepark.org/event/widows-weeds-a-new-play-by-dyan-wapnick-at-the-stissing-center/
LOCATION:NY
CATEGORIES:Fun
END:VEVENT
BEGIN:VEVENT
DTSTART;TZID=America/New_York:20250908T180000
DTEND;TZID=America/New_York:20250908T200000
DTSTAMP:20260424T000938
CREATED:20250613T152815Z
LAST-MODIFIED:20250627T171655Z
UID:10006692-1757354400-1757361600@stjameshydepark.org
SUMMARY:Garden Committee ~ Gardening at the Church
DESCRIPTION:St. James’ Garden Committee members meet at the Church for garden maintenance at 6 pm on the second Monday of each month. All are welcome!
URL:https://stjameshydepark.org/event/garden-committee-church/2025-09-08/
LOCATION:St. James’ Episcopal Church\, 4526 Albany Post Rd.\, Hyde Park\, NY\, 12538\, United States
CATEGORIES:Fun
END:VEVENT
BEGIN:VEVENT
DTSTART;TZID=America/New_York:20250913T100000
DTEND;TZID=America/New_York:20250913T120000
DTSTAMP:20260424T000938
CREATED:20250913T105715Z
LAST-MODIFIED:20250913T105728Z
UID:10006665-1757757600-1757764800@stjameshydepark.org
SUMMARY:Garden Committee ~ Gardening at the Meditation Garden
DESCRIPTION:St. James’ Garden Committee members will meet on the second Saturday of September\, 9/13\, to spread mulch and tend to our Meditation Garden at the Church. Breakfast treats are provided. All are welcome!
URL:https://stjameshydepark.org/event/garden-committee-meditation-garden/
LOCATION:St. James’ Episcopal Church\, 4526 Albany Post Rd.\, Hyde Park\, NY\, 12538\, United States
CATEGORIES:Fun
END:VEVENT
BEGIN:VEVENT
DTSTART;TZID=America/New_York:20250923T100000
DTEND;TZID=America/New_York:20250923T230000
DTSTAMP:20260424T000938
CREATED:20250603T135426Z
LAST-MODIFIED:20250913T112054Z
UID:10006571-1758621600-1758668400@stjameshydepark.org
SUMMARY:Five Guys Fundraiser to Benefit Sunday School
DESCRIPTION:Five Guys Fundraiser to benefit Sunday School\n\nSeptember 23 @ 11:00 am – 10:00 pm\n\n\n\nVisit Five Guys Burgers and Fries (2507 South Road\, Poughkeepsie) on Tuesday\, September 3rd from 11 am to 10 pm and mention St. James’ Sunday School —Five Guys will donate 20% of your order to our Sunday School ministries\, plus an additional $1 for every milkshake ordered! \n 
URL:https://stjameshydepark.org/event/five-guys-fundraiser-september-2025/
LOCATION:Five Guys\, 2507 South Road\, Poughkeepsie\, New York\, 12601
CATEGORIES:Fun,Kids & Youth
ATTACH;FMTTYPE=image/jpeg:https://stjameshydepark.org/wp-content/uploads/2025/06/Five-Guys-Fundraiser-Sept-2025.jpeg
END:VEVENT
END:VCALENDAR