BEGIN:VCALENDAR
VERSION:2.0
PRODID:-//St. James&#039; Episcopal Church - ECPv6.15.20//NONSGML v1.0//EN
CALSCALE:GREGORIAN
METHOD:PUBLISH
X-WR-CALNAME:St. James&#039; Episcopal Church
X-ORIGINAL-URL:https://stjameshydepark.org
X-WR-CALDESC:Events for St. James&#039; Episcopal Church
REFRESH-INTERVAL;VALUE=DURATION:PT1H
X-Robots-Tag:noindex
X-PUBLISHED-TTL:PT1H
BEGIN:VTIMEZONE
TZID:America/New_York
BEGIN:DAYLIGHT
TZOFFSETFROM:-0500
TZOFFSETTO:-0400
TZNAME:EDT
DTSTART:20230312T070000
END:DAYLIGHT
BEGIN:STANDARD
TZOFFSETFROM:-0400
TZOFFSETTO:-0500
TZNAME:EST
DTSTART:20231105T060000
END:STANDARD
BEGIN:DAYLIGHT
TZOFFSETFROM:-0500
TZOFFSETTO:-0400
TZNAME:EDT
DTSTART:20240310T070000
END:DAYLIGHT
BEGIN:STANDARD
TZOFFSETFROM:-0400
TZOFFSETTO:-0500
TZNAME:EST
DTSTART:20241103T060000
END:STANDARD
BEGIN:DAYLIGHT
TZOFFSETFROM:-0500
TZOFFSETTO:-0400
TZNAME:EDT
DTSTART:20250309T070000
END:DAYLIGHT
BEGIN:STANDARD
TZOFFSETFROM:-0400
TZOFFSETTO:-0500
TZNAME:EST
DTSTART:20251102T060000
END:STANDARD
END:VTIMEZONE
BEGIN:VEVENT
DTSTART;TZID=America/New_York:20241201T114500
DTEND;TZID=America/New_York:20241201T123000
DTSTAMP:20260424T131501
CREATED:20241126T151638Z
LAST-MODIFIED:20241126T151638Z
UID:10004303-1733053500-1733056200@stjameshydepark.org
SUMMARY:Let's talk... Christmas Pageant!
DESCRIPTION:Join Mtr. Meredith during Coffee Hour (we’ll take a corner of the Parish Hall) for an informal conversation about a possible Christmas Pageant at St. James’ this year! We’re thinking about doing a simple pageant at the 10 am service on Sunday\, December 29th (the First Sunday after Christmas Day). This is one idea under consideration: https://buildfaith.org/on-the-spot-christmas-pageant/. Please bring your own thoughts and ideas! Actors\, costumers\, and other contributors of all ages are invited to come and dream together.
URL:https://stjameshydepark.org/event/lets-talk-christmas-pageant/
LOCATION:HP Farmers Market
CATEGORIES:Christian Formation,Christmas,Fun
ATTACH;FMTTYPE=image/png:https://stjameshydepark.org/wp-content/uploads/2024/11/Pageant.png
END:VEVENT
BEGIN:VEVENT
DTSTART;TZID=America/New_York:20241207T100000
DTEND;TZID=America/New_York:20241207T140000
DTSTAMP:20260424T131501
CREATED:20240409T160057Z
LAST-MODIFIED:20241108T132212Z
UID:10003739-1733565600-1733580000@stjameshydepark.org
SUMMARY:Annual Holiday Cookie & Candy Sale
DESCRIPTION:Hyde Park’s best bakers and confectioners are here for your holidays: \nFudge! Peanut Brittle! Sweets! \nHomemade Cookies (your choice) $8/tin or 2 tins for $15 (gluten-free available) \nSaturday\, December 7th\, 10 am to 2 pm (or while supplies last) in the Parish Hall \nWe need your help!\n✅ Bake a batch or two of cookies (sign-up in the church entryway) or fudge or candy\n✅ Deliver to the kitchen on Friday\, December 6th 2-7pm or Saturday\, Dec. 7th by 8 am \nAll sale proceeds benefit the outreach ministries of St. James’ Episcopal Church.
URL:https://stjameshydepark.org/event/holiday-cookie-sale-2024/
LOCATION:St. James’ Episcopal Church\, 4526 Albany Post Rd.\, Hyde Park\, NY\, 12538\, United States
CATEGORIES:Christmas,Fun,Outreach
ATTACH;FMTTYPE=image/jpeg:https://stjameshydepark.org/wp-content/uploads/2024/04/Cookie-Candy-Sale.jpg
END:VEVENT
BEGIN:VEVENT
DTSTART;TZID=America/New_York:20241211T180000
DTEND;TZID=America/New_York:20241211T200000
DTSTAMP:20260424T131501
CREATED:20241120T142743Z
LAST-MODIFIED:20241120T142816Z
UID:10003908-1733940000-1733947200@stjameshydepark.org
SUMMARY:Joint Men's and Women's Group Dinner (Antonella's in Hyde Park)
DESCRIPTION:The Men and Women’s Group will be meeting together on Wednesday\, December 11th\, at 6:00 in the back room of Antonella’s. Join us for food and fellowship during the season of Advent!
URL:https://stjameshydepark.org/event/joint-dinner-mens-womens-groups/
LOCATION:Antonella’s Restaurant\, Hyde Park\, NY\, 4246 Albany Post Rd #1700\, Hyde Park\, NY\, 12538\, United States
CATEGORIES:Fun,Women's Group
END:VEVENT
BEGIN:VEVENT
DTSTART;TZID=America/New_York:20241215T090000
DTEND;TZID=America/New_York:20241215T100000
DTSTAMP:20260424T131501
CREATED:20241121T183655Z
LAST-MODIFIED:20241121T183657Z
UID:10004302-1734253200-1734256800@stjameshydepark.org
SUMMARY:Stewardship Celebration Breakfast
DESCRIPTION:Our ministry together in 2025 is nourished by your faithful promise of support! \nOn Sunday\, December 15th\, we’ll complete our Stewardship campaign and celebrate all the gifts that God is giving this church with a festive home-cooked breakfast between our 8 and 10 am services! If possible\, we ask that you make your 2025 promise by that date!
URL:https://stjameshydepark.org/event/stewardship-celebration-breakfast/
LOCATION:St. James’ Episcopal Church\, 4526 Albany Post Rd.\, Hyde Park\, NY\, 12538\, United States
CATEGORIES:Fun
ATTACH;FMTTYPE=image/jpeg:https://stjameshydepark.org/wp-content/uploads/2024/11/Stewardship-Breakfast.jpg
END:VEVENT
BEGIN:VEVENT
DTSTART;TZID=America/New_York:20241221T093000
DTEND;TZID=America/New_York:20241221T113000
DTSTAMP:20260424T131501
CREATED:20241127T222338Z
LAST-MODIFIED:20241127T222338Z
UID:10004304-1734773400-1734780600@stjameshydepark.org
SUMMARY:Decorating the Church for Christmas!
DESCRIPTION:All are welcome to help decorate our church for Christmas! We start at 9:30 am on Saturday\, December 21st.
URL:https://stjameshydepark.org/event/decorating-the-church-for-christmas/
LOCATION:St. James’ Episcopal Church\, 4526 Albany Post Rd.\, Hyde Park\, NY\, 12538\, United States
CATEGORIES:Christmas,Fun
END:VEVENT
BEGIN:VEVENT
DTSTART;TZID=America/New_York:20241222T180000
DTEND;TZID=America/New_York:20241222T200000
DTSTAMP:20260424T131501
CREATED:20241121T183033Z
LAST-MODIFIED:20241121T183130Z
UID:10004300-1734890400-1734897600@stjameshydepark.org
SUMMARY:Neighborhood Christmas Caroling (St. Margaret's)
DESCRIPTION:Meet at 6 pm on Sunday\, December 22nd at St. Margaret’s (corner of East Elm and Old Post in Staatsburg) for caroling in the village of Staatsburg. Afterward\, we’ll return to St. Margaret’s for a festive reception.
URL:https://stjameshydepark.org/event/caroling-2024/
LOCATION:St. Margaret’s Church\, E. Elm Ave.\, Staatsburg\, NY\, 12580\, United States
CATEGORIES:Christmas,Fun,Kids & Youth
ATTACH;FMTTYPE=image/png:https://stjameshydepark.org/wp-content/uploads/2024/11/Cookies-and-Caroling.png
END:VEVENT
END:VCALENDAR