BEGIN:VCALENDAR
VERSION:2.0
PRODID:-//St. James&#039; Episcopal Church - ECPv6.15.20//NONSGML v1.0//EN
CALSCALE:GREGORIAN
METHOD:PUBLISH
X-WR-CALNAME:St. James&#039; Episcopal Church
X-ORIGINAL-URL:https://stjameshydepark.org
X-WR-CALDESC:Events for St. James&#039; Episcopal Church
REFRESH-INTERVAL;VALUE=DURATION:PT1H
X-Robots-Tag:noindex
X-PUBLISHED-TTL:PT1H
BEGIN:VTIMEZONE
TZID:America/New_York
BEGIN:DAYLIGHT
TZOFFSETFROM:-0500
TZOFFSETTO:-0400
TZNAME:EDT
DTSTART:20230312T070000
END:DAYLIGHT
BEGIN:STANDARD
TZOFFSETFROM:-0400
TZOFFSETTO:-0500
TZNAME:EST
DTSTART:20231105T060000
END:STANDARD
BEGIN:DAYLIGHT
TZOFFSETFROM:-0500
TZOFFSETTO:-0400
TZNAME:EDT
DTSTART:20240310T070000
END:DAYLIGHT
BEGIN:STANDARD
TZOFFSETFROM:-0400
TZOFFSETTO:-0500
TZNAME:EST
DTSTART:20241103T060000
END:STANDARD
BEGIN:DAYLIGHT
TZOFFSETFROM:-0500
TZOFFSETTO:-0400
TZNAME:EDT
DTSTART:20250309T070000
END:DAYLIGHT
BEGIN:STANDARD
TZOFFSETFROM:-0400
TZOFFSETTO:-0500
TZNAME:EST
DTSTART:20251102T060000
END:STANDARD
END:VTIMEZONE
BEGIN:VEVENT
DTSTART;TZID=America/New_York:20241113T180000
DTEND;TZID=America/New_York:20241113T200000
DTSTAMP:20260424T144244
CREATED:20240807T201038Z
LAST-MODIFIED:20240807T201216Z
UID:10003907-1731520800-1731528000@stjameshydepark.org
SUMMARY:Women's Group (Antonella's in Hyde Park)
DESCRIPTION:St. James’ Women’s Group will meet at 6pm in the back room of Antonella’s in Hyde Park on the following dates:\nSeptember 11\nOctober 9\nNovember 13\nDecember 11 \nNo RSVP necessary. It’s always a different group each month\, which makes it fun and special! \nAntonella’s graciously provides us with separate checks\, so you can order anything from a coffee\, an app\, or a 3 course meal! There is $20 available each month that you can privately receive from Dyan in the Parish Office if that would be helpful for you to be able to attend. And if you would like to add money to this envelope\, please also see Dyan in the Parish Office.
URL:https://stjameshydepark.org/event/womens-group-fall-2024/2024-11-13/
LOCATION:Antonella’s Restaurant\, Hyde Park\, NY\, 4246 Albany Post Rd #1700\, Hyde Park\, NY\, 12538\, United States
CATEGORIES:Fun,Women's Group
END:VEVENT
BEGIN:VEVENT
DTSTART;TZID=America/New_York:20241116T090000
DTEND;TZID=America/New_York:20241116T120000
DTSTAMP:20260424T144244
CREATED:20241108T130840Z
LAST-MODIFIED:20241108T130840Z
UID:10004230-1731747600-1731758400@stjameshydepark.org
SUMMARY:Fence Work Party (Rectory)
DESCRIPTION:We’re enhancing our rectory with a backyard fence! Work party starts at 9 am on Saturday\, 9/16. All welcome! Chili lunch at noon.
URL:https://stjameshydepark.org/event/fence-work-party-rectory/
LOCATION:St. James’ Episcopal Church\, 4526 Albany Post Rd.\, Hyde Park\, NY\, 12538\, United States
CATEGORIES:Fun
END:VEVENT
BEGIN:VEVENT
DTSTART;TZID=America/New_York:20241116T100000
DTEND;TZID=America/New_York:20241116T150000
DTSTAMP:20260424T144244
CREATED:20240821T124124Z
LAST-MODIFIED:20241108T025703Z
UID:10003936-1731751200-1731769200@stjameshydepark.org
SUMMARY:Nursery School Craft Fair (Parish Hall)
DESCRIPTION:
URL:https://stjameshydepark.org/event/nursery-school-craft-fair-2024/
LOCATION:St. James’ Episcopal Church\, 4526 Albany Post Rd.\, Hyde Park\, NY\, 12538\, United States
CATEGORIES:Fun,Nursery School
END:VEVENT
BEGIN:VEVENT
DTSTART;TZID=America/New_York:20241118T180000
DTEND;TZID=America/New_York:20241118T193000
DTSTAMP:20260424T144244
CREATED:20241108T030047Z
LAST-MODIFIED:20241112T012825Z
UID:10004228-1731952800-1731958200@stjameshydepark.org
SUMMARY:Men’s Gathering at Antonella’s Restaurant
DESCRIPTION:All welcome! Join in Monday\, October 21st at 6 pm in the back room of Antonella’s Restaurant.
URL:https://stjameshydepark.org/event/mens-gathering-nov-2024/
LOCATION:Antonella’s Restaurant\, Hyde Park\, NY\, 4246 Albany Post Rd #1700\, Hyde Park\, NY\, 12538\, United States
CATEGORIES:Fun
END:VEVENT
BEGIN:VEVENT
DTSTART;TZID=America/New_York:20241124T120000
DTEND;TZID=America/New_York:20241124T130000
DTSTAMP:20260424T144244
CREATED:20241120T220345Z
LAST-MODIFIED:20241120T220345Z
UID:10004298-1732449600-1732453200@stjameshydepark.org
SUMMARY:Graveyard Tours 2024 Post-Production Meeting
DESCRIPTION:Reflection on the 2024 Graveyard Tours is the beginning of our preparations for 2025! All actors\, volunteers\, etc. are invited to share feedback and constructive suggestions. We’ll meet right after Coffee Hour at noon on Sunday\, November 24th—either in the Wilks Room or in the Parish Hall. 
URL:https://stjameshydepark.org/event/graveyard-tours-2024-post-production-meeting/
LOCATION:St. James’ Episcopal Church\, 4526 Albany Post Rd.\, Hyde Park\, NY\, 12538\, United States
CATEGORIES:Fun
END:VEVENT
END:VCALENDAR