BEGIN:VCALENDAR
VERSION:2.0
PRODID:-//St. James&#039; Episcopal Church - ECPv6.15.20//NONSGML v1.0//EN
CALSCALE:GREGORIAN
METHOD:PUBLISH
X-ORIGINAL-URL:https://stjameshydepark.org
X-WR-CALDESC:Events for St. James&#039; Episcopal Church
REFRESH-INTERVAL;VALUE=DURATION:PT1H
X-Robots-Tag:noindex
X-PUBLISHED-TTL:PT1H
BEGIN:VTIMEZONE
TZID:America/New_York
BEGIN:DAYLIGHT
TZOFFSETFROM:-0500
TZOFFSETTO:-0400
TZNAME:EDT
DTSTART:20220313T070000
END:DAYLIGHT
BEGIN:STANDARD
TZOFFSETFROM:-0400
TZOFFSETTO:-0500
TZNAME:EST
DTSTART:20221106T060000
END:STANDARD
BEGIN:DAYLIGHT
TZOFFSETFROM:-0500
TZOFFSETTO:-0400
TZNAME:EDT
DTSTART:20230312T070000
END:DAYLIGHT
BEGIN:STANDARD
TZOFFSETFROM:-0400
TZOFFSETTO:-0500
TZNAME:EST
DTSTART:20231105T060000
END:STANDARD
BEGIN:DAYLIGHT
TZOFFSETFROM:-0500
TZOFFSETTO:-0400
TZNAME:EDT
DTSTART:20240310T070000
END:DAYLIGHT
BEGIN:STANDARD
TZOFFSETFROM:-0400
TZOFFSETTO:-0500
TZNAME:EST
DTSTART:20241103T060000
END:STANDARD
END:VTIMEZONE
BEGIN:VEVENT
DTSTART;TZID=America/New_York:20231210T160000
DTEND;TZID=America/New_York:20231210T180000
DTSTAMP:20260425T204308
CREATED:20231018T125956Z
LAST-MODIFIED:20231208T194018Z
UID:10002695-1702224000-1702231200@stjameshydepark.org
SUMMARY:"It's Up to the Women" Screening of Philadelphia Eleven Documentary and Evening Prayer for Human Rights Day honoring Eleanor Roosevelt
DESCRIPTION:Sunday\, December 10th (the 75th Anniversary of the signing of the Universal Declaration on Human Rights)\, at 4 pm\, please join St. James’ Church for a special event honoring groundbreaking women. \nWe’re screening a brand-new documentary\, The Philadelphia Eleven\, about the first women to be ordained priests in the Episcopal Church—before women’s ordination was recognized as valid (trailer at philadelphiaelevenfilm.com). \nThen at 6 pm we’ll have an evening prayer service honoring Episcopal women\, including Eleanor Roosevelt\, a St. James’ “saint” and chair of the commission that drafted the United Nations Declaration on Human Rights. (The title of this event is taken from her book It’s Up to the Women. Written at the height of the Great Depression\, it urged women in particular to do their part in creating a just society.) To livestream the service\, please visit St. James’ Youtube channel. \n4:00 p.m. Doors open/ light movie-themed refreshments in the Parish Hall\n4:30 p.m. Screening of The Philadelphia Eleven in the Parish Hall\n6:00 p.m. Evening Prayer in the Church honoring Episcopal Women\, including Eleanor Roosevelt\, with a reading of the Universal Declaration on Human Rights \n 
URL:https://stjameshydepark.org/event/up-to-women/
LOCATION:St. James’ Episcopal Church\, 4526 Albany Post Rd.\, Hyde Park\, NY\, 12538\, United States
CATEGORIES:One Time Event,Outreach,Worship
ATTACH;FMTTYPE=image/png:https://stjameshydepark.org/wp-content/uploads/2023/10/Its-Up-to-the-Women.png
END:VEVENT
END:VCALENDAR