BEGIN:VCALENDAR
VERSION:2.0
PRODID:-//St. James&#039; Episcopal Church - ECPv6.15.20//NONSGML v1.0//EN
CALSCALE:GREGORIAN
METHOD:PUBLISH
X-WR-CALNAME:St. James&#039; Episcopal Church
X-ORIGINAL-URL:https://stjameshydepark.org
X-WR-CALDESC:Events for St. James&#039; Episcopal Church
REFRESH-INTERVAL;VALUE=DURATION:PT1H
X-Robots-Tag:noindex
X-PUBLISHED-TTL:PT1H
BEGIN:VTIMEZONE
TZID:America/New_York
BEGIN:DAYLIGHT
TZOFFSETFROM:-0500
TZOFFSETTO:-0400
TZNAME:EDT
DTSTART:20210314T070000
END:DAYLIGHT
BEGIN:STANDARD
TZOFFSETFROM:-0400
TZOFFSETTO:-0500
TZNAME:EST
DTSTART:20211107T060000
END:STANDARD
BEGIN:DAYLIGHT
TZOFFSETFROM:-0500
TZOFFSETTO:-0400
TZNAME:EDT
DTSTART:20220313T070000
END:DAYLIGHT
BEGIN:STANDARD
TZOFFSETFROM:-0400
TZOFFSETTO:-0500
TZNAME:EST
DTSTART:20221106T060000
END:STANDARD
BEGIN:DAYLIGHT
TZOFFSETFROM:-0500
TZOFFSETTO:-0400
TZNAME:EDT
DTSTART:20230312T070000
END:DAYLIGHT
BEGIN:STANDARD
TZOFFSETFROM:-0400
TZOFFSETTO:-0500
TZNAME:EST
DTSTART:20231105T060000
END:STANDARD
BEGIN:DAYLIGHT
TZOFFSETFROM:-0500
TZOFFSETTO:-0400
TZNAME:EDT
DTSTART:20240310T070000
END:DAYLIGHT
BEGIN:STANDARD
TZOFFSETFROM:-0400
TZOFFSETTO:-0500
TZNAME:EST
DTSTART:20241103T060000
END:STANDARD
END:VTIMEZONE
BEGIN:VEVENT
DTSTART;TZID=America/New_York:20231020T130000
DTEND;TZID=America/New_York:20231020T150000
DTSTAMP:20260423T231644
CREATED:20231003T174405Z
LAST-MODIFIED:20231003T174405Z
UID:10002674-1697806800-1697814000@stjameshydepark.org
SUMMARY:HYPAC Meeting (Parish Hall)
DESCRIPTION:
URL:https://stjameshydepark.org/event/hypac-meeting-parish-hall-2/
LOCATION:St. James’ Episcopal Church\, 4526 Albany Post Rd.\, Hyde Park\, NY\, 12538\, United States
CATEGORIES:One Time Event
END:VEVENT
BEGIN:VEVENT
DTSTART;VALUE=DATE:20231020
DTEND;VALUE=DATE:20231021
DTSTAMP:20260423T231644
CREATED:20230802T142750Z
LAST-MODIFIED:20230802T142934Z
UID:10002211-1697760000-1697846399@stjameshydepark.org
SUMMARY:Graveyard Tours
DESCRIPTION:
URL:https://stjameshydepark.org/event/graveyard-tours/2023-10-20/
LOCATION:St. James’ Episcopal Church\, 4526 Albany Post Rd.\, Hyde Park\, NY\, 12538\, United States
CATEGORIES:One Time Event
END:VEVENT
BEGIN:VEVENT
DTSTART;VALUE=DATE:20231014
DTEND;VALUE=DATE:20231015
DTSTAMP:20260423T231644
CREATED:20230802T142750Z
LAST-MODIFIED:20230802T142934Z
UID:10002210-1697241600-1697327999@stjameshydepark.org
SUMMARY:Graveyard Tours
DESCRIPTION:
URL:https://stjameshydepark.org/event/graveyard-tours/2023-10-14/
LOCATION:St. James’ Episcopal Church\, 4526 Albany Post Rd.\, Hyde Park\, NY\, 12538\, United States
CATEGORIES:One Time Event
END:VEVENT
BEGIN:VEVENT
DTSTART;VALUE=DATE:20231013
DTEND;VALUE=DATE:20231014
DTSTAMP:20260423T231644
CREATED:20230802T142750Z
LAST-MODIFIED:20230802T142934Z
UID:10002209-1697155200-1697241599@stjameshydepark.org
SUMMARY:Graveyard Tours
DESCRIPTION:
URL:https://stjameshydepark.org/event/graveyard-tours/2023-10-13/
LOCATION:St. James’ Episcopal Church\, 4526 Albany Post Rd.\, Hyde Park\, NY\, 12538\, United States
CATEGORIES:One Time Event
END:VEVENT
BEGIN:VEVENT
DTSTART;TZID=America/New_York:20231008T130000
DTEND;TZID=America/New_York:20231008T143000
DTSTAMP:20260423T231644
CREATED:20230926T151849Z
LAST-MODIFIED:20230928T181109Z
UID:10002669-1696770000-1696775400@stjameshydepark.org
SUMMARY:Blessing of the Animals
DESCRIPTION:Blessing of the Animals in honor of St. Francis \nSunday\, Oct. 8\, 1-2:30 pm (drop in) \nSt. James’ Episcopal Church 4526 Albany Post Rd\, Hyde Park in the Memorial Garden (Rain location: St. James’ Parish House) \nPets\, domestic animals\, stuffed animals\, and mementos of shy or departed pets are all welcome. \nCome and enjoy treats for pets and humans\, plus a free digital photo of your pet being blessed!
URL:https://stjameshydepark.org/event/blessing-of-the-animals/
LOCATION:St. James’ Episcopal Church\, 4526 Albany Post Rd.\, Hyde Park\, NY\, 12538\, United States
CATEGORIES:One Time Event
ATTACH;FMTTYPE=image/jpeg:https://stjameshydepark.org/wp-content/uploads/2023/09/St.-Francis-Day.jpg
END:VEVENT
BEGIN:VEVENT
DTSTART;VALUE=DATE:20231007
DTEND;VALUE=DATE:20231008
DTSTAMP:20260423T231644
CREATED:20230802T142750Z
LAST-MODIFIED:20230802T142934Z
UID:10002208-1696636800-1696723199@stjameshydepark.org
SUMMARY:Graveyard Tours
DESCRIPTION:
URL:https://stjameshydepark.org/event/graveyard-tours/2023-10-07/
LOCATION:St. James’ Episcopal Church\, 4526 Albany Post Rd.\, Hyde Park\, NY\, 12538\, United States
CATEGORIES:One Time Event
END:VEVENT
BEGIN:VEVENT
DTSTART;VALUE=DATE:20231006
DTEND;VALUE=DATE:20231007
DTSTAMP:20260423T231644
CREATED:20230802T142750Z
LAST-MODIFIED:20230802T142934Z
UID:10002207-1696550400-1696636799@stjameshydepark.org
SUMMARY:Graveyard Tours
DESCRIPTION:
URL:https://stjameshydepark.org/event/graveyard-tours/2023-10-06/
LOCATION:St. James’ Episcopal Church\, 4526 Albany Post Rd.\, Hyde Park\, NY\, 12538\, United States
CATEGORIES:One Time Event
END:VEVENT
BEGIN:VEVENT
DTSTART;TZID=America/New_York:20231001T170000
DTEND;TZID=America/New_York:20231001T200000
DTSTAMP:20260423T231644
CREATED:20230714T150143Z
LAST-MODIFIED:20230727T135612Z
UID:10002189-1696179600-1696190400@stjameshydepark.org
SUMMARY:Window on St. James' Church Supper (Parish Hall)
DESCRIPTION:
URL:https://stjameshydepark.org/event/church-supper-parish-hall/
LOCATION:St. James’ Episcopal Church\, 4526 Albany Post Rd.\, Hyde Park\, NY\, 12538\, United States
CATEGORIES:One Time Event
END:VEVENT
BEGIN:VEVENT
DTSTART;TZID=America/New_York:20230902T090000
DTEND;TZID=America/New_York:20230902T150000
DTSTAMP:20260423T231644
CREATED:20230808T132409Z
LAST-MODIFIED:20230808T132409Z
UID:10002222-1693645200-1693666800@stjameshydepark.org
SUMMARY:Roots & Branches Annual Advisory Board Meeting (Chapel)
DESCRIPTION:
URL:https://stjameshydepark.org/event/roots-branches-annual-advisory-board-meeting-chapel/
LOCATION:St. James’ Chapel\, 10 East Market Street\, Hyde Park\, NY\, 12567\, United States
CATEGORIES:One Time Event
END:VEVENT
BEGIN:VEVENT
DTSTART;TZID=America/New_York:20230718T193000
DTEND;TZID=America/New_York:20230718T201500
DTSTAMP:20260423T231644
CREATED:20230622T140638Z
LAST-MODIFIED:20230706T174455Z
UID:10002120-1689708600-1689711300@stjameshydepark.org
SUMMARY:Free Concert - Rhinebeck Legion Band (Front Lawn and Parish Hall)
DESCRIPTION:Join St. James’ Episcopal Church for a free concert with the Rhinebeck Legion Band! \nTuesday\, July 18th at 7 pm. Please bring your own seating. We’ll be on the Rectory lawn\, or in the Parish Hall if the weather is bad.
URL:https://stjameshydepark.org/event/rhinebeck-legion-band-free-concert/
LOCATION:St. James’ Episcopal Church\, 4526 Albany Post Rd.\, Hyde Park\, NY\, 12538\, United States
CATEGORIES:Fun,One Time Event
ATTACH;FMTTYPE=image/jpeg:https://stjameshydepark.org/wp-content/uploads/2023/07/RLB-2023-StJamesEpiscopalConcertPoster.jpg
END:VEVENT
BEGIN:VEVENT
DTSTART;TZID=America/New_York:20230520T071500
DTEND;TZID=America/New_York:20230520T180000
DTSTAMP:20260423T231644
CREATED:20230323T163344Z
LAST-MODIFIED:20230511T201113Z
UID:10002010-1684566900-1684605600@stjameshydepark.org
SUMMARY:Bus Trip to the Consecration of the Bishop Coadjutor of the Diocese of New York
DESCRIPTION:Hop on the Bus\, Gus…\nto Join in the May 20th Consecration of our New Bishop! \nThe Ordination and Consecration of\nThe Reverend Matthew F. Heyd\nas Bishop Coadjutor of the Diocese \n \nSaturday\, May 20\, 2023\nat 11:00 a.m.\nAt the Cathedral Church\nof Saint John the Divine\n1047 Amsterdam Avenue\, New York City \nAll are invited to join us in person on this joyous and auspicious day! (Note: The Diocese of NY has not yet announced livestream details.) \nFREE BUS departs St. James’ for the city at 7:30 a.m. Please be ready to board at 7:15 a.m. Signup\nrequired: contact Dyan in the Parish Office or register at https://consecration23.dioceseny.org/buses/. We will have fun! \n\nThe Transition Committee invites our Diocese to join together in prayer as we prepare for the consecration on May 20th:\nLoving God\, as Ecclesiastes reminds us\, “For everything there is a season and a time for every purpose under heaven.” We are in a time of change and transition as we give thanks for the ministry of Bishop Dietsche as our Bishop and look toward the consecration of the Bishop Coadjutor Elect\, Fr. Matthew Heyd. We ask your presence as we celebrate the blessings of leadership we have known and hope for blessings yet to come. Be with Bishop Dietsche and his family as he approaches retirement and be with Fr. Heyd and his family as he prepares for his consecration as a Bishop. Let this be a time of listening and discernment as we hear your calling of us to work together to bear witness to God’s kingdom here in the Diocese of New York and in the world. We ask this in your most holy name. Amen.
URL:https://stjameshydepark.org/event/consecration/
LOCATION:St. James’ Episcopal Church\, 4526 Albany Post Rd.\, Hyde Park\, NY\, 12538\, United States
CATEGORIES:One Time Event
ATTACH;FMTTYPE=image/webp:https://stjameshydepark.org/wp-content/uploads/2023/03/bp-matt-heyd.webp
END:VEVENT
BEGIN:VEVENT
DTSTART;TZID=America/New_York:20230513T120000
DTEND;TZID=America/New_York:20230513T170000
DTSTAMP:20260423T231644
CREATED:20230324T172959Z
LAST-MODIFIED:20230419T233156Z
UID:10002012-1683979200-1683997200@stjameshydepark.org
SUMMARY:Mother's Day Tea
DESCRIPTION:The beloved Mother’s Day Tea Party is back! \nTreat your loved ones to a four-course luncheon with fabulous entertainment. \nSaturday\, May 13\, 2023 in the Parish House of St. James’ Episcopal Church (4526 Albany Post Road\, Hyde Park). Two seatings: 12:00 pm and 3:00 pm. \n$25 per person. Reservations required; seating is limited. Please call the parish office at (845) 229-2820 to save your seat! \nGift items will be available for purchase. \nAll proceeds benefit community outreach programs of the church! \n 
URL:https://stjameshydepark.org/event/mothers-day-tea-2023/
LOCATION:St. James’ Episcopal Church\, 4526 Albany Post Rd.\, Hyde Park\, NY\, 12538\, United States
CATEGORIES:One Time Event
ATTACH;FMTTYPE=image/jpeg:https://stjameshydepark.org/wp-content/uploads/2023/04/Mothers-Day.jpg
END:VEVENT
BEGIN:VEVENT
DTSTART;TZID=America/New_York:20230506T090000
DTEND;TZID=America/New_York:20230506T150000
DTSTAMP:20260423T231644
CREATED:20230214T185852Z
LAST-MODIFIED:20230526T131102Z
UID:10001913-1683363600-1683385200@stjameshydepark.org
SUMMARY:Yellow Chapel Emporium (Chapel Parking Lot)
DESCRIPTION:
URL:https://stjameshydepark.org/event/emporium-chapel-parking-lot/
LOCATION:St. James’ Chapel\, 10 East Market Street\, Hyde Park\, NY\, 12567\, United States
CATEGORIES:One Time Event
END:VEVENT
BEGIN:VEVENT
DTSTART;TZID=America/New_York:20230421T120000
DTEND;TZID=America/New_York:20230421T140000
DTSTAMP:20260423T231644
CREATED:20230414T151008Z
LAST-MODIFIED:20230414T151008Z
UID:10002028-1682078400-1682085600@stjameshydepark.org
SUMMARY:Hypac Meeting (Parish Hall)
DESCRIPTION:
URL:https://stjameshydepark.org/event/hypac-meeting-parish-hall/
LOCATION:St. James’ Episcopal Church\, 4526 Albany Post Rd.\, Hyde Park\, NY\, 12538\, United States
CATEGORIES:One Time Event
END:VEVENT
BEGIN:VEVENT
DTSTART;TZID=America/New_York:20230415T100000
DTEND;TZID=America/New_York:20230415T140000
DTSTAMP:20260423T231644
CREATED:20230214T143413Z
LAST-MODIFIED:20230310T154114Z
UID:10001910-1681552800-1681567200@stjameshydepark.org
SUMMARY:Indoor Pop-up Shop (Chapel)
DESCRIPTION:
URL:https://stjameshydepark.org/event/indoor-pop-up-shop-chapel/2023-04-15/
LOCATION:St. James’ Chapel\, 10 East Market Street\, Hyde Park\, NY\, 12567\, United States
CATEGORIES:One Time Event
END:VEVENT
BEGIN:VEVENT
DTSTART;TZID=America/New_York:20230325T120000
DTEND;TZID=America/New_York:20230325T140000
DTSTAMP:20260423T231644
CREATED:20230314T135437Z
LAST-MODIFIED:20230314T135928Z
UID:10001931-1679745600-1679752800@stjameshydepark.org
SUMMARY:We Are Complicit: The Diocese of New York Apologizes for Slavery
DESCRIPTION:WE ARE COMPLICIT:\nThe Diocese of New York Apologizes for Slavery \nThe Bishop of New York invites you to join him and the people of the Episcopal Diocese of New York in a solemn Service of Apology for the participation and complicity of the diocese and its members in the Transatlantic Slave Trade and in that trade’s continuing aftermath and consequences. \nOn Saturday\, March 25\, Beginning at Noon\nat the Cathedral Church of Saint John the Divine \nThe Rt. Rev. Andrew ML Dietsche Presiding and Preaching \nVideo address by the Presiding Bishop The Most Rev. Michael B. Curry \nThe services will be streamed live on the Cathedral website (stjohndivine.org). \nHudson Valley bus: A bus will depart New Paltz for the Cathedral at 8:00 a.m. on the 25th\, with a stop in Newburgh. Please contact Mtr. Meredith if you’d like to be connected with the bus organizers to reserve a seat. 
URL:https://stjameshydepark.org/event/diocese-apology-service/
LOCATION:Cathedral of St. John the Divine\, 1047 Amsterdam Ave\, New York\, NY\, 10025\, United States
CATEGORIES:Christian Formation,One Time Event,Outreach
ATTACH;FMTTYPE=image/png:https://stjameshydepark.org/wp-content/uploads/2023/03/Apology-Service-March-2023.png
END:VEVENT
BEGIN:VEVENT
DTSTART;TZID=America/New_York:20230320T080000
DTEND;TZID=America/New_York:20230320T100000
DTSTAMP:20260423T231644
CREATED:20230221T161639Z
LAST-MODIFIED:20230221T161639Z
UID:10001924-1679299200-1679306400@stjameshydepark.org
SUMMARY:Hyde Park Food Pantry Board Meeting (Reading Room)
DESCRIPTION:
URL:https://stjameshydepark.org/event/hyde-park-food-pantry-board-meeting-reading-room/
LOCATION:St. James’ Chapel\, 10 East Market Street\, Hyde Park\, NY\, 12567\, United States
CATEGORIES:One Time Event
END:VEVENT
BEGIN:VEVENT
DTSTART;TZID=America/New_York:20230311T150000
DTEND;TZID=America/New_York:20230311T163000
DTSTAMP:20260423T231644
CREATED:20230214T200841Z
LAST-MODIFIED:20230303T151438Z
UID:10001918-1678546800-1678552200@stjameshydepark.org
SUMMARY:Book Discussion: Deborah Nelson Linck\, author of Pauli Murray: Shouting for the Rights of All People
DESCRIPTION:Join in a book discussion of Pauli Murray: Shouting for the Rights of All People with author Deborah Nelson Linck. Come hear more about an American hero\, and talk about the book with the author! \nSaturday\, March 11\, 2023 at 3:00 p.m.\nat the Wallace Visitor Center of the FDR Museum and Presidential Library\n4079 Albany Post Road\, Hyde Park\, NY \nPauli Murray was a leading force in working for equality for Black people\, women\, and LGBTQ+ people. They were a writer\, attorney\, professor\, and the first woman ordained an Episcopal priest. Pauli Murray: Shouting for the Rights of all People\, is a book for young readers. \nThis event is open to youth\, families\, and people of all ages. A Junior Ranger activity will be offered for young people. \nDeborah Nelson Linck is a writer and educator. She is the founder of the Hands-On Black History Museum. She lives in St. Louis. \nSponsored by The Poughkeepsie Library\, The National Parks Service\, and St. Paul’s Episcopal Church\, Poughkeepsie.
URL:https://stjameshydepark.org/event/pauli-murray-book-discussion/
LOCATION:FDR Presidential Library and Museum\, 4079 Albany Post Rd\, Hyde Park\, NY\, 12538\, United States
CATEGORIES:Christian Formation,General,One Time Event
ATTACH;FMTTYPE=image/jpeg:https://stjameshydepark.org/wp-content/uploads/2023/02/pauli-murray-shouting-book-cover.jpeg
END:VEVENT
BEGIN:VEVENT
DTSTART;TZID=America/New_York:20230311T100000
DTEND;TZID=America/New_York:20230311T140000
DTSTAMP:20260423T231644
CREATED:20230214T143413Z
LAST-MODIFIED:20230310T154114Z
UID:10001909-1678528800-1678543200@stjameshydepark.org
SUMMARY:Indoor Pop-up Shop (Chapel)
DESCRIPTION:
URL:https://stjameshydepark.org/event/indoor-pop-up-shop-chapel/2023-03-11/
LOCATION:St. James’ Chapel\, 10 East Market Street\, Hyde Park\, NY\, 12567\, United States
CATEGORIES:One Time Event
END:VEVENT
BEGIN:VEVENT
DTSTART;TZID=America/New_York:20230218T120000
DTEND;TZID=America/New_York:20230218T160000
DTSTAMP:20260423T231644
CREATED:20230214T162350Z
LAST-MODIFIED:20230214T162350Z
UID:10001911-1676721600-1676736000@stjameshydepark.org
SUMMARY:Housewarming (Rectory)
DESCRIPTION:
URL:https://stjameshydepark.org/event/housewarming-rectory/
LOCATION:St. James’ Episcopal Church\, 4526 Albany Post Rd.\, Hyde Park\, NY\, 12538\, United States
CATEGORIES:One Time Event
END:VEVENT
BEGIN:VEVENT
DTSTART;TZID=America/New_York:20230216T190000
DTEND;TZID=America/New_York:20230216T200000
DTSTAMP:20260423T231644
CREATED:20230124T133126Z
LAST-MODIFIED:20230124T133144Z
UID:10001903-1676574000-1676577600@stjameshydepark.org
SUMMARY:Hyde Park Community Garden Kick-Off Meeting (Chapel)
DESCRIPTION:
URL:https://stjameshydepark.org/event/hyde-park-community-garden-kick-off-meeting/
LOCATION:St. James’ Chapel\, 10 East Market Street\, Hyde Park\, NY\, 12567\, United States
CATEGORIES:One Time Event
END:VEVENT
BEGIN:VEVENT
DTSTART;TZID=America/New_York:20230211T100000
DTEND;TZID=America/New_York:20230211T140000
DTSTAMP:20260423T231644
CREATED:20230105T152737Z
LAST-MODIFIED:20230202T164736Z
UID:10001522-1676109600-1676124000@stjameshydepark.org
SUMMARY:Valentine's Pop-Up Shop (Chapel)
DESCRIPTION:Rescheduled!! \nGet ready for Valentine’s Day—stop by St. James’ Chapel (10 East Market Street) on Saturday\, February 11th\, 10 am-2 pm\, for a pop-up shop. Vendors include makers from Hudson River Housing’s SewPough initiative (crochet\, women’s clothing)\, photographs\, baked goods and more!
URL:https://stjameshydepark.org/event/pop-up-shop-chapel/
LOCATION:St. James’ Chapel\, 10 East Market Street\, Hyde Park\, NY\, 12567\, United States
CATEGORIES:One Time Event
END:VEVENT
BEGIN:VEVENT
DTSTART;TZID=America/New_York:20230202T174500
DTEND;TZID=America/New_York:20230202T193000
DTSTAMP:20260423T231644
CREATED:20230104T214415Z
LAST-MODIFIED:20230126T170044Z
UID:10001509-1675359900-1675366200@stjameshydepark.org
SUMMARY:Candlemas: Soup Supper\, Candlelight Procession\, and Holy Eucharist
DESCRIPTION:Thursday\, February 2nd is the Feast of the Presentation\, also known as Candlemas. This feast day comes forty days after Christmas and commemorates the presentation of baby Jesus and the purification of his mother Mary in the Jerusalem temple forty days after his birth. At his presentation\, the baby Jesus was greeted by Simeon (whose prayer upon encountering Jesus became the basis for the canticle nunc dimmittis (see page 120 in your Book of Common Prayer) and by the prophet Anna. Over time\, this celebration came to include the lighting and blessing of candles\, remembering Simeon’s prayer that Jesus is “a light to enlighten the nations.”  \nThis year for Candlemas\, join St. James’ in our Parish Hall for a 5:45 pm soup supper followed by a candlelight procession to the church for a special evening Holy Eucharist! The Eucharist will take place at approximately 6:30 p.m. \nRSVP requested (but not required) so Mtr. Meredith knows how much soup to make. You can RSVP here or to Dyan in the parish office.
URL:https://stjameshydepark.org/event/candlemas-2023/
LOCATION:St. James’ Episcopal Church\, 4526 Albany Post Rd.\, Hyde Park\, NY\, 12538\, United States
CATEGORIES:One Time Event
ATTACH;FMTTYPE=image/jpeg:https://stjameshydepark.org/wp-content/uploads/2023/01/Candlemas.jpg
END:VEVENT
BEGIN:VEVENT
DTSTART;TZID=America/New_York:20230130T150000
DTEND;TZID=America/New_York:20230130T160000
DTSTAMP:20260423T231644
CREATED:20230126T162151Z
LAST-MODIFIED:20230126T162533Z
UID:10001904-1675090800-1675094400@stjameshydepark.org
SUMMARY:Rose Garden Ceremony for FDR's 141st Birthday
DESCRIPTION:Celebrating FDR’s 141st Birthday! \nMother Meredith will offer the opening and closing prayers for this ceremony on Monday\, January 30\, 2023\, at 3:00 p.m. in the Rose Garden at the Home of Franklin D. Roosevelt National Historic Site. \nThe guest speaker will be William Harris\, the Director of the Franklin D. Roosevelt Presidential Library and Museum. West Point will provide the honor guard and color guard. \nOrganizations presenting wreaths: The Town of Hyde Park\, American Legion Post #1303\, John Livingston Post 1466\, Jewish War Veterans – Private Herman Siegal Post 623\, The Hyde Park Chamber of Commerce\, The Eleanor Roosevelt Val-Kill Partnership\, The Franklin D. Presidential Library\, The National Park Service. The Wreath on Behalf of the President of the United States will be presented by Brigadier General Shane Reeves\, Dean of the Academic Board\, United States Military Academy at West Point. Manuela Roosevelt will present a wreath on behalf of the Roosevelt family. \nCake will be served at the Henry A. Wallace Visitor Center after the event. \nThe event is free. \n(Photo: Ron Cogswell on Flickr. Used with permission (CC BY 2.0))
URL:https://stjameshydepark.org/event/fdr-birthday-2023/
LOCATION:FDR Presidential Library and Museum\, 4079 Albany Post Rd\, Hyde Park\, NY\, 12538\, United States
CATEGORIES:One Time Event
ATTACH;FMTTYPE=image/jpeg:https://stjameshydepark.org/wp-content/uploads/2023/01/fdr-burial-monument.jpg
END:VEVENT
BEGIN:VEVENT
DTSTART;TZID=America/New_York:20230129T090000
DTEND;TZID=America/New_York:20230129T120000
DTSTAMP:20260423T231644
CREATED:20221202T160019Z
LAST-MODIFIED:20230126T162601Z
UID:10001684-1674982800-1674993600@stjameshydepark.org
SUMMARY:Annual Meeting
DESCRIPTION:St. James’ Annual Meeting will take place Sunday\, January 29th\, following a single combined service of Holy Eucharist at 9:00 a.m. Both the service and the meeting will be available via Zoom as well as in-person. \n  \nSchedule:  \n9:00 a.m. Polls open; Holy Eucharist (this is the only worship service for Sunday\, 1/29) \n10:00 a.m. All-Church photo (in front of the red doors\, weather permitting!) Followed by a brief coffee break in the Parish House\, hosted by members of the St. James’ Vestry \n10:30 a.m. Annual Meeting in the Church\, with activities for youth K-12 in the Parish Hall \n  \nElections at the Annual Meeting:  \nElections shall be held at this Annual Meeting to fill the following expiring terms of office: \n\nWarden\, 2-year term (Doug Belding)\nVestry member\, 3-year term (Mike Glancey)\nVestry member\, 3-year term (Melinda Harris)\nVestry member\, 3-year term (Eric Zavadil)\n\nPolls will be open at 9:00 a.m. \n  \nYouth at the Annual Meeting:  Our Sunday School teachers will host a hangout (with coloring\, fellowship\, DVDs and more) for youth age K-12 in the Parish Hall during the Annual Meeting. \n  \nThe deadline for 2022 annual reports is Friday\, January 20th. Please submit written reports to the office: stjames.hydepark@gmail.com. \n  \nAs a member of St. James’\, our annual meeting is your opportunity to elect leaders to our Vestry\, to recognize all the people who contribute to our well-being as a church\, and to take stock of the state of our community of faith\, from formation to finances—so please do plan to attend. Your voice and your presence matter!
URL:https://stjameshydepark.org/event/annual-meeting/
LOCATION:St. James’ Episcopal Church\, 4526 Albany Post Rd.\, Hyde Park\, NY\, 12538\, United States
CATEGORIES:One Time Event
ATTACH;FMTTYPE=image/jpeg:https://stjameshydepark.org/wp-content/uploads/2023/01/Annual-Meeting-2023.jpg
END:VEVENT
BEGIN:VEVENT
DTSTART;TZID=America/New_York:20230121T130000
DTEND;TZID=America/New_York:20230121T150000
DTSTAMP:20260423T231644
CREATED:20230110T170837Z
LAST-MODIFIED:20230112T174158Z
UID:10001524-1674306000-1674313200@stjameshydepark.org
SUMMARY:Live Music (Chapel)
DESCRIPTION:Saturday\, Jan 21st\, 1-3 pm \nLive Music at St. James’ Chapel (10 East Market Street)  \nFree! Stop in to enjoy the musical stylings of Smuussh featuring Senior Warden Doug Belding. Rock\, folk\, and more.
URL:https://stjameshydepark.org/event/concert-chapel/
LOCATION:St. James’ Chapel\, 10 East Market Street\, Hyde Park\, NY\, 12567\, United States
CATEGORIES:One Time Event
END:VEVENT
BEGIN:VEVENT
DTSTART;TZID=America/New_York:20230108T100000
DTEND;TZID=America/New_York:20230108T110000
DTSTAMP:20260423T231644
CREATED:20230104T213823Z
LAST-MODIFIED:20230104T214151Z
UID:10001766-1673172000-1673175600@stjameshydepark.org
SUMMARY:Holy Baptism and Holy Eucharist (Rite II)
DESCRIPTION:On Sunday\, January 8th\, we will celebrate the Feast of the Baptism of Our Lord with two baptisms at our 10 am service. A festive coffee hour will follow in the parish house. \nAbout the Sunday 10 am service: Join us Sundays at 10:00 a.m. for a celebration of Holy Eucharist (Communion). This service has music (usually organ and choir\, along with special guest musicians) and uses a variety of prayers and language from traditional to inclusive and expansive\, drawing from Rite II of the 1979 Book of Common Prayer\, Enriching Our Worship\, and other sources. Coffee hour in the Parish House usually follows this service.
URL:https://stjameshydepark.org/event/holy-eucharist-rite-ii-2023-01-08/
LOCATION:St. James’ Episcopal Church\, 4526 Albany Post Rd.\, Hyde Park\, NY\, 12538\, United States
CATEGORIES:One Time Event
END:VEVENT
BEGIN:VEVENT
DTSTART;TZID=America/New_York:20230106T183000
DTEND;TZID=America/New_York:20230106T193000
DTSTAMP:20260423T231644
CREATED:20230104T212831Z
LAST-MODIFIED:20230109T005742Z
UID:10001725-1673029800-1673033400@stjameshydepark.org
SUMMARY:The Epiphany: Evening Prayer with Blessing of Our Homes
DESCRIPTION:This Friday at 6:30 pm\, online! Evening Prayer with Blessing of Our Homes for The Epiphany. \nJOIN IN ON ZOOM AND BRING SOME CHALK! \nFriday evening is the Epiphany\, when we remember the Wise Ones who were guided by a star to worship the infant Jesus. Because the God who came to us in Jesus is for all people! \nSince the Middle Ages Christians have prayed for God’s blessing on our homes on the Epiphany. We chalk the main entrance of our home with the initials of the three Wise Ones and the numerals of the new year. These initials\, C + M + B (for Caspar\, Melchior\, and Balthasar) also stand for the Latin phrase Christus mansionem bendicat\, “May Christ bless this house.” \nJoin us Friday evening\, January 6th at 6:30 online via Zoom (link below) for a service of Evening Prayer with Blessing of Our Homes. Mother Meredith and her family will bless the doorway of St. James’ rectory\, chalking their door\, and we’ll share a blessing format you can use to bless your own home during or right after the service. \nDownloads \nDownload the full Worship Service Bulletin (7 pages)  \nDownload the The Blessing of the Home- Chalking the Door for Epiphany (1 page) \n  \nJoin Zoom Meeting\nus02web.zoom.us/j/83409239253?pwd=QUJiMnRKMzdHcXB2VXk4ajBQaHlEZz09 \nMeeting ID: 834 0923 9253\nPasscode: 744268
URL:https://stjameshydepark.org/event/epiphany-2023/
LOCATION:Online
CATEGORIES:One Time Event
ATTACH;FMTTYPE=image/png:https://stjameshydepark.org/wp-content/uploads/2023/01/Epiphany-Online-Prayer-Blessing.png
END:VEVENT
BEGIN:VEVENT
DTSTART;TZID=America/New_York:20221221T190000
DTEND;TZID=America/New_York:20221221T200000
DTSTAMP:20260423T231644
CREATED:20221202T184031Z
LAST-MODIFIED:20221220T164117Z
UID:10001685-1671649200-1671652800@stjameshydepark.org
SUMMARY:Blue Christmas Service (St. Margaret's Church\, Staatsburg)
DESCRIPTION:St. James’ will join our neighbors at St. Margaret’s Episcopal Church in Staatsburg for a joint Blue Christmas Service on Wednesday\, December 21st at 7:00 p.m. The service will take place at St. Margaret’s\, corner of Old Post Rd & E Elm Ave in Staatsburg. \nThis healing service especially for anyone who’s feeling the weight of grief\, loss\, or anxiety in this holiday season. The service will be co-officiated by Fr. Michael of St. Margaret’s and Mtr. Meredith of St. James’ and will include lay readers from both parishes.
URL:https://stjameshydepark.org/event/blue-christmas-service-st-margarets-church-staatsburg/
LOCATION:St. Margaret’s Church\, E. Elm Ave.\, Staatsburg\, NY\, 12580\, United States
CATEGORIES:Christmas,One Time Event
END:VEVENT
BEGIN:VEVENT
DTSTART;TZID=America/New_York:20221217T180000
DTEND;TZID=America/New_York:20221217T210000
DTSTAMP:20260423T231644
CREATED:20221123T173148Z
LAST-MODIFIED:20221123T173251Z
UID:10001680-1671300000-1671310800@stjameshydepark.org
SUMMARY:Voice Recital - Parish Hall
DESCRIPTION:
URL:https://stjameshydepark.org/event/voice-recital-paris-hall/
LOCATION:St. James’ Episcopal Church\, 4526 Albany Post Rd.\, Hyde Park\, NY\, 12538\, United States
CATEGORIES:One Time Event
END:VEVENT
END:VCALENDAR