BEGIN:VCALENDAR
VERSION:2.0
PRODID:-//St. James&#039; Episcopal Church - ECPv6.15.20//NONSGML v1.0//EN
CALSCALE:GREGORIAN
METHOD:PUBLISH
X-ORIGINAL-URL:https://stjameshydepark.org
X-WR-CALDESC:Events for St. James&#039; Episcopal Church
REFRESH-INTERVAL;VALUE=DURATION:PT1H
X-Robots-Tag:noindex
X-PUBLISHED-TTL:PT1H
BEGIN:VTIMEZONE
TZID:America/New_York
BEGIN:DAYLIGHT
TZOFFSETFROM:-0500
TZOFFSETTO:-0400
TZNAME:EDT
DTSTART:20220313T070000
END:DAYLIGHT
BEGIN:STANDARD
TZOFFSETFROM:-0400
TZOFFSETTO:-0500
TZNAME:EST
DTSTART:20221106T060000
END:STANDARD
BEGIN:DAYLIGHT
TZOFFSETFROM:-0500
TZOFFSETTO:-0400
TZNAME:EDT
DTSTART:20230312T070000
END:DAYLIGHT
BEGIN:STANDARD
TZOFFSETFROM:-0400
TZOFFSETTO:-0500
TZNAME:EST
DTSTART:20231105T060000
END:STANDARD
BEGIN:DAYLIGHT
TZOFFSETFROM:-0500
TZOFFSETTO:-0400
TZNAME:EDT
DTSTART:20240310T070000
END:DAYLIGHT
BEGIN:STANDARD
TZOFFSETFROM:-0400
TZOFFSETTO:-0500
TZNAME:EST
DTSTART:20241103T060000
END:STANDARD
END:VTIMEZONE
BEGIN:VEVENT
DTSTART;TZID=America/New_York:20231216T140000
DTEND;TZID=America/New_York:20231216T170000
DTSTAMP:20260425T223807
CREATED:20231208T194731Z
LAST-MODIFIED:20231208T195133Z
UID:10002726-1702735200-1702746000@stjameshydepark.org
SUMMARY:Cookies & Caroling
DESCRIPTION:Cookies and Caroling \nNext up for St. James’ Youth Group: \nHow about baking some cookies to bring to St. Margaret’s for Christmas Caroling? \nSaturday\, Dec. 16th at 2 pm (note date change!): We’ll spend a couple hours listening to holiday music and baking cookies in the Parish Hall kitchen.\n You bring: A favorite holiday cookie recipe and any special ingredients.\n Church will provide: Snacks; flour\, sugar\, butter\, salt\, and cooking implements. \nSunday\, Dec. 17th at 6 pm: We’ll meet up again at St. Margaret’s\, Staatsburg for caroling around the village (members and friends of St. James’ and St. Margaret’s of all ages are joining in this caroling event) and we’ll share our cookies at the reception after!
URL:https://stjameshydepark.org/event/cookies-caroling/
LOCATION:HP Farmers Market
CATEGORIES:Christmas,Kids & Youth
ATTACH;FMTTYPE=image/png:https://stjameshydepark.org/wp-content/uploads/2023/12/Cookies-and-Caroling.png
END:VEVENT
END:VCALENDAR