BEGIN:VCALENDAR
VERSION:2.0
PRODID:-//St. James&#039; Episcopal Church - ECPv6.15.20//NONSGML v1.0//EN
CALSCALE:GREGORIAN
METHOD:PUBLISH
X-WR-CALNAME:St. James&#039; Episcopal Church
X-ORIGINAL-URL:https://stjameshydepark.org
X-WR-CALDESC:Events for St. James&#039; Episcopal Church
REFRESH-INTERVAL;VALUE=DURATION:PT1H
X-Robots-Tag:noindex
X-PUBLISHED-TTL:PT1H
BEGIN:VTIMEZONE
TZID:America/New_York
BEGIN:DAYLIGHT
TZOFFSETFROM:-0500
TZOFFSETTO:-0400
TZNAME:EDT
DTSTART:20230312T070000
END:DAYLIGHT
BEGIN:STANDARD
TZOFFSETFROM:-0400
TZOFFSETTO:-0500
TZNAME:EST
DTSTART:20231105T060000
END:STANDARD
BEGIN:DAYLIGHT
TZOFFSETFROM:-0500
TZOFFSETTO:-0400
TZNAME:EDT
DTSTART:20240310T070000
END:DAYLIGHT
BEGIN:STANDARD
TZOFFSETFROM:-0400
TZOFFSETTO:-0500
TZNAME:EST
DTSTART:20241103T060000
END:STANDARD
BEGIN:DAYLIGHT
TZOFFSETFROM:-0500
TZOFFSETTO:-0400
TZNAME:EDT
DTSTART:20250309T070000
END:DAYLIGHT
BEGIN:STANDARD
TZOFFSETFROM:-0400
TZOFFSETTO:-0500
TZNAME:EST
DTSTART:20251102T060000
END:STANDARD
END:VTIMEZONE
BEGIN:VEVENT
DTSTART;TZID=America/New_York:20240319T180000
DTEND;TZID=America/New_York:20240319T183000
DTSTAMP:20260425T122326
CREATED:20240207T184536Z
LAST-MODIFIED:20240207T184536Z
UID:10003462-1710871200-1710873000@stjameshydepark.org
SUMMARY:Centering Prayer (Church)
DESCRIPTION:Centering prayer is a type of meditation with a long history in the Christian tradition\, beginning with the 14th century English monk who wrote The Cloud of Unknowing. But you don’t need to be a monk or a mystic to practice centering prayer and experience its benefits. Lent is the perfect time to enter the quiet of this practice. Beginners welcome. Sessions will last about 30 minutes. Tuesdays at 6 pm in the church (starting 2/20). \nLed by Tessa Kale\, who has taken many retreats on centering prayer with Cynthia Bourgeault and is a participant in her Wisdom School.
URL:https://stjameshydepark.org/event/centering-prayer/2024-03-19/
LOCATION:St. James’ Episcopal Church\, 4526 Albany Post Rd.\, Hyde Park\, NY\, 12538\, United States
CATEGORIES:Christian Formation,Lent
ATTACH;FMTTYPE=image/png:https://stjameshydepark.org/wp-content/uploads/2024/02/Centering-Prayer.png
END:VEVENT
BEGIN:VEVENT
DTSTART;TZID=America/New_York:20240320T110000
DTEND;TZID=America/New_York:20240320T120000
DTSTAMP:20260425T122326
CREATED:20240203T231706Z
LAST-MODIFIED:20240508T020856Z
UID:10003412-1710932400-1710936000@stjameshydepark.org
SUMMARY:Bible Study
DESCRIPTION:Our weekly Bible study on Zoom usually focuses on the Gospel for the upcoming Sunday and is led by Mtr. Meredith. We practice a contemplative\, prayerful style of Bible study that focuses on how God is speaking to us through our questions\, responses\, curiosities and doubts as we engage Scripture.  \nThe study is followed by a brief\, optional service of noonday prayer. \nJoin in any Wednesday at 11 am. No previous preparation is required. The Zoom link is distributed via our weekly email newsletter (or contact the parish office). \n 
URL:https://stjameshydepark.org/event/bible-study-2024/2024-03-20/
LOCATION:Online
CATEGORIES:Christian Formation
ATTACH;FMTTYPE=image/png:https://stjameshydepark.org/wp-content/uploads/2024/05/Bible-Study.png
END:VEVENT
BEGIN:VEVENT
DTSTART;TZID=America/New_York:20240321T190000
DTEND;TZID=America/New_York:20240321T201500
DTSTAMP:20260425T122326
CREATED:20240131T214909Z
LAST-MODIFIED:20240209T001553Z
UID:10003396-1711047600-1711052100@stjameshydepark.org
SUMMARY:Lenten Study: Meeting God in the Gospel of Mark (Wilks Room)
DESCRIPTION:Mother Meredith will offer a 3-session Lenten Book Study on the Gospel of Mark on Thursdays in Lent\, March 7th\, 14th\, and 21st at 7 pm. We’ll meet in the Wilks Room. Each session will be followed by a 15-minute service of Compline (the Church’s bedtime prayer) at 8 pm. \nWe’ll read and discuss Mark’s Gospel alongside Archbishop Rowan Williams’ book Meeting God in Mark. This short (just 75 pages!) but mighty study book is available for about $11 from any bookseller or massive online retailer. Please read the introduction and first chapter prior to the first session. \nDownload the Lenten Reading Plan for the Gospel of Mark\, from Meeting God in Mark. There is a reading for each day\, Monday to Saturday\, and a Sunday reflection. Starting on Ash Wednesday and reading a chapter or less each day\, you’ll finish the Gospel of Mark by Easter Sunday.
URL:https://stjameshydepark.org/event/lent-study-mark/2024-03-21/
LOCATION:St. James’ Episcopal Church\, 4526 Albany Post Rd.\, Hyde Park\, NY\, 12538\, United States
CATEGORIES:Christian Formation,Lent
ATTACH;FMTTYPE=image/png:https://stjameshydepark.org/wp-content/uploads/2024/01/Meeting-God-in-the-Gospel-of-Mark.png
END:VEVENT
END:VCALENDAR