BEGIN:VCALENDAR
VERSION:2.0
PRODID:-//St. James&#039; Episcopal Church - ECPv6.15.20//NONSGML v1.0//EN
CALSCALE:GREGORIAN
METHOD:PUBLISH
X-WR-CALNAME:St. James&#039; Episcopal Church
X-ORIGINAL-URL:https://stjameshydepark.org
X-WR-CALDESC:Events for St. James&#039; Episcopal Church
REFRESH-INTERVAL;VALUE=DURATION:PT1H
X-Robots-Tag:noindex
X-PUBLISHED-TTL:PT1H
BEGIN:VTIMEZONE
TZID:America/New_York
BEGIN:DAYLIGHT
TZOFFSETFROM:-0500
TZOFFSETTO:-0400
TZNAME:EDT
DTSTART:20220313T070000
END:DAYLIGHT
BEGIN:STANDARD
TZOFFSETFROM:-0400
TZOFFSETTO:-0500
TZNAME:EST
DTSTART:20221106T060000
END:STANDARD
BEGIN:DAYLIGHT
TZOFFSETFROM:-0500
TZOFFSETTO:-0400
TZNAME:EDT
DTSTART:20230312T070000
END:DAYLIGHT
BEGIN:STANDARD
TZOFFSETFROM:-0400
TZOFFSETTO:-0500
TZNAME:EST
DTSTART:20231105T060000
END:STANDARD
BEGIN:DAYLIGHT
TZOFFSETFROM:-0500
TZOFFSETTO:-0400
TZNAME:EDT
DTSTART:20240310T070000
END:DAYLIGHT
BEGIN:STANDARD
TZOFFSETFROM:-0400
TZOFFSETTO:-0500
TZNAME:EST
DTSTART:20241103T060000
END:STANDARD
END:VTIMEZONE
BEGIN:VEVENT
DTSTART;TZID=America/New_York:20230528T113000
DTEND;TZID=America/New_York:20230528T123000
DTSTAMP:20260425T220439
CREATED:20230326T230452Z
LAST-MODIFIED:20230511T201254Z
UID:10002020-1685273400-1685277000@stjameshydepark.org
SUMMARY:Bible Study: The Acts of the Apostles
DESCRIPTION:Every year during the season of Easter\, the book of the Acts of the Apostles shows up in our Sunday readings\, and for good reason! These are the stories of the lives of Jesus’ followers after the resurrection\, and of the spread of the Good News in the earliest days of the Church. \nFor our Easter season Bible study\, we’ll read through the Acts of the Apostles. We will meet on Sundays in the Wilks room in our Parish House\, after the 10 am service—so get a cup of coffee and a snack from coffee hour\, and join in! \nWe’ll try to read about 4 chapters a week. You’re encouraged to read Acts 1-4 before the first session—but do come whether or not you’ve been able to complete the week’s reading! Here’s our schedule: \nWeek 1 | April 16th | Acts 1 – 4 \nWeek 2 | April 23rd | Acts 5 – 8 \nWeek 3 | April 30th | Acts 9 – 12 \nWeek 4 | May 7 | Acts 13 – 16 \nWeek 5 | May 14 | Acts 17 – 20 \nWeek 6 | May 21 | Acts 21 – 24 \nWeek 7 | May 28 | Acts 25 – 28 \n  \nSuggested Resources:  \nThe following are suggestions only and are not required to participate! \nYou may find it useful to own an annotated study bible. The New Oxford Annotated Bible and the Harper Collins Study Bible are good options. \nActs for Everyone\, Part One: Chapters 1-12 and Acts for Everyone\, Part Two: Chapters 13-28 by N. T. Wright (note there are two parts) \nActs by Willie Jennings \nConversations with Scripture: Acts of the Apostles by C. K. Robertson
URL:https://stjameshydepark.org/event/acts/2023-05-28/
LOCATION:St. James’ Episcopal Church\, 4526 Albany Post Rd.\, Hyde Park\, NY\, 12538\, United States
CATEGORIES:Christian Formation,Easter
ATTACH;FMTTYPE=image/png:https://stjameshydepark.org/wp-content/uploads/2023/05/Bible-Study-Acts-Easter-2023.png
END:VEVENT
END:VCALENDAR