BEGIN:VCALENDAR
VERSION:2.0
PRODID:-//St. James&#039; Episcopal Church - ECPv6.15.20//NONSGML v1.0//EN
CALSCALE:GREGORIAN
METHOD:PUBLISH
X-ORIGINAL-URL:https://stjameshydepark.org
X-WR-CALDESC:Events for St. James&#039; Episcopal Church
REFRESH-INTERVAL;VALUE=DURATION:PT1H
X-Robots-Tag:noindex
X-PUBLISHED-TTL:PT1H
BEGIN:VTIMEZONE
TZID:America/New_York
BEGIN:DAYLIGHT
TZOFFSETFROM:-0500
TZOFFSETTO:-0400
TZNAME:EDT
DTSTART:20240310T070000
END:DAYLIGHT
BEGIN:STANDARD
TZOFFSETFROM:-0400
TZOFFSETTO:-0500
TZNAME:EST
DTSTART:20241103T060000
END:STANDARD
BEGIN:DAYLIGHT
TZOFFSETFROM:-0500
TZOFFSETTO:-0400
TZNAME:EDT
DTSTART:20250309T070000
END:DAYLIGHT
BEGIN:STANDARD
TZOFFSETFROM:-0400
TZOFFSETTO:-0500
TZNAME:EST
DTSTART:20251102T060000
END:STANDARD
BEGIN:DAYLIGHT
TZOFFSETFROM:-0500
TZOFFSETTO:-0400
TZNAME:EDT
DTSTART:20260308T070000
END:DAYLIGHT
BEGIN:STANDARD
TZOFFSETFROM:-0400
TZOFFSETTO:-0500
TZNAME:EST
DTSTART:20261101T060000
END:STANDARD
END:VTIMEZONE
BEGIN:VEVENT
DTSTART;TZID=America/New_York:20250305T110000
DTEND;TZID=America/New_York:20250305T121500
DTSTAMP:20260424T102113
CREATED:20241120T172057Z
LAST-MODIFIED:20250424T151851Z
UID:10006328-1741172400-1741176900@stjameshydepark.org
SUMMARY:Bible Study (Online)
DESCRIPTION:Our weekly Bible study on Zoom usually focuses on the Gospel for the upcoming Sunday and is led by Mtr. Meredith. We practice a contemplative\, prayerful style of Bible study that focuses on how God is speaking to us through our questions\, responses\, curiosities and doubts as we engage Scripture.  \nThe study is followed by a brief\, optional service of noonday prayer. \nJoin in any Wednesday at 11 am. No previous preparation is required. The Zoom link is distributed via our weekly email newsletter (or contact the parish office).
URL:https://stjameshydepark.org/event/bible-study-2025/2025-03-05/
LOCATION:Online
CATEGORIES:Christian Formation
END:VEVENT
BEGIN:VEVENT
DTSTART;TZID=America/New_York:20250311T103000
DTEND;TZID=America/New_York:20250311T113000
DTSTAMP:20260424T102113
CREATED:20250131T164022Z
LAST-MODIFIED:20250222T021843Z
UID:10006304-1741689000-1741692600@stjameshydepark.org
SUMMARY:Lenten Book Study: Julian of Norwich (Wilks Room)
DESCRIPTION:Julian of Norwich\, an anchoress in the 14th century\, was a mystic\, teacher and mentor. After a grave illness in which she had visions of Christ\, Julian penned her experiences—the first recorded works by a woman in English. We will take a look at a new translation of her “Revelations” in Mirabai Starr’s “Showings” (available at abe books\, used; and Amazon\, new). Come and join us as we seek to deepen our relationship with God. We will meet in the Wilks room from 10:30 to 11:30 during the Tuesdays of Lent.\n(Co-hosts\, Megan Bean and Bobbie Wells)
URL:https://stjameshydepark.org/event/lent-book-study-julian/2025-03-11/
LOCATION:St. James’ Episcopal Church\, 4526 Albany Post Rd.\, Hyde Park\, NY\, 12538\, United States
CATEGORIES:Christian Formation,Lent
ATTACH;FMTTYPE=image/png:https://stjameshydepark.org/wp-content/uploads/2025/01/Julian-Book-Study-2025.png
END:VEVENT
BEGIN:VEVENT
DTSTART;TZID=America/New_York:20250312T110000
DTEND;TZID=America/New_York:20250312T121500
DTSTAMP:20260424T102113
CREATED:20241120T172057Z
LAST-MODIFIED:20250424T151851Z
UID:10006329-1741777200-1741781700@stjameshydepark.org
SUMMARY:Bible Study (Online)
DESCRIPTION:Our weekly Bible study on Zoom usually focuses on the Gospel for the upcoming Sunday and is led by Mtr. Meredith. We practice a contemplative\, prayerful style of Bible study that focuses on how God is speaking to us through our questions\, responses\, curiosities and doubts as we engage Scripture.  \nThe study is followed by a brief\, optional service of noonday prayer. \nJoin in any Wednesday at 11 am. No previous preparation is required. The Zoom link is distributed via our weekly email newsletter (or contact the parish office).
URL:https://stjameshydepark.org/event/bible-study-2025/2025-03-12/
LOCATION:Online
CATEGORIES:Christian Formation
END:VEVENT
BEGIN:VEVENT
DTSTART;TZID=America/New_York:20250313T190000
DTEND;TZID=America/New_York:20250313T201500
DTSTAMP:20260424T102113
CREATED:20250131T170124Z
LAST-MODIFIED:20250221T213225Z
UID:10006310-1741892400-1741896900@stjameshydepark.org
SUMMARY:Lenten Study: Exploring Holy Week and Easter (Wilks Room and Parish Hall)
DESCRIPTION:Rowan Williams\, past Archbishop of Canterbury\, has said of Holy Week: It is “a week when we discover in a way we don’t at any other time just who we are and who God is.” \nThis four-week series\, led by Mother Meredith\, will explore the services of Holy Week and the Great Vigil of Easter\, preparing you to more fully take part in this rich experience that expresses the heart of our life and faith. Together we’ll explore Scripture\, our prayer book\, and some sermons\, art\, and poetry inspired by Holy Week. \nThis study meets in the Wilks Room on Thursday evenings at 7 pm\, beginning March 13th. Each evening will conclude with Compline (the Church’s night prayer) at 8 pm. \nMarch 13: Exploring Palm/Passion Sunday \nMarch 20: Exploring Maundy Thursday \nMarch 27: Exploring Good Friday & Holy Saturday \nApril 3: Exploring The Great Vigil of Easter \n  \n  \n 
URL:https://stjameshydepark.org/event/exploring-holy-week/2025-03-13/
LOCATION:St. James’ Episcopal Church\, 4526 Albany Post Rd.\, Hyde Park\, NY\, 12538\, United States
CATEGORIES:Christian Formation,Lent
ATTACH;FMTTYPE=image/png:https://stjameshydepark.org/wp-content/uploads/2025/02/Exploring-Holy-Week-Easter-2025.png
END:VEVENT
BEGIN:VEVENT
DTSTART;TZID=America/New_York:20250318T103000
DTEND;TZID=America/New_York:20250318T113000
DTSTAMP:20260424T102113
CREATED:20250131T164022Z
LAST-MODIFIED:20250222T021843Z
UID:10006305-1742293800-1742297400@stjameshydepark.org
SUMMARY:Lenten Book Study: Julian of Norwich (Wilks Room)
DESCRIPTION:Julian of Norwich\, an anchoress in the 14th century\, was a mystic\, teacher and mentor. After a grave illness in which she had visions of Christ\, Julian penned her experiences—the first recorded works by a woman in English. We will take a look at a new translation of her “Revelations” in Mirabai Starr’s “Showings” (available at abe books\, used; and Amazon\, new). Come and join us as we seek to deepen our relationship with God. We will meet in the Wilks room from 10:30 to 11:30 during the Tuesdays of Lent.\n(Co-hosts\, Megan Bean and Bobbie Wells)
URL:https://stjameshydepark.org/event/lent-book-study-julian/2025-03-18/
LOCATION:St. James’ Episcopal Church\, 4526 Albany Post Rd.\, Hyde Park\, NY\, 12538\, United States
CATEGORIES:Christian Formation,Lent
ATTACH;FMTTYPE=image/png:https://stjameshydepark.org/wp-content/uploads/2025/01/Julian-Book-Study-2025.png
END:VEVENT
BEGIN:VEVENT
DTSTART;TZID=America/New_York:20250318T180000
DTEND;TZID=America/New_York:20250318T183000
DTSTAMP:20260424T102113
CREATED:20250221T213426Z
LAST-MODIFIED:20250222T022927Z
UID:10006397-1742320800-1742322600@stjameshydepark.org
SUMMARY:Centering Prayer (Church)
DESCRIPTION:Centering prayer is a type of meditation with a long history in the Christian tradition\, beginning with the 14th century English monk who wrote The Cloud of Unknowing. But you don’t need to be a monk or a mystic to practice centering prayer and experience its benefits. Lent is the perfect time to enter the quiet of this practice. Beginners welcome. Sessions will last about 30 minutes. Tuesdays in Lent at 6 pm in the church (starting March 18th). \nLed by Tessa Kale\, who has taken many retreats on centering prayer with Cynthia Bourgeault and is a participant in her Wisdom School.
URL:https://stjameshydepark.org/event/centering-prayer-2025/2025-03-18/
LOCATION:St. James’ Episcopal Church\, 4526 Albany Post Rd.\, Hyde Park\, NY\, 12538\, United States
CATEGORIES:Christian Formation,Lent
ATTACH;FMTTYPE=image/png:https://stjameshydepark.org/wp-content/uploads/2025/02/Centering-Prayer-2025.png
END:VEVENT
BEGIN:VEVENT
DTSTART;TZID=America/New_York:20250319T110000
DTEND;TZID=America/New_York:20250319T121500
DTSTAMP:20260424T102113
CREATED:20241120T172057Z
LAST-MODIFIED:20250424T151851Z
UID:10006330-1742382000-1742386500@stjameshydepark.org
SUMMARY:Bible Study (Online)
DESCRIPTION:Our weekly Bible study on Zoom usually focuses on the Gospel for the upcoming Sunday and is led by Mtr. Meredith. We practice a contemplative\, prayerful style of Bible study that focuses on how God is speaking to us through our questions\, responses\, curiosities and doubts as we engage Scripture.  \nThe study is followed by a brief\, optional service of noonday prayer. \nJoin in any Wednesday at 11 am. No previous preparation is required. The Zoom link is distributed via our weekly email newsletter (or contact the parish office).
URL:https://stjameshydepark.org/event/bible-study-2025/2025-03-19/
LOCATION:Online
CATEGORIES:Christian Formation
END:VEVENT
BEGIN:VEVENT
DTSTART;TZID=America/New_York:20250320T190000
DTEND;TZID=America/New_York:20250320T201500
DTSTAMP:20260424T102113
CREATED:20250131T170124Z
LAST-MODIFIED:20250221T213225Z
UID:10006311-1742497200-1742501700@stjameshydepark.org
SUMMARY:Lenten Study: Exploring Holy Week and Easter (Wilks Room and Parish Hall)
DESCRIPTION:Rowan Williams\, past Archbishop of Canterbury\, has said of Holy Week: It is “a week when we discover in a way we don’t at any other time just who we are and who God is.” \nThis four-week series\, led by Mother Meredith\, will explore the services of Holy Week and the Great Vigil of Easter\, preparing you to more fully take part in this rich experience that expresses the heart of our life and faith. Together we’ll explore Scripture\, our prayer book\, and some sermons\, art\, and poetry inspired by Holy Week. \nThis study meets in the Wilks Room on Thursday evenings at 7 pm\, beginning March 13th. Each evening will conclude with Compline (the Church’s night prayer) at 8 pm. \nMarch 13: Exploring Palm/Passion Sunday \nMarch 20: Exploring Maundy Thursday \nMarch 27: Exploring Good Friday & Holy Saturday \nApril 3: Exploring The Great Vigil of Easter \n  \n  \n 
URL:https://stjameshydepark.org/event/exploring-holy-week/2025-03-20/
LOCATION:St. James’ Episcopal Church\, 4526 Albany Post Rd.\, Hyde Park\, NY\, 12538\, United States
CATEGORIES:Christian Formation,Lent
ATTACH;FMTTYPE=image/png:https://stjameshydepark.org/wp-content/uploads/2025/02/Exploring-Holy-Week-Easter-2025.png
END:VEVENT
BEGIN:VEVENT
DTSTART;TZID=America/New_York:20250325T103000
DTEND;TZID=America/New_York:20250325T113000
DTSTAMP:20260424T102113
CREATED:20250131T164022Z
LAST-MODIFIED:20250222T021843Z
UID:10006306-1742898600-1742902200@stjameshydepark.org
SUMMARY:Lenten Book Study: Julian of Norwich (Wilks Room)
DESCRIPTION:Julian of Norwich\, an anchoress in the 14th century\, was a mystic\, teacher and mentor. After a grave illness in which she had visions of Christ\, Julian penned her experiences—the first recorded works by a woman in English. We will take a look at a new translation of her “Revelations” in Mirabai Starr’s “Showings” (available at abe books\, used; and Amazon\, new). Come and join us as we seek to deepen our relationship with God. We will meet in the Wilks room from 10:30 to 11:30 during the Tuesdays of Lent.\n(Co-hosts\, Megan Bean and Bobbie Wells)
URL:https://stjameshydepark.org/event/lent-book-study-julian/2025-03-25/
LOCATION:St. James’ Episcopal Church\, 4526 Albany Post Rd.\, Hyde Park\, NY\, 12538\, United States
CATEGORIES:Christian Formation,Lent
ATTACH;FMTTYPE=image/png:https://stjameshydepark.org/wp-content/uploads/2025/01/Julian-Book-Study-2025.png
END:VEVENT
BEGIN:VEVENT
DTSTART;TZID=America/New_York:20250325T180000
DTEND;TZID=America/New_York:20250325T183000
DTSTAMP:20260424T102113
CREATED:20250221T213426Z
LAST-MODIFIED:20250222T022927Z
UID:10006398-1742925600-1742927400@stjameshydepark.org
SUMMARY:Centering Prayer (Church)
DESCRIPTION:Centering prayer is a type of meditation with a long history in the Christian tradition\, beginning with the 14th century English monk who wrote The Cloud of Unknowing. But you don’t need to be a monk or a mystic to practice centering prayer and experience its benefits. Lent is the perfect time to enter the quiet of this practice. Beginners welcome. Sessions will last about 30 minutes. Tuesdays in Lent at 6 pm in the church (starting March 18th). \nLed by Tessa Kale\, who has taken many retreats on centering prayer with Cynthia Bourgeault and is a participant in her Wisdom School.
URL:https://stjameshydepark.org/event/centering-prayer-2025/2025-03-25/
LOCATION:St. James’ Episcopal Church\, 4526 Albany Post Rd.\, Hyde Park\, NY\, 12538\, United States
CATEGORIES:Christian Formation,Lent
ATTACH;FMTTYPE=image/png:https://stjameshydepark.org/wp-content/uploads/2025/02/Centering-Prayer-2025.png
END:VEVENT
BEGIN:VEVENT
DTSTART;TZID=America/New_York:20250326T110000
DTEND;TZID=America/New_York:20250326T121500
DTSTAMP:20260424T102113
CREATED:20241120T172057Z
LAST-MODIFIED:20250424T151851Z
UID:10006331-1742986800-1742991300@stjameshydepark.org
SUMMARY:Bible Study (Online)
DESCRIPTION:Our weekly Bible study on Zoom usually focuses on the Gospel for the upcoming Sunday and is led by Mtr. Meredith. We practice a contemplative\, prayerful style of Bible study that focuses on how God is speaking to us through our questions\, responses\, curiosities and doubts as we engage Scripture.  \nThe study is followed by a brief\, optional service of noonday prayer. \nJoin in any Wednesday at 11 am. No previous preparation is required. The Zoom link is distributed via our weekly email newsletter (or contact the parish office).
URL:https://stjameshydepark.org/event/bible-study-2025/2025-03-26/
LOCATION:Online
CATEGORIES:Christian Formation
END:VEVENT
BEGIN:VEVENT
DTSTART;TZID=America/New_York:20250327T190000
DTEND;TZID=America/New_York:20250327T201500
DTSTAMP:20260424T102113
CREATED:20250131T170124Z
LAST-MODIFIED:20250221T213225Z
UID:10006312-1743102000-1743106500@stjameshydepark.org
SUMMARY:Lenten Study: Exploring Holy Week and Easter (Wilks Room and Parish Hall)
DESCRIPTION:Rowan Williams\, past Archbishop of Canterbury\, has said of Holy Week: It is “a week when we discover in a way we don’t at any other time just who we are and who God is.” \nThis four-week series\, led by Mother Meredith\, will explore the services of Holy Week and the Great Vigil of Easter\, preparing you to more fully take part in this rich experience that expresses the heart of our life and faith. Together we’ll explore Scripture\, our prayer book\, and some sermons\, art\, and poetry inspired by Holy Week. \nThis study meets in the Wilks Room on Thursday evenings at 7 pm\, beginning March 13th. Each evening will conclude with Compline (the Church’s night prayer) at 8 pm. \nMarch 13: Exploring Palm/Passion Sunday \nMarch 20: Exploring Maundy Thursday \nMarch 27: Exploring Good Friday & Holy Saturday \nApril 3: Exploring The Great Vigil of Easter \n  \n  \n 
URL:https://stjameshydepark.org/event/exploring-holy-week/2025-03-27/
LOCATION:St. James’ Episcopal Church\, 4526 Albany Post Rd.\, Hyde Park\, NY\, 12538\, United States
CATEGORIES:Christian Formation,Lent
ATTACH;FMTTYPE=image/png:https://stjameshydepark.org/wp-content/uploads/2025/02/Exploring-Holy-Week-Easter-2025.png
END:VEVENT
BEGIN:VEVENT
DTSTART;TZID=America/New_York:20250328T173000
DTEND;TZID=America/New_York:20250328T190000
DTSTAMP:20260424T102113
CREATED:20250325T113425Z
LAST-MODIFIED:20250522T131628Z
UID:10004795-1743183000-1743188400@stjameshydepark.org
SUMMARY:Youth Confirmation Class (hosted by St. Paul's\, Pleasant Valley in March)
DESCRIPTION:This monthly series for youth age 11-15 explores the basics of our Christian faith as expressed in The Episcopal Church. Candidates who complete the course will be ready for Confirmation—a rite where we express a mature commitment to Christ\, and receive strength from the Holy Spirit by prayer and the laying on of hands by a bishop. Youth who are already confirmed are welcome to join us and share their faith! \nYouth from four churches are participating: St. James’ in Hyde Park\, St. Paul’s in Pleasant Valley\, St. Margaret’s in Staatsburg\, and St. Paul’s in Poughkeepsie. Instructors are the Rev. Heather K. Sisk (St. Paul’s\, Pleasant Valley) and the Rev. Meredith Kadet Sanderson (St. James’ Hyde Park). We’re using the J2A (Journey to Adulthood) curriculum.\n \nFriday nights 5:30 – 7 pm\nPizza\, conversation\, activities\, and prayer \nWe will be alternating between St. Paul’s\, Pleasant Valley\, St. James\, Hyde Park\, and St. Paul’s\, Poughkeepsie (and we are willing to go to other churches if kids would like to host us at their home church)… \nSchedule for first part of 2025\nDecember 20th (meets in Pleasant Valley\, St. Paul’s Church\, 808 Traver Road)\nJanuary 24th (meets in Hyde Park)\nFebruary 28 (meets in Poughkeepsie\, St. Paul’s Church\, 161 Mansion Street)\nMarch 28th (meets in Pleasant Valley\, St. Paul’s Church\, 808 Traver Road)\n(NO APRIL)\n(NO MAY)\nJune 20th (meets in Hyde Park)
URL:https://stjameshydepark.org/event/j2a-2025-mar-pleasant-valley/
LOCATION:St. James’ Episcopal Church\, 4526 Albany Post Rd.\, Hyde Park\, NY\, 12538\, United States
CATEGORIES:Christian Formation,Kids & Youth
END:VEVENT
END:VCALENDAR