BEGIN:VCALENDAR
VERSION:2.0
PRODID:-//St. James&#039; Episcopal Church - ECPv6.15.20//NONSGML v1.0//EN
CALSCALE:GREGORIAN
METHOD:PUBLISH
X-WR-CALNAME:St. James&#039; Episcopal Church
X-ORIGINAL-URL:https://stjameshydepark.org
X-WR-CALDESC:Events for St. James&#039; Episcopal Church
REFRESH-INTERVAL;VALUE=DURATION:PT1H
X-Robots-Tag:noindex
X-PUBLISHED-TTL:PT1H
BEGIN:VTIMEZONE
TZID:America/New_York
BEGIN:DAYLIGHT
TZOFFSETFROM:-0500
TZOFFSETTO:-0400
TZNAME:EDT
DTSTART:20240310T070000
END:DAYLIGHT
BEGIN:STANDARD
TZOFFSETFROM:-0400
TZOFFSETTO:-0500
TZNAME:EST
DTSTART:20241103T060000
END:STANDARD
BEGIN:DAYLIGHT
TZOFFSETFROM:-0500
TZOFFSETTO:-0400
TZNAME:EDT
DTSTART:20250309T070000
END:DAYLIGHT
BEGIN:STANDARD
TZOFFSETFROM:-0400
TZOFFSETTO:-0500
TZNAME:EST
DTSTART:20251102T060000
END:STANDARD
BEGIN:DAYLIGHT
TZOFFSETFROM:-0500
TZOFFSETTO:-0400
TZNAME:EDT
DTSTART:20260308T070000
END:DAYLIGHT
BEGIN:STANDARD
TZOFFSETFROM:-0400
TZOFFSETTO:-0500
TZNAME:EST
DTSTART:20261101T060000
END:STANDARD
END:VTIMEZONE
BEGIN:VEVENT
DTSTART;TZID=America/New_York:20250202T091500
DTEND;TZID=America/New_York:20250202T094500
DTSTAMP:20260424T101810
CREATED:20241126T151319Z
LAST-MODIFIED:20241126T151325Z
UID:10003717-1738487700-1738489500@stjameshydepark.org
SUMMARY:"Mary Strong" Rosary Prayer Group (Wilks Room)
DESCRIPTION:The “Mary Strong” rosary prayer group meets on the first Sunday of each month. We meet in the Wilks Room in the Parish House at 9:15 between our 8 and 10 am services. All are welcome! \nNever prayed the rosary before? No problem! This group will teach you everything you need to know. \nYes\, Episcopalians can and do pray the rosary! Just as we ask our friends to pray for us\, we can ask the saints—that great cloud of witnesses—to intercede on our behalf. Praying the rosary draws us close to the heart of St. Mary the God-bearer as we meditate on Jesus’ ministry\, crucifixion\, resurrection and ascension.
URL:https://stjameshydepark.org/event/rosary-prayer-group-2025/2025-02-02/
LOCATION:St. James’ Episcopal Church\, 4526 Albany Post Rd.\, Hyde Park\, NY\, 12538\, United States
CATEGORIES:Christian Formation,Worship
END:VEVENT
BEGIN:VEVENT
DTSTART;TZID=America/New_York:20250205T110000
DTEND;TZID=America/New_York:20250205T121500
DTSTAMP:20260424T101810
CREATED:20241120T172057Z
LAST-MODIFIED:20250424T151851Z
UID:10006324-1738753200-1738757700@stjameshydepark.org
SUMMARY:Bible Study (Online)
DESCRIPTION:Our weekly Bible study on Zoom usually focuses on the Gospel for the upcoming Sunday and is led by Mtr. Meredith. We practice a contemplative\, prayerful style of Bible study that focuses on how God is speaking to us through our questions\, responses\, curiosities and doubts as we engage Scripture.  \nThe study is followed by a brief\, optional service of noonday prayer. \nJoin in any Wednesday at 11 am. No previous preparation is required. The Zoom link is distributed via our weekly email newsletter (or contact the parish office).
URL:https://stjameshydepark.org/event/bible-study-2025/2025-02-05/
LOCATION:Online
CATEGORIES:Christian Formation
END:VEVENT
BEGIN:VEVENT
DTSTART;TZID=America/New_York:20250212T110000
DTEND;TZID=America/New_York:20250212T121500
DTSTAMP:20260424T101810
CREATED:20241120T172057Z
LAST-MODIFIED:20250424T151851Z
UID:10006325-1739358000-1739362500@stjameshydepark.org
SUMMARY:Bible Study (Online)
DESCRIPTION:Our weekly Bible study on Zoom usually focuses on the Gospel for the upcoming Sunday and is led by Mtr. Meredith. We practice a contemplative\, prayerful style of Bible study that focuses on how God is speaking to us through our questions\, responses\, curiosities and doubts as we engage Scripture.  \nThe study is followed by a brief\, optional service of noonday prayer. \nJoin in any Wednesday at 11 am. No previous preparation is required. The Zoom link is distributed via our weekly email newsletter (or contact the parish office).
URL:https://stjameshydepark.org/event/bible-study-2025/2025-02-12/
LOCATION:Online
CATEGORIES:Christian Formation
END:VEVENT
BEGIN:VEVENT
DTSTART;TZID=America/New_York:20250219T110000
DTEND;TZID=America/New_York:20250219T121500
DTSTAMP:20260424T101810
CREATED:20241120T172057Z
LAST-MODIFIED:20250424T151851Z
UID:10006326-1739962800-1739967300@stjameshydepark.org
SUMMARY:Bible Study (Online)
DESCRIPTION:Our weekly Bible study on Zoom usually focuses on the Gospel for the upcoming Sunday and is led by Mtr. Meredith. We practice a contemplative\, prayerful style of Bible study that focuses on how God is speaking to us through our questions\, responses\, curiosities and doubts as we engage Scripture.  \nThe study is followed by a brief\, optional service of noonday prayer. \nJoin in any Wednesday at 11 am. No previous preparation is required. The Zoom link is distributed via our weekly email newsletter (or contact the parish office).
URL:https://stjameshydepark.org/event/bible-study-2025/2025-02-19/
LOCATION:Online
CATEGORIES:Christian Formation
END:VEVENT
BEGIN:VEVENT
DTSTART;TZID=America/New_York:20250226T110000
DTEND;TZID=America/New_York:20250226T121500
DTSTAMP:20260424T101810
CREATED:20241120T172057Z
LAST-MODIFIED:20250424T151851Z
UID:10006327-1740567600-1740572100@stjameshydepark.org
SUMMARY:Bible Study (Online)
DESCRIPTION:Our weekly Bible study on Zoom usually focuses on the Gospel for the upcoming Sunday and is led by Mtr. Meredith. We practice a contemplative\, prayerful style of Bible study that focuses on how God is speaking to us through our questions\, responses\, curiosities and doubts as we engage Scripture.  \nThe study is followed by a brief\, optional service of noonday prayer. \nJoin in any Wednesday at 11 am. No previous preparation is required. The Zoom link is distributed via our weekly email newsletter (or contact the parish office).
URL:https://stjameshydepark.org/event/bible-study-2025/2025-02-26/
LOCATION:Online
CATEGORIES:Christian Formation
END:VEVENT
BEGIN:VEVENT
DTSTART;TZID=America/New_York:20250228T173000
DTEND;TZID=America/New_York:20250228T190000
DTSTAMP:20260424T101810
CREATED:20250222T131105Z
LAST-MODIFIED:20250222T131133Z
UID:10004794-1740763800-1740769200@stjameshydepark.org
SUMMARY:Youth Confirmation Class (hosted by St. Paul's\, Poughkeepsie)
DESCRIPTION:This monthly series for youth age 11-15 explores the basics of our Christian faith as expressed in The Episcopal Church. Candidates who complete the course will be ready for Confirmation—a rite where we express a mature commitment to Christ\, and receive strength from the Holy Spirit by prayer and the laying on of hands by a bishop. Youth who are already confirmed are welcome to join us and share their faith! \nYouth from four churches are participating: St. James’ in Hyde Park\, St. Paul’s in Pleasant Valley\, St. Margaret’s in Staatsburg\, and St. Paul’s in Poughkeepsie. Instructors are the Rev. Heather K. Sisk (St. Paul’s\, Pleasant Valley) and the Rev. Meredith Kadet Sanderson (St. James’ Hyde Park). We’re using the J2A (Journey to Adulthood) curriculum.\n \nFriday nights 5:30 – 7 pm\nPizza\, conversation\, activities\, and prayer \nWe will be alternating between St. Paul’s\, Pleasant Valley\, St. James\, Hyde Park\, and St. Paul’s\, Poughkeepsie (and we are willing to go to other churches if kids would like to host us at their home church)… \nSchedule for first part of 2025\nDecember 20th (meets in Pleasant Valley)\nJanuary 24th (meets in Hyde Park)\nFebruary 28 (meets in Poughkeepsie\, St. Paul’s Church\, 161 Mansion Street)\nMarch 28th\n(NO APRIL)\nMay 2\nMay 30
URL:https://stjameshydepark.org/event/j2a-2025-02-28/
LOCATION:St. James’ Episcopal Church\, 4526 Albany Post Rd.\, Hyde Park\, NY\, 12538\, United States
CATEGORIES:Christian Formation,Kids & Youth
END:VEVENT
END:VCALENDAR