BEGIN:VCALENDAR
VERSION:2.0
PRODID:-//St. James&#039; Episcopal Church - ECPv6.15.20//NONSGML v1.0//EN
CALSCALE:GREGORIAN
METHOD:PUBLISH
X-WR-CALNAME:St. James&#039; Episcopal Church
X-ORIGINAL-URL:https://stjameshydepark.org
X-WR-CALDESC:Events for St. James&#039; Episcopal Church
REFRESH-INTERVAL;VALUE=DURATION:PT1H
X-Robots-Tag:noindex
X-PUBLISHED-TTL:PT1H
BEGIN:VTIMEZONE
TZID:America/New_York
BEGIN:DAYLIGHT
TZOFFSETFROM:-0500
TZOFFSETTO:-0400
TZNAME:EDT
DTSTART:20250309T070000
END:DAYLIGHT
BEGIN:STANDARD
TZOFFSETFROM:-0400
TZOFFSETTO:-0500
TZNAME:EST
DTSTART:20251102T060000
END:STANDARD
BEGIN:DAYLIGHT
TZOFFSETFROM:-0500
TZOFFSETTO:-0400
TZNAME:EDT
DTSTART:20260308T070000
END:DAYLIGHT
BEGIN:STANDARD
TZOFFSETFROM:-0400
TZOFFSETTO:-0500
TZNAME:EST
DTSTART:20261101T060000
END:STANDARD
BEGIN:DAYLIGHT
TZOFFSETFROM:-0500
TZOFFSETTO:-0400
TZNAME:EDT
DTSTART:20270314T070000
END:DAYLIGHT
BEGIN:STANDARD
TZOFFSETFROM:-0400
TZOFFSETTO:-0500
TZNAME:EST
DTSTART:20271107T060000
END:STANDARD
END:VTIMEZONE
BEGIN:VEVENT
DTSTART;TZID=America/New_York:20260404T100000
DTEND;TZID=America/New_York:20260404T110000
DTSTAMP:20260424T201029
CREATED:20260402T143853Z
LAST-MODIFIED:20260402T160151Z
UID:10007892-1775296800-1775300400@stjameshydepark.org
SUMMARY:Holy Saturday Service
DESCRIPTION:This solemn service recalls the day when the crucified Christ visited among the dead while his body lay in the tomb of Joseph of Arimathea.
URL:https://stjameshydepark.org/event/holy-saturday-2026/
LOCATION:St. James’ Episcopal Church\, 4526 Albany Post Rd.\, Hyde Park\, NY\, 12538\, United States
CATEGORIES:Holy Week and Easter
END:VEVENT
BEGIN:VEVENT
DTSTART;TZID=America/New_York:20260404T103000
DTEND;TZID=America/New_York:20260404T120000
DTSTAMP:20260424T201029
CREATED:20260312T174535Z
LAST-MODIFIED:20260312T174535Z
UID:10007860-1775298600-1775304000@stjameshydepark.org
SUMMARY:[New Deal] Kids Cabaret (Parish Hall)
DESCRIPTION:
URL:https://stjameshydepark.org/event/new-deal-kids-cabaret-parish-hall/2026-04-04/
LOCATION:St. James’ Episcopal Church\, 4526 Albany Post Rd.\, Hyde Park\, NY\, 12538\, United States
END:VEVENT
BEGIN:VEVENT
DTSTART;TZID=America/New_York:20260404T193000
DTEND;TZID=America/New_York:20260404T213000
DTSTAMP:20260424T201029
CREATED:20260402T111527Z
LAST-MODIFIED:20260402T144434Z
UID:10007890-1775331000-1775338200@stjameshydepark.org
SUMMARY:The Great Vigil of Easter
DESCRIPTION:The Great Vigil of Easter\nSaturday evening\, April 4\, 7:30 pm \nBeginning at sundown\, the Great Vigil of Easter is a wild ride through the stories of God’s saving acts in human history—culminating with the Resurrection and the first Eucharist of Easter.\nBring bells to ring! \nThis service brings together the congregations of St. James’ and our neighbor church\, St. Margaret’s in Staatsburg. St. James’ hosts at 4526 Albany Post Road.
URL:https://stjameshydepark.org/event/easter-vigil-2026/
LOCATION:St. James’ Episcopal Church\, 4526 Albany Post Rd.\, Hyde Park\, NY\, 12538\, United States
END:VEVENT
END:VCALENDAR