BEGIN:VCALENDAR
VERSION:2.0
PRODID:-//St. James&#039; Episcopal Church - ECPv6.15.20//NONSGML v1.0//EN
CALSCALE:GREGORIAN
METHOD:PUBLISH
X-WR-CALNAME:St. James&#039; Episcopal Church
X-ORIGINAL-URL:https://stjameshydepark.org
X-WR-CALDESC:Events for St. James&#039; Episcopal Church
REFRESH-INTERVAL;VALUE=DURATION:PT1H
X-Robots-Tag:noindex
X-PUBLISHED-TTL:PT1H
BEGIN:VTIMEZONE
TZID:America/New_York
BEGIN:DAYLIGHT
TZOFFSETFROM:-0500
TZOFFSETTO:-0400
TZNAME:EDT
DTSTART:20240310T070000
END:DAYLIGHT
BEGIN:STANDARD
TZOFFSETFROM:-0400
TZOFFSETTO:-0500
TZNAME:EST
DTSTART:20241103T060000
END:STANDARD
BEGIN:DAYLIGHT
TZOFFSETFROM:-0500
TZOFFSETTO:-0400
TZNAME:EDT
DTSTART:20250309T070000
END:DAYLIGHT
BEGIN:STANDARD
TZOFFSETFROM:-0400
TZOFFSETTO:-0500
TZNAME:EST
DTSTART:20251102T060000
END:STANDARD
BEGIN:DAYLIGHT
TZOFFSETFROM:-0500
TZOFFSETTO:-0400
TZNAME:EDT
DTSTART:20260308T070000
END:DAYLIGHT
BEGIN:STANDARD
TZOFFSETFROM:-0400
TZOFFSETTO:-0500
TZNAME:EST
DTSTART:20261101T060000
END:STANDARD
END:VTIMEZONE
BEGIN:VEVENT
DTSTART;VALUE=DATE:20251210
DTEND;VALUE=DATE:20251211
DTSTAMP:20260424T000940
CREATED:20251104T151721Z
LAST-MODIFIED:20251104T151721Z
UID:10007111-1765324800-1765411199@stjameshydepark.org
SUMMARY:Fresh Manna Church Evening Prayer and Bible Study (Chapel and Reading Room)
DESCRIPTION:
URL:https://stjameshydepark.org/event/fresh-manna-church-evening-prayer-and-bible-study-chapel-and-reading-room/2025-12-10/
LOCATION:St. James’ Chapel\, 10 East Market Street\, Hyde Park\, NY\, 12567\, United States
END:VEVENT
BEGIN:VEVENT
DTSTART;TZID=America/New_York:20251210T090000
DTEND;TZID=America/New_York:20251210T160000
DTSTAMP:20260424T000940
CREATED:20251209T142457Z
LAST-MODIFIED:20251209T142457Z
UID:10007186-1765357200-1765382400@stjameshydepark.org
SUMMARY:Wilks Room Reserved for Writing
DESCRIPTION:
URL:https://stjameshydepark.org/event/wilks-room-reserved-for-writing/2025-12-10/
LOCATION:St. James’ Episcopal Church\, 4526 Albany Post Rd.\, Hyde Park\, NY\, 12538\, United States
END:VEVENT
BEGIN:VEVENT
DTSTART;TZID=America/New_York:20251210T110000
DTEND;TZID=America/New_York:20251210T121500
DTSTAMP:20260424T000940
CREATED:20241120T172057Z
LAST-MODIFIED:20250424T151851Z
UID:10006368-1765364400-1765368900@stjameshydepark.org
SUMMARY:Bible Study (Online)
DESCRIPTION:Our weekly Bible study on Zoom usually focuses on the Gospel for the upcoming Sunday and is led by Mtr. Meredith. We practice a contemplative\, prayerful style of Bible study that focuses on how God is speaking to us through our questions\, responses\, curiosities and doubts as we engage Scripture.  \nThe study is followed by a brief\, optional service of noonday prayer. \nJoin in any Wednesday at 11 am. No previous preparation is required. The Zoom link is distributed via our weekly email newsletter (or contact the parish office).
URL:https://stjameshydepark.org/event/bible-study-2025/2025-12-10/
LOCATION:Online
CATEGORIES:Christian Formation
END:VEVENT
BEGIN:VEVENT
DTSTART;TZID=America/New_York:20251210T160000
DTEND;TZID=America/New_York:20251210T180000
DTSTAMP:20260424T000940
CREATED:20251126T181618Z
LAST-MODIFIED:20251126T181618Z
UID:10007169-1765382400-1765389600@stjameshydepark.org
SUMMARY:Finance Committee Meeting (Wilks Rm.)
DESCRIPTION:
URL:https://stjameshydepark.org/event/finance-committee-meeting-wilks-rm/
LOCATION:St. James’ Episcopal Church\, 4526 Albany Post Rd.\, Hyde Park\, NY\, 12538\, United States
END:VEVENT
BEGIN:VEVENT
DTSTART;TZID=America/New_York:20251210T180000
DTEND;TZID=America/New_York:20251210T200000
DTSTAMP:20260424T000940
CREATED:20251014T130158Z
LAST-MODIFIED:20251206T124905Z
UID:10007018-1765389600-1765396800@stjameshydepark.org
SUMMARY:Combined Women's and Men's Group Holiday Dinner (Antonella's)
DESCRIPTION:Once again this year\, the Men’s and Women’s Group will be combining their respective monthly dinners. We had a nice gathering last year just before the holidays and thought we would repeat it again this year. \nYou are welcome to come solo\, or you are encouraged to bring a plus one. The combined dinner will follow the same format as our monthly dinners—private backroom\, individual checks\, order what you desire from the menu\, etc.
URL:https://stjameshydepark.org/event/holiday-dinner-2025/
LOCATION:Antonella’s Restaurant\, Hyde Park\, NY\, 4246 Albany Post Rd #1700\, Hyde Park\, NY\, 12538\, United States
END:VEVENT
BEGIN:VEVENT
DTSTART;TZID=America/New_York:20251210T183000
DTEND;TZID=America/New_York:20251210T190000
DTSTAMP:20260424T000940
CREATED:20241219T190934Z
LAST-MODIFIED:20241219T190934Z
UID:10004363-1765391400-1765393200@stjameshydepark.org
SUMMARY:Evening Prayer (Online)
DESCRIPTION:Join us online every Wednesday at 6:30 pm for a brief service of Evening Prayer led by Deacon Gail. Please email the parish office at stjames.hydepark@gmail.com to request the Zoom link.
URL:https://stjameshydepark.org/event/evening-prayer-2025/2025-12-10/
LOCATION:Online
CATEGORIES:Worship
END:VEVENT
END:VCALENDAR