BEGIN:VCALENDAR
VERSION:2.0
PRODID:-//St. James&#039; Episcopal Church - ECPv6.15.20//NONSGML v1.0//EN
CALSCALE:GREGORIAN
METHOD:PUBLISH
X-WR-CALNAME:St. James&#039; Episcopal Church
X-ORIGINAL-URL:https://stjameshydepark.org
X-WR-CALDESC:Events for St. James&#039; Episcopal Church
REFRESH-INTERVAL;VALUE=DURATION:PT1H
X-Robots-Tag:noindex
X-PUBLISHED-TTL:PT1H
BEGIN:VTIMEZONE
TZID:America/New_York
BEGIN:DAYLIGHT
TZOFFSETFROM:-0500
TZOFFSETTO:-0400
TZNAME:EDT
DTSTART:20240310T070000
END:DAYLIGHT
BEGIN:STANDARD
TZOFFSETFROM:-0400
TZOFFSETTO:-0500
TZNAME:EST
DTSTART:20241103T060000
END:STANDARD
BEGIN:DAYLIGHT
TZOFFSETFROM:-0500
TZOFFSETTO:-0400
TZNAME:EDT
DTSTART:20250309T070000
END:DAYLIGHT
BEGIN:STANDARD
TZOFFSETFROM:-0400
TZOFFSETTO:-0500
TZNAME:EST
DTSTART:20251102T060000
END:STANDARD
BEGIN:DAYLIGHT
TZOFFSETFROM:-0500
TZOFFSETTO:-0400
TZNAME:EDT
DTSTART:20260308T070000
END:DAYLIGHT
BEGIN:STANDARD
TZOFFSETFROM:-0400
TZOFFSETTO:-0500
TZNAME:EST
DTSTART:20261101T060000
END:STANDARD
END:VTIMEZONE
BEGIN:VEVENT
DTSTART;TZID=America/New_York:20251114T163000
DTEND;TZID=America/New_York:20251114T200000
DTSTAMP:20260424T014341
CREATED:20251113T143752Z
LAST-MODIFIED:20251113T143752Z
UID:10007154-1763137800-1763150400@stjameshydepark.org
SUMMARY:Outreach Clothing Giveaway Setup (Parish Hall)
DESCRIPTION:
URL:https://stjameshydepark.org/event/outreach-clothing-giveaway-setup-parish-hall/
LOCATION:St. James’ Episcopal Church\, 4526 Albany Post Rd.\, Hyde Park\, NY\, 12538\, United States
END:VEVENT
BEGIN:VEVENT
DTSTART;TZID=America/New_York:20251114T173000
DTEND;TZID=America/New_York:20251114T190000
DTSTAMP:20260424T014341
CREATED:20251108T205713Z
LAST-MODIFIED:20251205T134530Z
UID:10007014-1763141400-1763146800@stjameshydepark.org
SUMMARY:[November Meeting Canceled] Youth Confirmation Class (2025-2026)
DESCRIPTION:~ Youth Confirmation Class ~  \nFall 2025 Dates \n5:30-7 PM \npizza served \n\nSecond Fridays of the Month\nSeptember 12—St. Paul’s\, Pleasant Valley\nOctober 10—St. Paul’s\, Poughkeepsie\nNO NOVEMBER MEETING \nFirst Friday of the Month\nDecember 5—Location TBD \n\nHost location rotates: \nSt. James’ Episcopal Church\n4526 Albany Post Road\, Hyde Park \nSt. Paul’s Episcopal Church\n808 Traver Road\, Pleasant Valley \nSt. Paul’s Episcopal Church\n161 Mansion Street\, Poughkeepsie
URL:https://stjameshydepark.org/event/youth-confirmation-2025-nov-canceled/
LOCATION:NY
CATEGORIES:Christian Formation,Kids & Youth
END:VEVENT
END:VCALENDAR