BEGIN:VCALENDAR
VERSION:2.0
PRODID:-//St. James&#039; Episcopal Church - ECPv6.15.20//NONSGML v1.0//EN
CALSCALE:GREGORIAN
METHOD:PUBLISH
X-WR-CALNAME:St. James&#039; Episcopal Church
X-ORIGINAL-URL:https://stjameshydepark.org
X-WR-CALDESC:Events for St. James&#039; Episcopal Church
REFRESH-INTERVAL;VALUE=DURATION:PT1H
X-Robots-Tag:noindex
X-PUBLISHED-TTL:PT1H
BEGIN:VTIMEZONE
TZID:America/New_York
BEGIN:DAYLIGHT
TZOFFSETFROM:-0500
TZOFFSETTO:-0400
TZNAME:EDT
DTSTART:20240310T070000
END:DAYLIGHT
BEGIN:STANDARD
TZOFFSETFROM:-0400
TZOFFSETTO:-0500
TZNAME:EST
DTSTART:20241103T060000
END:STANDARD
BEGIN:DAYLIGHT
TZOFFSETFROM:-0500
TZOFFSETTO:-0400
TZNAME:EDT
DTSTART:20250309T070000
END:DAYLIGHT
BEGIN:STANDARD
TZOFFSETFROM:-0400
TZOFFSETTO:-0500
TZNAME:EST
DTSTART:20251102T060000
END:STANDARD
BEGIN:DAYLIGHT
TZOFFSETFROM:-0500
TZOFFSETTO:-0400
TZNAME:EDT
DTSTART:20260308T070000
END:DAYLIGHT
BEGIN:STANDARD
TZOFFSETFROM:-0400
TZOFFSETTO:-0500
TZNAME:EST
DTSTART:20261101T060000
END:STANDARD
END:VTIMEZONE
BEGIN:VEVENT
DTSTART;TZID=America/New_York:20251010T173000
DTEND;TZID=America/New_York:20251010T190000
DTSTAMP:20260424T031100
CREATED:20251009T211609Z
LAST-MODIFIED:20251009T211707Z
UID:10007013-1760117400-1760122800@stjameshydepark.org
SUMMARY:Youth Confirmation Class (2025-2026)
DESCRIPTION:~ Youth Confirmation Class ~  \nFall 2025 Dates \n5:30-7 PM \npizza served \n\nSecond Fridays of the Month\nSeptember 12—St. Paul’s\, Pleasant Valley\nOctober 10—St. Paul’s\, Poughkeepsie\nNovember 14—Location TBD \nFirst Friday of the Month\nDecember 5—Location TBD \n\nHost location rotates: \nSt. James’ Episcopal Church\n4526 Albany Post Road\, Hyde Park \nSt. Paul’s Episcopal Church\n808 Traver Road\, Pleasant Valley \nSt. Paul’s Episcopal Church\n161 Mansion Street\, Poughkeepsie
URL:https://stjameshydepark.org/event/youth-confirmation-2025/2025-10-10/
LOCATION:NY
CATEGORIES:Christian Formation,Kids & Youth
END:VEVENT
BEGIN:VEVENT
DTSTART;TZID=America/New_York:20251010T183000
DTEND;TZID=America/New_York:20251010T210000
DTSTAMP:20260424T031100
CREATED:20250725T140518Z
LAST-MODIFIED:20250725T141130Z
UID:10006902-1760121000-1760130000@stjameshydepark.org
SUMMARY:Graveyard Tours
DESCRIPTION:
URL:https://stjameshydepark.org/event/graveyard-tours-dress-and-tech-rehearsal/2025-10-10/
LOCATION:St. James’ Episcopal Church\, 4526 Albany Post Rd.\, Hyde Park\, NY\, 12538\, United States
END:VEVENT
BEGIN:VEVENT
DTSTART;TZID=America/New_York:20251010T183000
DTEND;TZID=America/New_York:20251010T213000
DTSTAMP:20260424T031100
CREATED:20250919T171017Z
LAST-MODIFIED:20250919T172436Z
UID:10006997-1760121000-1760131800@stjameshydepark.org
SUMMARY:[New Deal] Rehearsals (Parish Hall)
DESCRIPTION:
URL:https://stjameshydepark.org/event/new-deal-rehearsals-parish-hall/2025-10-10/
LOCATION:St. James’ Episcopal Church\, 4526 Albany Post Rd.\, Hyde Park\, NY\, 12538\, United States
END:VEVENT
END:VCALENDAR