BEGIN:VCALENDAR
VERSION:2.0
PRODID:-//St. James&#039; Episcopal Church - ECPv6.15.20//NONSGML v1.0//EN
CALSCALE:GREGORIAN
METHOD:PUBLISH
X-WR-CALNAME:St. James&#039; Episcopal Church
X-ORIGINAL-URL:https://stjameshydepark.org
X-WR-CALDESC:Events for St. James&#039; Episcopal Church
REFRESH-INTERVAL;VALUE=DURATION:PT1H
X-Robots-Tag:noindex
X-PUBLISHED-TTL:PT1H
BEGIN:VTIMEZONE
TZID:America/New_York
BEGIN:DAYLIGHT
TZOFFSETFROM:-0500
TZOFFSETTO:-0400
TZNAME:EDT
DTSTART:20240310T070000
END:DAYLIGHT
BEGIN:STANDARD
TZOFFSETFROM:-0400
TZOFFSETTO:-0500
TZNAME:EST
DTSTART:20241103T060000
END:STANDARD
BEGIN:DAYLIGHT
TZOFFSETFROM:-0500
TZOFFSETTO:-0400
TZNAME:EDT
DTSTART:20250309T070000
END:DAYLIGHT
BEGIN:STANDARD
TZOFFSETFROM:-0400
TZOFFSETTO:-0500
TZNAME:EST
DTSTART:20251102T060000
END:STANDARD
BEGIN:DAYLIGHT
TZOFFSETFROM:-0500
TZOFFSETTO:-0400
TZNAME:EDT
DTSTART:20260308T070000
END:DAYLIGHT
BEGIN:STANDARD
TZOFFSETFROM:-0400
TZOFFSETTO:-0500
TZNAME:EST
DTSTART:20261101T060000
END:STANDARD
END:VTIMEZONE
BEGIN:VEVENT
DTSTART;TZID=America/New_York:20250928T080000
DTEND;TZID=America/New_York:20250928T090000
DTSTAMP:20260424T014344
CREATED:20241219T191649Z
LAST-MODIFIED:20250325T172434Z
UID:10004569-1759046400-1759050000@stjameshydepark.org
SUMMARY:Sunday Worship—Holy Eucharist\, Rite I
DESCRIPTION:Join us Sundays at 8:00 a.m. for a celebration of Holy Eucharist (Communion). This is a quiet service\, usually without music\, though we often have a soloist with acoustic guitar playing before and after the service. The service uses Rite 1 from the 1979 Book of Common Prayer\, with traditional language.
URL:https://stjameshydepark.org/event/sunday-8am-2025/2025-09-28/
LOCATION:St. James’ Episcopal Church\, 4526 Albany Post Rd.\, Hyde Park\, NY\, 12538\, United States
CATEGORIES:Worship
END:VEVENT
BEGIN:VEVENT
DTSTART;TZID=America/New_York:20250928T100000
DTEND;TZID=America/New_York:20250928T113000
DTSTAMP:20260424T014344
CREATED:20241219T191432Z
LAST-MODIFIED:20251209T135212Z
UID:10004517-1759053600-1759059000@stjameshydepark.org
SUMMARY:Sunday Worship—Holy Eucharist\, Rite II with Sunday School and Coffee Hour
DESCRIPTION:Join us Sundays at 10:00 a.m. for a celebration of Holy Eucharist (Communion). This service has music (usually organ and choir\, along with special guest musicians) and uses a variety of prayers and language from traditional to inclusive and expansive\, drawing from Rite II of the 1979 Book of Common Prayer\, Enriching Our Worship\, and other sources. \nCoffee hour in the Parish House usually follows this service. \nSunday School for kindergarten and up meets today on the second floor of the Parish House at 10:00 a.m. Students will rejoin the congregation just before Holy Communion. New to St. James’ Church? Your kids are welcome to Sunday School any Sunday. More details about St. James’ Sunday School at: https://stjameshydepark.org/for-children/
URL:https://stjameshydepark.org/event/sunday-10am-2025/2025-09-28/
LOCATION:St. James’ Episcopal Church\, 4526 Albany Post Rd.\, Hyde Park\, NY\, 12538\, United States
CATEGORIES:Worship
END:VEVENT
BEGIN:VEVENT
DTSTART;TZID=America/New_York:20250928T113000
DTEND;TZID=America/New_York:20250928T123000
DTSTAMP:20260424T014344
CREATED:20250821T134151Z
LAST-MODIFIED:20250913T111059Z
UID:10006983-1759059000-1759062600@stjameshydepark.org
SUMMARY:Episcopal 101 (Parish Hall and Wilks Room)
DESCRIPTION:Discover (or rediscover) our faith life together in The Episcopal Church! \nThe course will meet in the Parish House (sometimes the Wilks Room\, sometimes the Hall) every Wednesday from 6-8 pm\,  through October 22. You can attend the whole series or pop in on a given week. Light supper is provided. If you’re popping in\, please RSVP to Mtr. Meredith and note any dietary restrictions. You can also get a copy of that week’s reading from her in advance. \nTopics include: \n\nThe Bible—What is the Bible? Why do we read it? How do we know what it means? \nBeliefs—What do Episcopalians believe? How do we talk about God? Why do we say the Nicene Creed every Sunday? Join us for this week’s Episcopal 101 as we explore these questions together. Light dinner provided—please RSVP to Mtr. Meredith.\nBaptism & Eucharist—What is a sacrament? What are the promises we make about our lives as Christians? How do the sacraments change our lives? \nHistory—Where does the Episcopal Church come from\, and why does that matter today? \nPrayer—What is prayer? How do we pray and how can we grow our lives of prayer together? \n\nRemember this is open to everyone\, from newcomers to longtime members. Those who complete the course will have the option to be Confirmed or Received when Bishop Matt visits St. James’ on Sunday\, October 26th.
URL:https://stjameshydepark.org/event/episcopal-101-fall-2025/2025-09-28/
LOCATION:St. James’ Episcopal Church\, 4526 Albany Post Rd.\, Hyde Park\, NY\, 12538\, United States
CATEGORIES:Christian Formation
ATTACH;FMTTYPE=image/png:https://stjameshydepark.org/wp-content/uploads/2025/08/Episcopal-101.png
END:VEVENT
BEGIN:VEVENT
DTSTART;TZID=America/New_York:20250928T183000
DTEND;TZID=America/New_York:20250928T210000
DTSTAMP:20260424T014344
CREATED:20250107T185818Z
LAST-MODIFIED:20250107T190058Z
UID:10005983-1759084200-1759093200@stjameshydepark.org
SUMMARY:Hyde Park Group AA (Parish Hall\, Rm. 201)
DESCRIPTION:
URL:https://stjameshydepark.org/event/hyde-park-group-aa-parish-hall-rm-201/2025-09-28/
LOCATION:St. James’ Episcopal Church\, 4526 Albany Post Rd.\, Hyde Park\, NY\, 12538\, United States
END:VEVENT
END:VCALENDAR