BEGIN:VCALENDAR
VERSION:2.0
PRODID:-//St. James&#039; Episcopal Church - ECPv6.15.20//NONSGML v1.0//EN
CALSCALE:GREGORIAN
METHOD:PUBLISH
X-WR-CALNAME:St. James&#039; Episcopal Church
X-ORIGINAL-URL:https://stjameshydepark.org
X-WR-CALDESC:Events for St. James&#039; Episcopal Church
REFRESH-INTERVAL;VALUE=DURATION:PT1H
X-Robots-Tag:noindex
X-PUBLISHED-TTL:PT1H
BEGIN:VTIMEZONE
TZID:America/New_York
BEGIN:DAYLIGHT
TZOFFSETFROM:-0500
TZOFFSETTO:-0400
TZNAME:EDT
DTSTART:20240310T070000
END:DAYLIGHT
BEGIN:STANDARD
TZOFFSETFROM:-0400
TZOFFSETTO:-0500
TZNAME:EST
DTSTART:20241103T060000
END:STANDARD
BEGIN:DAYLIGHT
TZOFFSETFROM:-0500
TZOFFSETTO:-0400
TZNAME:EDT
DTSTART:20250309T070000
END:DAYLIGHT
BEGIN:STANDARD
TZOFFSETFROM:-0400
TZOFFSETTO:-0500
TZNAME:EST
DTSTART:20251102T060000
END:STANDARD
BEGIN:DAYLIGHT
TZOFFSETFROM:-0500
TZOFFSETTO:-0400
TZNAME:EDT
DTSTART:20260308T070000
END:DAYLIGHT
BEGIN:STANDARD
TZOFFSETFROM:-0400
TZOFFSETTO:-0500
TZNAME:EST
DTSTART:20261101T060000
END:STANDARD
END:VTIMEZONE
BEGIN:VEVENT
DTSTART;TZID=America/New_York:20250311T080000
DTEND;TZID=America/New_York:20250311T090000
DTSTAMP:20260424T130138
CREATED:20250225T183839Z
LAST-MODIFIED:20250225T183839Z
UID:10006424-1741680000-1741683600@stjameshydepark.org
SUMMARY:New York State Boiler Inspections
DESCRIPTION:
URL:https://stjameshydepark.org/event/new-york-state-boiler-inspections/
LOCATION:St. James’ Episcopal Church\, 4526 Albany Post Rd.\, Hyde Park\, NY\, 12538\, United States
END:VEVENT
BEGIN:VEVENT
DTSTART;TZID=America/New_York:20250311T103000
DTEND;TZID=America/New_York:20250311T113000
DTSTAMP:20260424T130138
CREATED:20250131T164022Z
LAST-MODIFIED:20250222T021843Z
UID:10006304-1741689000-1741692600@stjameshydepark.org
SUMMARY:Lenten Book Study: Julian of Norwich (Wilks Room)
DESCRIPTION:Julian of Norwich\, an anchoress in the 14th century\, was a mystic\, teacher and mentor. After a grave illness in which she had visions of Christ\, Julian penned her experiences—the first recorded works by a woman in English. We will take a look at a new translation of her “Revelations” in Mirabai Starr’s “Showings” (available at abe books\, used; and Amazon\, new). Come and join us as we seek to deepen our relationship with God. We will meet in the Wilks room from 10:30 to 11:30 during the Tuesdays of Lent.\n(Co-hosts\, Megan Bean and Bobbie Wells)
URL:https://stjameshydepark.org/event/lent-book-study-julian/2025-03-11/
LOCATION:St. James’ Episcopal Church\, 4526 Albany Post Rd.\, Hyde Park\, NY\, 12538\, United States
CATEGORIES:Christian Formation,Lent
ATTACH;FMTTYPE=image/png:https://stjameshydepark.org/wp-content/uploads/2025/01/Julian-Book-Study-2025.png
END:VEVENT
BEGIN:VEVENT
DTSTART;TZID=America/New_York:20250311T113000
DTEND;TZID=America/New_York:20250311T120000
DTSTAMP:20260424T130138
CREATED:20241008T150243Z
LAST-MODIFIED:20241008T150243Z
UID:10004179-1741692600-1741694400@stjameshydepark.org
SUMMARY:ARC Lunch
DESCRIPTION:
URL:https://stjameshydepark.org/event/arc-lunch/2025-03-11/
LOCATION:St. James’ Episcopal Church\, 4526 Albany Post Rd.\, Hyde Park\, NY\, 12538\, United States
END:VEVENT
BEGIN:VEVENT
DTSTART;TZID=America/New_York:20250311T183000
DTEND;TZID=America/New_York:20250311T193000
DTSTAMP:20260424T130138
CREATED:20250214T184625Z
LAST-MODIFIED:20250214T184625Z
UID:10006375-1741717800-1741721400@stjameshydepark.org
SUMMARY:Nursery School Committee Meeting (Wilks Room)
DESCRIPTION:
URL:https://stjameshydepark.org/event/nursery-school-committee-meeting-wilks-room-3/
LOCATION:HP Farmers Market
END:VEVENT
BEGIN:VEVENT
DTSTART;TZID=America/New_York:20250311T190000
DTEND;TZID=America/New_York:20250311T203000
DTSTAMP:20260424T130138
CREATED:20250107T190949Z
LAST-MODIFIED:20250107T190949Z
UID:10006007-1741719600-1741725000@stjameshydepark.org
SUMMARY:Boy Scout Troop 80 (Parish Hall)
DESCRIPTION:
URL:https://stjameshydepark.org/event/boy-scout-troop-80-parish-hall/2025-03-11/
LOCATION:St. James’ Episcopal Church\, 4526 Albany Post Rd.\, Hyde Park\, NY\, 12538\, United States
END:VEVENT
END:VCALENDAR