BEGIN:VCALENDAR
VERSION:2.0
PRODID:-//St. James&#039; Episcopal Church - ECPv6.15.20//NONSGML v1.0//EN
CALSCALE:GREGORIAN
METHOD:PUBLISH
X-ORIGINAL-URL:https://stjameshydepark.org
X-WR-CALDESC:Events for St. James&#039; Episcopal Church
REFRESH-INTERVAL;VALUE=DURATION:PT1H
X-Robots-Tag:noindex
X-PUBLISHED-TTL:PT1H
BEGIN:VTIMEZONE
TZID:America/New_York
BEGIN:DAYLIGHT
TZOFFSETFROM:-0500
TZOFFSETTO:-0400
TZNAME:EDT
DTSTART:20230312T070000
END:DAYLIGHT
BEGIN:STANDARD
TZOFFSETFROM:-0400
TZOFFSETTO:-0500
TZNAME:EST
DTSTART:20231105T060000
END:STANDARD
BEGIN:DAYLIGHT
TZOFFSETFROM:-0500
TZOFFSETTO:-0400
TZNAME:EDT
DTSTART:20240310T070000
END:DAYLIGHT
BEGIN:STANDARD
TZOFFSETFROM:-0400
TZOFFSETTO:-0500
TZNAME:EST
DTSTART:20241103T060000
END:STANDARD
BEGIN:DAYLIGHT
TZOFFSETFROM:-0500
TZOFFSETTO:-0400
TZNAME:EDT
DTSTART:20250309T070000
END:DAYLIGHT
BEGIN:STANDARD
TZOFFSETFROM:-0400
TZOFFSETTO:-0500
TZNAME:EST
DTSTART:20251102T060000
END:STANDARD
END:VTIMEZONE
BEGIN:VEVENT
DTSTART;VALUE=DATE:20241104
DTEND;VALUE=DATE:20241105
DTSTAMP:20260424T182908
CREATED:20240112T172541Z
LAST-MODIFIED:20240112T172541Z
UID:10002993-1730678400-1730764799@stjameshydepark.org
SUMMARY:Parish Office Closed
DESCRIPTION:
URL:https://stjameshydepark.org/event/parish-office-closed-4/2024-11-04/
LOCATION:St. James’ Episcopal Church\, 4526 Albany Post Rd.\, Hyde Park\, NY\, 12538\, United States
CATEGORIES:General
END:VEVENT
BEGIN:VEVENT
DTSTART;TZID=America/New_York:20241104T140000
DTEND;TZID=America/New_York:20241104T160000
DTSTAMP:20260424T182908
CREATED:20240924T134420Z
LAST-MODIFIED:20241009T191425Z
UID:10004190-1730728800-1730736000@stjameshydepark.org
SUMMARY:Knit+Craft+Chat (Wilks Room)
DESCRIPTION:A community of crafters and conversationalists meets twice a week—Sundays from 5-7 pm and Mondays from 2-4 pm (drop-in)—at St. James’ Episcopal Church in the Wilks Room of our Parish House. We are a friendly group: knitters\, embroiderers\, crocheters\, conversationalists and miscellaneous other activities. All are welcome; no previous skill is required.
URL:https://stjameshydepark.org/event/knit-craft-chat/2024-11-04/
LOCATION:St. James’ Episcopal Church\, 4526 Albany Post Rd.\, Hyde Park\, NY\, 12538\, United States
END:VEVENT
BEGIN:VEVENT
DTSTART;TZID=America/New_York:20241104T173000
DTEND;TZID=America/New_York:20241104T184500
DTSTAMP:20260424T182908
CREATED:20241015T120007Z
LAST-MODIFIED:20241025T180316Z
UID:10004202-1730741400-1730745900@stjameshydepark.org
SUMMARY:Election Eve Dinner (Parish Hall)
DESCRIPTION:Drop in for a quick bite and conversation on the eve of Election Day. We’ll have pizza and sub sandwiches between 5:30 pm and 6:45 pm. \n 
URL:https://stjameshydepark.org/event/election-eve-dinner-parish-hall/
LOCATION:St. James’ Episcopal Church\, 4526 Albany Post Rd.\, Hyde Park\, NY\, 12538\, United States
END:VEVENT
BEGIN:VEVENT
DTSTART;TZID=America/New_York:20241104T190000
DTEND;TZID=America/New_York:20241104T200000
DTSTAMP:20260424T182908
CREATED:20241010T192419Z
LAST-MODIFIED:20241030T004203Z
UID:10004200-1730746800-1730750400@stjameshydepark.org
SUMMARY:Election Eve Prayer Service for Peace & Unity
DESCRIPTION:St. James’ will host a quiet prayer service for peace and unity on the evening before Election Day—Monday\, November 4\, 2024 at 7 pm. All are welcome. This offering is coordinated by the Episcopal churches of Dutchess County. \nSt. James’ Church will also be open for prayer and reflection from 6 am to 9 pm on Election Day. \nO God\, you have bound us together in a common life. Help us\, in the midst of our struggles for justice and truth\, to meet one another without hatred or bitterness\, and to work together with mutual forbearance and respect; through Jesus Christ our Lord. Amen. (Book of Common Prayer\, adapted)
URL:https://stjameshydepark.org/event/election-eve-prayer/
LOCATION:St. James’ Episcopal Church\, 4526 Albany Post Rd.\, Hyde Park\, NY\, 12538\, United States
CATEGORIES:Worship
ATTACH;FMTTYPE=image/png:https://stjameshydepark.org/wp-content/uploads/2024/10/Election-Eve-Prayer-Service.png
END:VEVENT
END:VCALENDAR