BEGIN:VCALENDAR
VERSION:2.0
PRODID:-//St. James&#039; Episcopal Church - ECPv6.15.20//NONSGML v1.0//EN
CALSCALE:GREGORIAN
METHOD:PUBLISH
X-WR-CALNAME:St. James&#039; Episcopal Church
X-ORIGINAL-URL:https://stjameshydepark.org
X-WR-CALDESC:Events for St. James&#039; Episcopal Church
REFRESH-INTERVAL;VALUE=DURATION:PT1H
X-Robots-Tag:noindex
X-PUBLISHED-TTL:PT1H
BEGIN:VTIMEZONE
TZID:America/New_York
BEGIN:DAYLIGHT
TZOFFSETFROM:-0500
TZOFFSETTO:-0400
TZNAME:EDT
DTSTART:20230312T070000
END:DAYLIGHT
BEGIN:STANDARD
TZOFFSETFROM:-0400
TZOFFSETTO:-0500
TZNAME:EST
DTSTART:20231105T060000
END:STANDARD
BEGIN:DAYLIGHT
TZOFFSETFROM:-0500
TZOFFSETTO:-0400
TZNAME:EDT
DTSTART:20240310T070000
END:DAYLIGHT
BEGIN:STANDARD
TZOFFSETFROM:-0400
TZOFFSETTO:-0500
TZNAME:EST
DTSTART:20241103T060000
END:STANDARD
BEGIN:DAYLIGHT
TZOFFSETFROM:-0500
TZOFFSETTO:-0400
TZNAME:EDT
DTSTART:20250309T070000
END:DAYLIGHT
BEGIN:STANDARD
TZOFFSETFROM:-0400
TZOFFSETTO:-0500
TZNAME:EST
DTSTART:20251102T060000
END:STANDARD
END:VTIMEZONE
BEGIN:VEVENT
DTSTART;VALUE=DATE:20240509
DTEND;VALUE=DATE:20240510
DTSTAMP:20260425T091509
CREATED:20240423T180502Z
LAST-MODIFIED:20240423T181042Z
UID:10003760-1715212800-1715299199@stjameshydepark.org
SUMMARY:Parish Office Closed
DESCRIPTION:The Office will be closed due to the Office Manager’s vacation.  Email and phone messages will be checked periodically.
URL:https://stjameshydepark.org/event/parish-office-closed-5/2024-05-09/
LOCATION:St. James’ Episcopal Church\, 4526 Albany Post Rd.\, Hyde Park\, NY\, 12538\, United States
END:VEVENT
BEGIN:VEVENT
DTSTART;TZID=America/New_York:20240509T110000
DTEND;TZID=America/New_York:20240509T120000
DTSTAMP:20260425T091509
CREATED:20240508T021008Z
LAST-MODIFIED:20240508T021034Z
UID:10003774-1715252400-1715256000@stjameshydepark.org
SUMMARY:Bible Study
DESCRIPTION:Our weekly Bible study on Zoom usually focuses on the Gospel for the upcoming Sunday and is led by Mtr. Meredith. We practice a contemplative\, prayerful style of Bible study that focuses on how God is speaking to us through our questions\, responses\, curiosities and doubts as we engage Scripture.  \nThe study is followed by a brief\, optional service of noonday prayer. \nUsually on Wednesdays at 11 am. This week only\, it will be on Thursday (May 9th) at 11 am.  \nNo previous preparation is required. The Zoom link is distributed via our weekly email newsletter (or contact the parish office). \n 
URL:https://stjameshydepark.org/event/bible-study-2024-05-09/
LOCATION:Online
CATEGORIES:Christian Formation
ATTACH;FMTTYPE=image/png:https://stjameshydepark.org/wp-content/uploads/2024/05/Bible-Study.png
END:VEVENT
END:VCALENDAR