BEGIN:VCALENDAR
VERSION:2.0
PRODID:-//St. James&#039; Episcopal Church - ECPv6.15.20//NONSGML v1.0//EN
CALSCALE:GREGORIAN
METHOD:PUBLISH
X-ORIGINAL-URL:https://stjameshydepark.org
X-WR-CALDESC:Events for St. James&#039; Episcopal Church
REFRESH-INTERVAL;VALUE=DURATION:PT1H
X-Robots-Tag:noindex
X-PUBLISHED-TTL:PT1H
BEGIN:VTIMEZONE
TZID:America/New_York
BEGIN:DAYLIGHT
TZOFFSETFROM:-0500
TZOFFSETTO:-0400
TZNAME:EDT
DTSTART:20230312T070000
END:DAYLIGHT
BEGIN:STANDARD
TZOFFSETFROM:-0400
TZOFFSETTO:-0500
TZNAME:EST
DTSTART:20231105T060000
END:STANDARD
BEGIN:DAYLIGHT
TZOFFSETFROM:-0500
TZOFFSETTO:-0400
TZNAME:EDT
DTSTART:20240310T070000
END:DAYLIGHT
BEGIN:STANDARD
TZOFFSETFROM:-0400
TZOFFSETTO:-0500
TZNAME:EST
DTSTART:20241103T060000
END:STANDARD
BEGIN:DAYLIGHT
TZOFFSETFROM:-0500
TZOFFSETTO:-0400
TZNAME:EDT
DTSTART:20250309T070000
END:DAYLIGHT
BEGIN:STANDARD
TZOFFSETFROM:-0400
TZOFFSETTO:-0500
TZNAME:EST
DTSTART:20251102T060000
END:STANDARD
END:VTIMEZONE
BEGIN:VEVENT
DTSTART;VALUE=DATE:20240415
DTEND;VALUE=DATE:20240416
DTSTAMP:20260425T095536
CREATED:20240112T172541Z
LAST-MODIFIED:20240112T172541Z
UID:10002964-1713139200-1713225599@stjameshydepark.org
SUMMARY:Parish Office Closed
DESCRIPTION:
URL:https://stjameshydepark.org/event/parish-office-closed-4/2024-04-15/
LOCATION:St. James’ Episcopal Church\, 4526 Albany Post Rd.\, Hyde Park\, NY\, 12538\, United States
CATEGORIES:General
END:VEVENT
BEGIN:VEVENT
DTSTART;TZID=America/New_York:20240415T090000
DTEND;TZID=America/New_York:20240415T150000
DTSTAMP:20260425T095536
CREATED:20240315T172619Z
LAST-MODIFIED:20240416T124722Z
UID:10003602-1713171600-1713193200@stjameshydepark.org
SUMMARY:Painting (Wilks Room)
DESCRIPTION:
URL:https://stjameshydepark.org/event/painting-wilks-room/2024-04-15/
LOCATION:St. James’ Episcopal Church\, 4526 Albany Post Rd.\, Hyde Park\, NY\, 12538\, United States
END:VEVENT
BEGIN:VEVENT
DTSTART;TZID=America/New_York:20240415T100000
DTEND;TZID=America/New_York:20240415T110000
DTSTAMP:20260425T095536
CREATED:20240411T160612Z
LAST-MODIFIED:20240411T161013Z
UID:10003744-1713175200-1713178800@stjameshydepark.org
SUMMARY:Schroeder Funeral (Church)
DESCRIPTION:
URL:https://stjameshydepark.org/event/funeral-schroeder/
LOCATION:St. James’ Episcopal Church\, 4526 Albany Post Rd.\, Hyde Park\, NY\, 12538\, United States
END:VEVENT
BEGIN:VEVENT
DTSTART;TZID=America/New_York:20240415T103000
DTEND;TZID=America/New_York:20240415T120000
DTSTAMP:20260425T095536
CREATED:20240208T172616Z
LAST-MODIFIED:20240515T185656Z
UID:10003639-1713177000-1713182400@stjameshydepark.org
SUMMARY:Co-Working (Wilks Room or Parish Hall)
DESCRIPTION:
URL:https://stjameshydepark.org/event/co-working-wilks-room/2024-04-15/
LOCATION:St. James’ Episcopal Church\, 4526 Albany Post Rd.\, Hyde Park\, NY\, 12538\, United States
END:VEVENT
BEGIN:VEVENT
DTSTART;TZID=America/New_York:20240415T140000
DTEND;TZID=America/New_York:20240415T160000
DTSTAMP:20260425T095536
CREATED:20240415T114824Z
LAST-MODIFIED:20240415T114834Z
UID:10002911-1713189600-1713196800@stjameshydepark.org
SUMMARY:Knitters and Crafters Group (Parish Hall)
DESCRIPTION:A New Group! A community of crafters begins on Mondays starting February 5\, from 2- 4 pm (drop-in). \nAll are welcome: knitters\, crocheters\, embroiderers\, crocheters\, conversationalists and miscellaneous other activities. No particular talent required. Meet in the Wilks Room at St. James Parish Hall.
URL:https://stjameshydepark.org/event/knitters-crafters-2/
LOCATION:St. James’ Episcopal Church\, 4526 Albany Post Rd.\, Hyde Park\, NY\, 12538\, United States
CATEGORIES:Fun
END:VEVENT
END:VCALENDAR