BEGIN:VCALENDAR
VERSION:2.0
PRODID:-//St. James&#039; Episcopal Church - ECPv6.15.20//NONSGML v1.0//EN
CALSCALE:GREGORIAN
METHOD:PUBLISH
X-ORIGINAL-URL:https://stjameshydepark.org
X-WR-CALDESC:Events for St. James&#039; Episcopal Church
REFRESH-INTERVAL;VALUE=DURATION:PT1H
X-Robots-Tag:noindex
X-PUBLISHED-TTL:PT1H
BEGIN:VTIMEZONE
TZID:America/New_York
BEGIN:DAYLIGHT
TZOFFSETFROM:-0500
TZOFFSETTO:-0400
TZNAME:EDT
DTSTART:20230312T070000
END:DAYLIGHT
BEGIN:STANDARD
TZOFFSETFROM:-0400
TZOFFSETTO:-0500
TZNAME:EST
DTSTART:20231105T060000
END:STANDARD
BEGIN:DAYLIGHT
TZOFFSETFROM:-0500
TZOFFSETTO:-0400
TZNAME:EDT
DTSTART:20240310T070000
END:DAYLIGHT
BEGIN:STANDARD
TZOFFSETFROM:-0400
TZOFFSETTO:-0500
TZNAME:EST
DTSTART:20241103T060000
END:STANDARD
BEGIN:DAYLIGHT
TZOFFSETFROM:-0500
TZOFFSETTO:-0400
TZNAME:EDT
DTSTART:20250309T070000
END:DAYLIGHT
BEGIN:STANDARD
TZOFFSETFROM:-0400
TZOFFSETTO:-0500
TZNAME:EST
DTSTART:20251102T060000
END:STANDARD
END:VTIMEZONE
BEGIN:VEVENT
DTSTART;TZID=America/New_York:20240328T180000
DTEND;TZID=America/New_York:20240328T200000
DTSTAMP:20260425T104337
CREATED:20240321T190437Z
LAST-MODIFIED:20240321T191045Z
UID:10003626-1711648800-1711656000@stjameshydepark.org
SUMMARY:Maundy Thursday Service
DESCRIPTION:Maundy Thursday (March 28th)\n6 pm Solemn service commemorating Jesus’ institution of the Eucharist. \n\nStarts in the Parish Hall with a simple supper\, scripture readings\, homily\, and optional footwashing\nProcession to the Church for celebration of Holy Communion and\nStripping of the Altar\nThe Watch continues overnight in the Church\n\nThis service brings together the congregations of St. James’ and our neighbor church\, St. Margaret’s in Staatsburg. St. James’ hosts at 4526 Albany Post Road.
URL:https://stjameshydepark.org/event/maundy-thursday-2024/
LOCATION:St. James’ Episcopal Church\, 4526 Albany Post Rd.\, Hyde Park\, NY\, 12538\, United States
CATEGORIES:Holy Week and Easter,Worship
END:VEVENT
END:VCALENDAR