BEGIN:VCALENDAR
VERSION:2.0
PRODID:-//St. James&#039; Episcopal Church - ECPv6.15.20//NONSGML v1.0//EN
CALSCALE:GREGORIAN
METHOD:PUBLISH
X-ORIGINAL-URL:https://stjameshydepark.org
X-WR-CALDESC:Events for St. James&#039; Episcopal Church
REFRESH-INTERVAL;VALUE=DURATION:PT1H
X-Robots-Tag:noindex
X-PUBLISHED-TTL:PT1H
BEGIN:VTIMEZONE
TZID:America/New_York
BEGIN:DAYLIGHT
TZOFFSETFROM:-0500
TZOFFSETTO:-0400
TZNAME:EDT
DTSTART:20230312T070000
END:DAYLIGHT
BEGIN:STANDARD
TZOFFSETFROM:-0400
TZOFFSETTO:-0500
TZNAME:EST
DTSTART:20231105T060000
END:STANDARD
BEGIN:DAYLIGHT
TZOFFSETFROM:-0500
TZOFFSETTO:-0400
TZNAME:EDT
DTSTART:20240310T070000
END:DAYLIGHT
BEGIN:STANDARD
TZOFFSETFROM:-0400
TZOFFSETTO:-0500
TZNAME:EST
DTSTART:20241103T060000
END:STANDARD
BEGIN:DAYLIGHT
TZOFFSETFROM:-0500
TZOFFSETTO:-0400
TZNAME:EDT
DTSTART:20250309T070000
END:DAYLIGHT
BEGIN:STANDARD
TZOFFSETFROM:-0400
TZOFFSETTO:-0500
TZNAME:EST
DTSTART:20251102T060000
END:STANDARD
END:VTIMEZONE
BEGIN:VEVENT
DTSTART;TZID=America/New_York:20240319T180000
DTEND;TZID=America/New_York:20240319T183000
DTSTAMP:20260425T122919
CREATED:20240207T184536Z
LAST-MODIFIED:20240207T184536Z
UID:10003462-1710871200-1710873000@stjameshydepark.org
SUMMARY:Centering Prayer (Church)
DESCRIPTION:Centering prayer is a type of meditation with a long history in the Christian tradition\, beginning with the 14th century English monk who wrote The Cloud of Unknowing. But you don’t need to be a monk or a mystic to practice centering prayer and experience its benefits. Lent is the perfect time to enter the quiet of this practice. Beginners welcome. Sessions will last about 30 minutes. Tuesdays at 6 pm in the church (starting 2/20). \nLed by Tessa Kale\, who has taken many retreats on centering prayer with Cynthia Bourgeault and is a participant in her Wisdom School.
URL:https://stjameshydepark.org/event/centering-prayer/2024-03-19/
LOCATION:St. James’ Episcopal Church\, 4526 Albany Post Rd.\, Hyde Park\, NY\, 12538\, United States
CATEGORIES:Christian Formation,Lent
ATTACH;FMTTYPE=image/png:https://stjameshydepark.org/wp-content/uploads/2024/02/Centering-Prayer.png
END:VEVENT
BEGIN:VEVENT
DTSTART;TZID=America/New_York:20240319T180000
DTEND;TZID=America/New_York:20240319T200000
DTSTAMP:20260425T122919
CREATED:20240216T174259Z
LAST-MODIFIED:20240317T170047Z
UID:10003607-1710871200-1710878400@stjameshydepark.org
SUMMARY:[New Deal] "Chicago" Rehearsal (Classrooms)
DESCRIPTION:
URL:https://stjameshydepark.org/event/chicago-classrooms/2024-03-19/
LOCATION:St. James’ Episcopal Church\, 4526 Albany Post Rd.\, Hyde Park\, NY\, 12538\, United States
CATEGORIES:New Deal
END:VEVENT
BEGIN:VEVENT
DTSTART;TZID=America/New_York:20240319T190000
DTEND;TZID=America/New_York:20240319T200000
DTSTAMP:20260425T122919
CREATED:20240112T173633Z
LAST-MODIFIED:20240216T165320Z
UID:10003023-1710874800-1710878400@stjameshydepark.org
SUMMARY:Boy Scouts Troop 80 (Parish Hall)
DESCRIPTION:
URL:https://stjameshydepark.org/event/boy-scouts-troop-80-parish-hall-rm-203-2-2/2024-03-19/
LOCATION:St. James’ Episcopal Church\, 4526 Albany Post Rd.\, Hyde Park\, NY\, 12538\, United States
CATEGORIES:General
END:VEVENT
BEGIN:VEVENT
DTSTART;TZID=America/New_York:20240319T190000
DTEND;TZID=America/New_York:20240319T200000
DTSTAMP:20260425T122919
CREATED:20240315T143824Z
LAST-MODIFIED:20240315T143825Z
UID:10003382-1710874800-1710878400@stjameshydepark.org
SUMMARY:Hyde Park Historical Society Presents: Ralph Osterhoudt shares stories of his life (Chapel)
DESCRIPTION:Tuesday\, March 19th at 7 pm\, join the Hyde Park Historical Society in our historic Chapel for a special presentation from Hyde Park resident Ralph Osterhoudt. \nLearn a bit about \n\nRalph’s childhood in a big family on a small farm on South Cross Road\nWorking on the Hughes Farm (where the FDR High School is now)\nAttending Staatsburg School (now owned by the Taconic Park Commission)\nRiding his bicycle to sit at the WW II airplane observation post (on the hill not too far from the Hilltop Deli)\nWW II combat experiences\nAttending Electrician School at Biaritz\, France after the war
URL:https://stjameshydepark.org/event/hphs-osterhoudt/
LOCATION:St. James’ Chapel\, 10 East Market Street\, Hyde Park\, NY\, 12567\, United States
CATEGORIES:Fun,Outreach
END:VEVENT
END:VCALENDAR